BEGIN:VCALENDAR
VERSION:2.0
PRODID:-//Tavistock ON CA - ECPv6.15.18//NONSGML v1.0//EN
CALSCALE:GREGORIAN
METHOD:PUBLISH
X-ORIGINAL-URL:https://tavistockon.ca
X-WR-CALDESC:Events for Tavistock ON CA
REFRESH-INTERVAL;VALUE=DURATION:PT1H
X-Robots-Tag:noindex
X-PUBLISHED-TTL:PT1H
BEGIN:VTIMEZONE
TZID:America/Toronto
BEGIN:DAYLIGHT
TZOFFSETFROM:-0500
TZOFFSETTO:-0400
TZNAME:EDT
DTSTART:20290311T070000
END:DAYLIGHT
BEGIN:STANDARD
TZOFFSETFROM:-0400
TZOFFSETTO:-0500
TZNAME:EST
DTSTART:20291104T060000
END:STANDARD
BEGIN:DAYLIGHT
TZOFFSETFROM:-0500
TZOFFSETTO:-0400
TZNAME:EDT
DTSTART:20300310T070000
END:DAYLIGHT
BEGIN:STANDARD
TZOFFSETFROM:-0400
TZOFFSETTO:-0500
TZNAME:EST
DTSTART:20301103T060000
END:STANDARD
BEGIN:DAYLIGHT
TZOFFSETFROM:-0500
TZOFFSETTO:-0400
TZNAME:EDT
DTSTART:20310309T070000
END:DAYLIGHT
BEGIN:STANDARD
TZOFFSETFROM:-0400
TZOFFSETTO:-0500
TZNAME:EST
DTSTART:20311102T060000
END:STANDARD
END:VTIMEZONE
BEGIN:VEVENT
DTSTART;TZID=America/Toronto:20300216T130000
DTEND;TZID=America/Toronto:20300216T160000
DTSTAMP:20260419T102356
CREATED:20241021T133737Z
LAST-MODIFIED:20250310T145206Z
UID:10002061-1897477200-1897488000@tavistockon.ca
SUMMARY:Tavistock & District Historical Society Museum Opening
DESCRIPTION:
URL:https://tavistockon.ca/events/tavistock-district-historical-society-museum-opening/2030-02-16/
LOCATION:Tavistock & District Historical Society Museum\, 37 Maria Street\, Tavistock\, Ontario\, N0B 2R0\, Canada
CATEGORIES:Community Events
END:VEVENT
END:VCALENDAR