BEGIN:VCALENDAR
VERSION:2.0
PRODID:-//Tavistock ON CA - ECPv6.15.18//NONSGML v1.0//EN
CALSCALE:GREGORIAN
METHOD:PUBLISH
X-WR-CALNAME:Tavistock ON CA
X-ORIGINAL-URL:https://tavistockon.ca
X-WR-CALDESC:Events for Tavistock ON CA
REFRESH-INTERVAL;VALUE=DURATION:PT1H
X-Robots-Tag:noindex
X-PUBLISHED-TTL:PT1H
BEGIN:VTIMEZONE
TZID:America/Toronto
BEGIN:DAYLIGHT
TZOFFSETFROM:-0500
TZOFFSETTO:-0400
TZNAME:EDT
DTSTART:20260308T070000
END:DAYLIGHT
BEGIN:STANDARD
TZOFFSETFROM:-0400
TZOFFSETTO:-0500
TZNAME:EST
DTSTART:20261101T060000
END:STANDARD
BEGIN:DAYLIGHT
TZOFFSETFROM:-0500
TZOFFSETTO:-0400
TZNAME:EDT
DTSTART:20270314T070000
END:DAYLIGHT
BEGIN:STANDARD
TZOFFSETFROM:-0400
TZOFFSETTO:-0500
TZNAME:EST
DTSTART:20271107T060000
END:STANDARD
BEGIN:DAYLIGHT
TZOFFSETFROM:-0500
TZOFFSETTO:-0400
TZNAME:EDT
DTSTART:20280312T070000
END:DAYLIGHT
BEGIN:STANDARD
TZOFFSETFROM:-0400
TZOFFSETTO:-0500
TZNAME:EST
DTSTART:20281105T060000
END:STANDARD
END:VTIMEZONE
BEGIN:VTIMEZONE
TZID:UTC
BEGIN:STANDARD
TZOFFSETFROM:+0000
TZOFFSETTO:+0000
TZNAME:UTC
DTSTART:20260101T000000
END:STANDARD
END:VTIMEZONE
BEGIN:VEVENT
DTSTART;TZID=America/Toronto:20270118T130000
DTEND;TZID=America/Toronto:20270118T160000
DTSTAMP:20260419T124620
CREATED:20251016T154500Z
LAST-MODIFIED:20251016T154530Z
UID:10002211-1800277200-1800288000@tavistockon.ca
SUMMARY:Seniors Cards - Mondays
DESCRIPTION:Euchre\, Crib (bring board)\, etc. Just drop in to play. Bring a friend. Contact Bob Routly 519-301-2118.
URL:https://tavistockon.ca/events/seniors-cards/2027-01-18/
LOCATION:Tavistock Memorial Hall\, 3 Adam Street\, Tavistock\, Ontario\, N0B 2R0\, Canada
CATEGORIES:Community Events
END:VEVENT
BEGIN:VEVENT
DTSTART;TZID=UTC:20270120T083000
DTEND;TZID=UTC:20270120T120000
DTSTAMP:20260419T124620
CREATED:20260413T164744Z
LAST-MODIFIED:20260413T165108Z
UID:10002651-1800433800-1800446400@tavistockon.ca
SUMMARY:Indoor Walking - Wednesdays
DESCRIPTION:For more information\, contact Larry Brown at 519-240-6715
URL:https://tavistockon.ca/events/indoor-walking-wednesdays/2027-01-20/
LOCATION:Tavistock Memorial Hall\, 3 Adam Street\, Tavistock\, Ontario\, N0B 2R0\, Canada
CATEGORIES:Community Events
END:VEVENT
BEGIN:VEVENT
DTSTART;TZID=America/Toronto:20270120T123000
DTEND;TZID=America/Toronto:20270120T160000
DTSTAMP:20260419T124620
CREATED:20260413T170214Z
LAST-MODIFIED:20260413T170214Z
UID:10002776-1800448200-1800460800@tavistockon.ca
SUMMARY:Shuffleboard - Wednesdays
DESCRIPTION:Contact Don Junker 519-535-7052 (October to April)
URL:https://tavistockon.ca/events/shuffleboard-wednesdays-3/2027-01-20/
LOCATION:Tavistock Arena\, 1 Adam Street\, Tavistock\, Ontario\, N0B 2R0\, Canada
CATEGORIES:Community Events
END:VEVENT
BEGIN:VEVENT
DTSTART;TZID=America/Toronto:20270121T123000
DTEND;TZID=America/Toronto:20270128T160000
DTSTAMP:20260419T124620
CREATED:20260413T165952Z
LAST-MODIFIED:20260413T170356Z
UID:10002803-1800534600-1801152000@tavistockon.ca
SUMMARY:Shuffleboard on Thursdays
DESCRIPTION:Contact Don Junker 519-535-7052 (October to April)
URL:https://tavistockon.ca/events/shuffleboard-on-thursdays/2027-01-21/
LOCATION:Tavistock Arena\, 1 Adam Street\, Tavistock\, Ontario\, N0B 2R0\, Canada
CATEGORIES:Community Events
END:VEVENT
BEGIN:VEVENT
DTSTART;TZID=UTC:20270122T083000
DTEND;TZID=UTC:20270122T233000
DTSTAMP:20260419T124620
CREATED:20240624T223207Z
LAST-MODIFIED:20240624T223207Z
UID:10000284-1800606600-1800660600@tavistockon.ca
SUMMARY:EarlyON Program
DESCRIPTION:Location: OUTDOOR PROGRAM: Queens Park\, Tavistock \nWho: Parents\, grandparents\, caregivers and children aged 0-6 years \nWhat to bring: Anything you may require to meet the needs of your child (diaper bag\, etc.). \nPlease Note: Parents are responsible for their children at all times while participating in our programs.  Please refrain from being on your phones while in program in order to attend to and engage with your child. \nProgram Description: Come play with us! The EarlyON Team will be traveling to your community and we hope you will join us in the park for songs\, rhymes\, stories\, and games!  Parents\, caregivers and grandparents with children aged 0-6 years (and their older siblings\, of course) are welcome to join us for this free drop-in program!  It is facilitated by qualified EarlyON Facilitators who are happy to answer questions about early learning and child development\, parenting topics\, and can provide additional information about other community programs and services. This is also an ideal opportunity for parents and caregivers to connect with others for social and community support.    \n\nProgram Cancellation: In the case that a program needs to be cancelled\, notices will be posted to Facebook and Instagram by 8:30 am on the day of the program.  Be sure to follow @oxfordearlyon for updates!
URL:https://tavistockon.ca/events/earlyon-program/2027-01-22/
LOCATION:Tavistock Memorial Hall\, 3 Adam Street\, Tavistock\, Ontario\, N0B 2R0\, Canada
END:VEVENT
BEGIN:VEVENT
DTSTART;TZID=America/Toronto:20270125T083000
DTEND;TZID=America/Toronto:20270125T120000
DTSTAMP:20260419T124620
CREATED:20260413T164938Z
LAST-MODIFIED:20260413T165025Z
UID:10002678-1800865800-1800878400@tavistockon.ca
SUMMARY:Indoor Walking - Mondays
DESCRIPTION:Monday & Wednesday morning 8.30-12. Contact: Larry Brown  519-240-6715 ( October to March)
URL:https://tavistockon.ca/events/indoor-walking-mondays/2027-01-25/
LOCATION:Tavistock Memorial Hall\, 3 Adam Street\, Tavistock\, Ontario\, N0B 2R0\, Canada
CATEGORIES:Community Events
END:VEVENT
BEGIN:VEVENT
DTSTART;TZID=America/Toronto:20270125T130000
DTEND;TZID=America/Toronto:20270125T160000
DTSTAMP:20260419T124620
CREATED:20251016T154500Z
LAST-MODIFIED:20251016T154530Z
UID:10002212-1800882000-1800892800@tavistockon.ca
SUMMARY:Seniors Cards - Mondays
DESCRIPTION:Euchre\, Crib (bring board)\, etc. Just drop in to play. Bring a friend. Contact Bob Routly 519-301-2118.
URL:https://tavistockon.ca/events/seniors-cards/2027-01-25/
LOCATION:Tavistock Memorial Hall\, 3 Adam Street\, Tavistock\, Ontario\, N0B 2R0\, Canada
CATEGORIES:Community Events
END:VEVENT
BEGIN:VEVENT
DTSTART;TZID=UTC:20270127T083000
DTEND;TZID=UTC:20270127T120000
DTSTAMP:20260419T124620
CREATED:20260413T164744Z
LAST-MODIFIED:20260413T165108Z
UID:10002652-1801038600-1801051200@tavistockon.ca
SUMMARY:Indoor Walking - Wednesdays
DESCRIPTION:For more information\, contact Larry Brown at 519-240-6715
URL:https://tavistockon.ca/events/indoor-walking-wednesdays/2027-01-27/
LOCATION:Tavistock Memorial Hall\, 3 Adam Street\, Tavistock\, Ontario\, N0B 2R0\, Canada
CATEGORIES:Community Events
END:VEVENT
BEGIN:VEVENT
DTSTART;TZID=America/Toronto:20270127T123000
DTEND;TZID=America/Toronto:20270127T160000
DTSTAMP:20260419T124620
CREATED:20260413T170214Z
LAST-MODIFIED:20260413T170214Z
UID:10002777-1801053000-1801065600@tavistockon.ca
SUMMARY:Shuffleboard - Wednesdays
DESCRIPTION:Contact Don Junker 519-535-7052 (October to April)
URL:https://tavistockon.ca/events/shuffleboard-wednesdays-3/2027-01-27/
LOCATION:Tavistock Arena\, 1 Adam Street\, Tavistock\, Ontario\, N0B 2R0\, Canada
CATEGORIES:Community Events
END:VEVENT
BEGIN:VEVENT
DTSTART;TZID=America/Toronto:20270128T123000
DTEND;TZID=America/Toronto:20270204T160000
DTSTAMP:20260419T124620
CREATED:20260413T165952Z
LAST-MODIFIED:20260413T170356Z
UID:10002804-1801139400-1801756800@tavistockon.ca
SUMMARY:Shuffleboard on Thursdays
DESCRIPTION:Contact Don Junker 519-535-7052 (October to April)
URL:https://tavistockon.ca/events/shuffleboard-on-thursdays/2027-01-28/
LOCATION:Tavistock Arena\, 1 Adam Street\, Tavistock\, Ontario\, N0B 2R0\, Canada
CATEGORIES:Community Events
END:VEVENT
BEGIN:VEVENT
DTSTART;TZID=UTC:20270129T083000
DTEND;TZID=UTC:20270129T233000
DTSTAMP:20260419T124620
CREATED:20240624T223207Z
LAST-MODIFIED:20240624T223207Z
UID:10000285-1801211400-1801265400@tavistockon.ca
SUMMARY:EarlyON Program
DESCRIPTION:Location: OUTDOOR PROGRAM: Queens Park\, Tavistock \nWho: Parents\, grandparents\, caregivers and children aged 0-6 years \nWhat to bring: Anything you may require to meet the needs of your child (diaper bag\, etc.). \nPlease Note: Parents are responsible for their children at all times while participating in our programs.  Please refrain from being on your phones while in program in order to attend to and engage with your child. \nProgram Description: Come play with us! The EarlyON Team will be traveling to your community and we hope you will join us in the park for songs\, rhymes\, stories\, and games!  Parents\, caregivers and grandparents with children aged 0-6 years (and their older siblings\, of course) are welcome to join us for this free drop-in program!  It is facilitated by qualified EarlyON Facilitators who are happy to answer questions about early learning and child development\, parenting topics\, and can provide additional information about other community programs and services. This is also an ideal opportunity for parents and caregivers to connect with others for social and community support.    \n\nProgram Cancellation: In the case that a program needs to be cancelled\, notices will be posted to Facebook and Instagram by 8:30 am on the day of the program.  Be sure to follow @oxfordearlyon for updates!
URL:https://tavistockon.ca/events/earlyon-program/2027-01-29/
LOCATION:Tavistock Memorial Hall\, 3 Adam Street\, Tavistock\, Ontario\, N0B 2R0\, Canada
END:VEVENT
BEGIN:VEVENT
DTSTART;TZID=America/Toronto:20270201T083000
DTEND;TZID=America/Toronto:20270201T120000
DTSTAMP:20260419T124620
CREATED:20260413T164938Z
LAST-MODIFIED:20260413T165025Z
UID:10002679-1801470600-1801483200@tavistockon.ca
SUMMARY:Indoor Walking - Mondays
DESCRIPTION:Monday & Wednesday morning 8.30-12. Contact: Larry Brown  519-240-6715 ( October to March)
URL:https://tavistockon.ca/events/indoor-walking-mondays/2027-02-01/
LOCATION:Tavistock Memorial Hall\, 3 Adam Street\, Tavistock\, Ontario\, N0B 2R0\, Canada
CATEGORIES:Community Events
END:VEVENT
BEGIN:VEVENT
DTSTART;TZID=America/Toronto:20270201T130000
DTEND;TZID=America/Toronto:20270201T160000
DTSTAMP:20260419T124620
CREATED:20251016T154500Z
LAST-MODIFIED:20251016T154530Z
UID:10002213-1801486800-1801497600@tavistockon.ca
SUMMARY:Seniors Cards - Mondays
DESCRIPTION:Euchre\, Crib (bring board)\, etc. Just drop in to play. Bring a friend. Contact Bob Routly 519-301-2118.
URL:https://tavistockon.ca/events/seniors-cards/2027-02-01/
LOCATION:Tavistock Memorial Hall\, 3 Adam Street\, Tavistock\, Ontario\, N0B 2R0\, Canada
CATEGORIES:Community Events
END:VEVENT
BEGIN:VEVENT
DTSTART;TZID=UTC:20270203T083000
DTEND;TZID=UTC:20270203T120000
DTSTAMP:20260419T124620
CREATED:20260413T164744Z
LAST-MODIFIED:20260413T165108Z
UID:10002653-1801643400-1801656000@tavistockon.ca
SUMMARY:Indoor Walking - Wednesdays
DESCRIPTION:For more information\, contact Larry Brown at 519-240-6715
URL:https://tavistockon.ca/events/indoor-walking-wednesdays/2027-02-03/
LOCATION:Tavistock Memorial Hall\, 3 Adam Street\, Tavistock\, Ontario\, N0B 2R0\, Canada
CATEGORIES:Community Events
END:VEVENT
BEGIN:VEVENT
DTSTART;TZID=America/Toronto:20270203T123000
DTEND;TZID=America/Toronto:20270203T160000
DTSTAMP:20260419T124620
CREATED:20260413T170214Z
LAST-MODIFIED:20260413T170214Z
UID:10002778-1801657800-1801670400@tavistockon.ca
SUMMARY:Shuffleboard - Wednesdays
DESCRIPTION:Contact Don Junker 519-535-7052 (October to April)
URL:https://tavistockon.ca/events/shuffleboard-wednesdays-3/2027-02-03/
LOCATION:Tavistock Arena\, 1 Adam Street\, Tavistock\, Ontario\, N0B 2R0\, Canada
CATEGORIES:Community Events
END:VEVENT
BEGIN:VEVENT
DTSTART;TZID=America/Toronto:20270204T123000
DTEND;TZID=America/Toronto:20270211T160000
DTSTAMP:20260419T124620
CREATED:20260413T165952Z
LAST-MODIFIED:20260413T170356Z
UID:10002805-1801744200-1802361600@tavistockon.ca
SUMMARY:Shuffleboard on Thursdays
DESCRIPTION:Contact Don Junker 519-535-7052 (October to April)
URL:https://tavistockon.ca/events/shuffleboard-on-thursdays/2027-02-04/
LOCATION:Tavistock Arena\, 1 Adam Street\, Tavistock\, Ontario\, N0B 2R0\, Canada
CATEGORIES:Community Events
END:VEVENT
BEGIN:VEVENT
DTSTART;TZID=UTC:20270205T083000
DTEND;TZID=UTC:20270205T233000
DTSTAMP:20260419T124620
CREATED:20240624T223207Z
LAST-MODIFIED:20240624T223207Z
UID:10000286-1801816200-1801870200@tavistockon.ca
SUMMARY:EarlyON Program
DESCRIPTION:Location: OUTDOOR PROGRAM: Queens Park\, Tavistock \nWho: Parents\, grandparents\, caregivers and children aged 0-6 years \nWhat to bring: Anything you may require to meet the needs of your child (diaper bag\, etc.). \nPlease Note: Parents are responsible for their children at all times while participating in our programs.  Please refrain from being on your phones while in program in order to attend to and engage with your child. \nProgram Description: Come play with us! The EarlyON Team will be traveling to your community and we hope you will join us in the park for songs\, rhymes\, stories\, and games!  Parents\, caregivers and grandparents with children aged 0-6 years (and their older siblings\, of course) are welcome to join us for this free drop-in program!  It is facilitated by qualified EarlyON Facilitators who are happy to answer questions about early learning and child development\, parenting topics\, and can provide additional information about other community programs and services. This is also an ideal opportunity for parents and caregivers to connect with others for social and community support.    \n\nProgram Cancellation: In the case that a program needs to be cancelled\, notices will be posted to Facebook and Instagram by 8:30 am on the day of the program.  Be sure to follow @oxfordearlyon for updates!
URL:https://tavistockon.ca/events/earlyon-program/2027-02-05/
LOCATION:Tavistock Memorial Hall\, 3 Adam Street\, Tavistock\, Ontario\, N0B 2R0\, Canada
END:VEVENT
BEGIN:VEVENT
DTSTART;TZID=America/Toronto:20270208T083000
DTEND;TZID=America/Toronto:20270208T120000
DTSTAMP:20260419T124620
CREATED:20260413T164938Z
LAST-MODIFIED:20260413T165025Z
UID:10002680-1802075400-1802088000@tavistockon.ca
SUMMARY:Indoor Walking - Mondays
DESCRIPTION:Monday & Wednesday morning 8.30-12. Contact: Larry Brown  519-240-6715 ( October to March)
URL:https://tavistockon.ca/events/indoor-walking-mondays/2027-02-08/
LOCATION:Tavistock Memorial Hall\, 3 Adam Street\, Tavistock\, Ontario\, N0B 2R0\, Canada
CATEGORIES:Community Events
END:VEVENT
BEGIN:VEVENT
DTSTART;TZID=America/Toronto:20270208T130000
DTEND;TZID=America/Toronto:20270208T160000
DTSTAMP:20260419T124620
CREATED:20251016T154500Z
LAST-MODIFIED:20251016T154530Z
UID:10002214-1802091600-1802102400@tavistockon.ca
SUMMARY:Seniors Cards - Mondays
DESCRIPTION:Euchre\, Crib (bring board)\, etc. Just drop in to play. Bring a friend. Contact Bob Routly 519-301-2118.
URL:https://tavistockon.ca/events/seniors-cards/2027-02-08/
LOCATION:Tavistock Memorial Hall\, 3 Adam Street\, Tavistock\, Ontario\, N0B 2R0\, Canada
CATEGORIES:Community Events
END:VEVENT
BEGIN:VEVENT
DTSTART;TZID=UTC:20270210T083000
DTEND;TZID=UTC:20270210T120000
DTSTAMP:20260419T124620
CREATED:20260413T164744Z
LAST-MODIFIED:20260413T165108Z
UID:10002654-1802248200-1802260800@tavistockon.ca
SUMMARY:Indoor Walking - Wednesdays
DESCRIPTION:For more information\, contact Larry Brown at 519-240-6715
URL:https://tavistockon.ca/events/indoor-walking-wednesdays/2027-02-10/
LOCATION:Tavistock Memorial Hall\, 3 Adam Street\, Tavistock\, Ontario\, N0B 2R0\, Canada
CATEGORIES:Community Events
END:VEVENT
BEGIN:VEVENT
DTSTART;TZID=America/Toronto:20270210T123000
DTEND;TZID=America/Toronto:20270210T160000
DTSTAMP:20260419T124620
CREATED:20260413T170214Z
LAST-MODIFIED:20260413T170214Z
UID:10002779-1802262600-1802275200@tavistockon.ca
SUMMARY:Shuffleboard - Wednesdays
DESCRIPTION:Contact Don Junker 519-535-7052 (October to April)
URL:https://tavistockon.ca/events/shuffleboard-wednesdays-3/2027-02-10/
LOCATION:Tavistock Arena\, 1 Adam Street\, Tavistock\, Ontario\, N0B 2R0\, Canada
CATEGORIES:Community Events
END:VEVENT
BEGIN:VEVENT
DTSTART;TZID=America/Toronto:20270211T123000
DTEND;TZID=America/Toronto:20270218T160000
DTSTAMP:20260419T124620
CREATED:20260413T165952Z
LAST-MODIFIED:20260413T170356Z
UID:10002806-1802349000-1802966400@tavistockon.ca
SUMMARY:Shuffleboard on Thursdays
DESCRIPTION:Contact Don Junker 519-535-7052 (October to April)
URL:https://tavistockon.ca/events/shuffleboard-on-thursdays/2027-02-11/
LOCATION:Tavistock Arena\, 1 Adam Street\, Tavistock\, Ontario\, N0B 2R0\, Canada
CATEGORIES:Community Events
END:VEVENT
BEGIN:VEVENT
DTSTART;TZID=UTC:20270212T083000
DTEND;TZID=UTC:20270212T233000
DTSTAMP:20260419T124620
CREATED:20240624T223207Z
LAST-MODIFIED:20240624T223207Z
UID:10000287-1802421000-1802475000@tavistockon.ca
SUMMARY:EarlyON Program
DESCRIPTION:Location: OUTDOOR PROGRAM: Queens Park\, Tavistock \nWho: Parents\, grandparents\, caregivers and children aged 0-6 years \nWhat to bring: Anything you may require to meet the needs of your child (diaper bag\, etc.). \nPlease Note: Parents are responsible for their children at all times while participating in our programs.  Please refrain from being on your phones while in program in order to attend to and engage with your child. \nProgram Description: Come play with us! The EarlyON Team will be traveling to your community and we hope you will join us in the park for songs\, rhymes\, stories\, and games!  Parents\, caregivers and grandparents with children aged 0-6 years (and their older siblings\, of course) are welcome to join us for this free drop-in program!  It is facilitated by qualified EarlyON Facilitators who are happy to answer questions about early learning and child development\, parenting topics\, and can provide additional information about other community programs and services. This is also an ideal opportunity for parents and caregivers to connect with others for social and community support.    \n\nProgram Cancellation: In the case that a program needs to be cancelled\, notices will be posted to Facebook and Instagram by 8:30 am on the day of the program.  Be sure to follow @oxfordearlyon for updates!
URL:https://tavistockon.ca/events/earlyon-program/2027-02-12/
LOCATION:Tavistock Memorial Hall\, 3 Adam Street\, Tavistock\, Ontario\, N0B 2R0\, Canada
END:VEVENT
BEGIN:VEVENT
DTSTART;TZID=America/Toronto:20270215T083000
DTEND;TZID=America/Toronto:20270215T120000
DTSTAMP:20260419T124620
CREATED:20260413T164938Z
LAST-MODIFIED:20260413T165025Z
UID:10002681-1802680200-1802692800@tavistockon.ca
SUMMARY:Indoor Walking - Mondays
DESCRIPTION:Monday & Wednesday morning 8.30-12. Contact: Larry Brown  519-240-6715 ( October to March)
URL:https://tavistockon.ca/events/indoor-walking-mondays/2027-02-15/
LOCATION:Tavistock Memorial Hall\, 3 Adam Street\, Tavistock\, Ontario\, N0B 2R0\, Canada
CATEGORIES:Community Events
END:VEVENT
BEGIN:VEVENT
DTSTART;TZID=America/Toronto:20270215T130000
DTEND;TZID=America/Toronto:20270215T160000
DTSTAMP:20260419T124620
CREATED:20251016T154500Z
LAST-MODIFIED:20251016T154530Z
UID:10002215-1802696400-1802707200@tavistockon.ca
SUMMARY:Seniors Cards - Mondays
DESCRIPTION:Euchre\, Crib (bring board)\, etc. Just drop in to play. Bring a friend. Contact Bob Routly 519-301-2118.
URL:https://tavistockon.ca/events/seniors-cards/2027-02-15/
LOCATION:Tavistock Memorial Hall\, 3 Adam Street\, Tavistock\, Ontario\, N0B 2R0\, Canada
CATEGORIES:Community Events
END:VEVENT
BEGIN:VEVENT
DTSTART;TZID=UTC:20270217T083000
DTEND;TZID=UTC:20270217T120000
DTSTAMP:20260419T124620
CREATED:20260413T164744Z
LAST-MODIFIED:20260413T165108Z
UID:10002655-1802853000-1802865600@tavistockon.ca
SUMMARY:Indoor Walking - Wednesdays
DESCRIPTION:For more information\, contact Larry Brown at 519-240-6715
URL:https://tavistockon.ca/events/indoor-walking-wednesdays/2027-02-17/
LOCATION:Tavistock Memorial Hall\, 3 Adam Street\, Tavistock\, Ontario\, N0B 2R0\, Canada
CATEGORIES:Community Events
END:VEVENT
BEGIN:VEVENT
DTSTART;TZID=America/Toronto:20270217T123000
DTEND;TZID=America/Toronto:20270217T160000
DTSTAMP:20260419T124620
CREATED:20260413T170214Z
LAST-MODIFIED:20260413T170214Z
UID:10002780-1802867400-1802880000@tavistockon.ca
SUMMARY:Shuffleboard - Wednesdays
DESCRIPTION:Contact Don Junker 519-535-7052 (October to April)
URL:https://tavistockon.ca/events/shuffleboard-wednesdays-3/2027-02-17/
LOCATION:Tavistock Arena\, 1 Adam Street\, Tavistock\, Ontario\, N0B 2R0\, Canada
CATEGORIES:Community Events
END:VEVENT
BEGIN:VEVENT
DTSTART;TZID=America/Toronto:20270218T123000
DTEND;TZID=America/Toronto:20270225T160000
DTSTAMP:20260419T124620
CREATED:20260413T165952Z
LAST-MODIFIED:20260413T170356Z
UID:10002807-1802953800-1803571200@tavistockon.ca
SUMMARY:Shuffleboard on Thursdays
DESCRIPTION:Contact Don Junker 519-535-7052 (October to April)
URL:https://tavistockon.ca/events/shuffleboard-on-thursdays/2027-02-18/
LOCATION:Tavistock Arena\, 1 Adam Street\, Tavistock\, Ontario\, N0B 2R0\, Canada
CATEGORIES:Community Events
END:VEVENT
BEGIN:VEVENT
DTSTART;TZID=UTC:20270219T083000
DTEND;TZID=UTC:20270219T233000
DTSTAMP:20260419T124620
CREATED:20240624T223207Z
LAST-MODIFIED:20240624T223207Z
UID:10000288-1803025800-1803079800@tavistockon.ca
SUMMARY:EarlyON Program
DESCRIPTION:Location: OUTDOOR PROGRAM: Queens Park\, Tavistock \nWho: Parents\, grandparents\, caregivers and children aged 0-6 years \nWhat to bring: Anything you may require to meet the needs of your child (diaper bag\, etc.). \nPlease Note: Parents are responsible for their children at all times while participating in our programs.  Please refrain from being on your phones while in program in order to attend to and engage with your child. \nProgram Description: Come play with us! The EarlyON Team will be traveling to your community and we hope you will join us in the park for songs\, rhymes\, stories\, and games!  Parents\, caregivers and grandparents with children aged 0-6 years (and their older siblings\, of course) are welcome to join us for this free drop-in program!  It is facilitated by qualified EarlyON Facilitators who are happy to answer questions about early learning and child development\, parenting topics\, and can provide additional information about other community programs and services. This is also an ideal opportunity for parents and caregivers to connect with others for social and community support.    \n\nProgram Cancellation: In the case that a program needs to be cancelled\, notices will be posted to Facebook and Instagram by 8:30 am on the day of the program.  Be sure to follow @oxfordearlyon for updates!
URL:https://tavistockon.ca/events/earlyon-program/2027-02-19/
LOCATION:Tavistock Memorial Hall\, 3 Adam Street\, Tavistock\, Ontario\, N0B 2R0\, Canada
END:VEVENT
BEGIN:VEVENT
DTSTART;TZID=America/Toronto:20270220T130000
DTEND;TZID=America/Toronto:20270220T160000
DTSTAMP:20260419T124620
CREATED:20241021T133737Z
LAST-MODIFIED:20250310T145206Z
UID:10001196-1803128400-1803139200@tavistockon.ca
SUMMARY:Tavistock & District Historical Society Museum Opening
DESCRIPTION:
URL:https://tavistockon.ca/events/tavistock-district-historical-society-museum-opening/2027-02-20/
LOCATION:Tavistock & District Historical Society Museum\, 37 Maria Street\, Tavistock\, Ontario\, N0B 2R0\, Canada
CATEGORIES:Community Events
END:VEVENT
END:VCALENDAR