BEGIN:VCALENDAR
VERSION:2.0
PRODID:-//Tavistock ON CA - ECPv6.15.18//NONSGML v1.0//EN
CALSCALE:GREGORIAN
METHOD:PUBLISH
X-WR-CALNAME:Tavistock ON CA
X-ORIGINAL-URL:https://tavistockon.ca
X-WR-CALDESC:Events for Tavistock ON CA
REFRESH-INTERVAL;VALUE=DURATION:PT1H
X-Robots-Tag:noindex
X-PUBLISHED-TTL:PT1H
BEGIN:VTIMEZONE
TZID:America/Toronto
BEGIN:DAYLIGHT
TZOFFSETFROM:-0500
TZOFFSETTO:-0400
TZNAME:EDT
DTSTART:20250309T070000
END:DAYLIGHT
BEGIN:STANDARD
TZOFFSETFROM:-0400
TZOFFSETTO:-0500
TZNAME:EST
DTSTART:20251102T060000
END:STANDARD
BEGIN:DAYLIGHT
TZOFFSETFROM:-0500
TZOFFSETTO:-0400
TZNAME:EDT
DTSTART:20260308T070000
END:DAYLIGHT
BEGIN:STANDARD
TZOFFSETFROM:-0400
TZOFFSETTO:-0500
TZNAME:EST
DTSTART:20261101T060000
END:STANDARD
BEGIN:DAYLIGHT
TZOFFSETFROM:-0500
TZOFFSETTO:-0400
TZNAME:EDT
DTSTART:20270314T070000
END:DAYLIGHT
BEGIN:STANDARD
TZOFFSETFROM:-0400
TZOFFSETTO:-0500
TZNAME:EST
DTSTART:20271107T060000
END:STANDARD
END:VTIMEZONE
BEGIN:VTIMEZONE
TZID:UTC
BEGIN:STANDARD
TZOFFSETFROM:+0000
TZOFFSETTO:+0000
TZNAME:UTC
DTSTART:20250101T000000
END:STANDARD
END:VTIMEZONE
BEGIN:VEVENT
DTSTART;TZID=America/Toronto:20260408T130000
DTEND;TZID=America/Toronto:20260408T160000
DTSTAMP:20260423T013118
CREATED:20251016T154634Z
LAST-MODIFIED:20260413T164146Z
UID:10002340-1775653200-1775664000@tavistockon.ca
SUMMARY:Seniors Cards - Wednesdays
DESCRIPTION:Euchre\, Crib (bring board)\, etc. Just drop in to play. Bring a friend. Contact Bob Routly 519-301-2118.
URL:https://tavistockon.ca/events/seniors-cards-wednesdays/2026-04-08/
LOCATION:Tavistock Memorial Hall\, 3 Adam Street\, Tavistock\, Ontario\, N0B 2R0\, Canada
CATEGORIES:Community Events
END:VEVENT
BEGIN:VEVENT
DTSTART;TZID=America/Toronto:20260409T103000
DTEND;TZID=America/Toronto:20260409T113000
DTSTAMP:20260423T013118
CREATED:20251016T155939Z
LAST-MODIFIED:20251016T155939Z
UID:10002534-1775730600-1775734200@tavistockon.ca
SUMMARY:VON Smart Seniors Exercise - Thursdays
DESCRIPTION:Contact 519-539-1231 x 6285
URL:https://tavistockon.ca/events/von-smart-seniors-exercise-thursdays/2026-04-09/
LOCATION:Village Manor\, 198 Woodstock Street S\, Tavistock\, Ontario\, N0B 2R0\, Canada
CATEGORIES:Community Events
END:VEVENT
BEGIN:VEVENT
DTSTART;TZID=UTC:20260410T083000
DTEND;TZID=UTC:20260410T233000
DTSTAMP:20260423T013118
CREATED:20240624T223207Z
LAST-MODIFIED:20240624T223207Z
UID:10000243-1775809800-1775863800@tavistockon.ca
SUMMARY:EarlyON Program
DESCRIPTION:Location: OUTDOOR PROGRAM: Queens Park\, Tavistock \nWho: Parents\, grandparents\, caregivers and children aged 0-6 years \nWhat to bring: Anything you may require to meet the needs of your child (diaper bag\, etc.). \nPlease Note: Parents are responsible for their children at all times while participating in our programs.  Please refrain from being on your phones while in program in order to attend to and engage with your child. \nProgram Description: Come play with us! The EarlyON Team will be traveling to your community and we hope you will join us in the park for songs\, rhymes\, stories\, and games!  Parents\, caregivers and grandparents with children aged 0-6 years (and their older siblings\, of course) are welcome to join us for this free drop-in program!  It is facilitated by qualified EarlyON Facilitators who are happy to answer questions about early learning and child development\, parenting topics\, and can provide additional information about other community programs and services. This is also an ideal opportunity for parents and caregivers to connect with others for social and community support.    \n\nProgram Cancellation: In the case that a program needs to be cancelled\, notices will be posted to Facebook and Instagram by 8:30 am on the day of the program.  Be sure to follow @oxfordearlyon for updates!
URL:https://tavistockon.ca/events/earlyon-program/2026-04-10/
LOCATION:Tavistock Memorial Hall\, 3 Adam Street\, Tavistock\, Ontario\, N0B 2R0\, Canada
END:VEVENT
BEGIN:VEVENT
DTSTART;TZID=America/Toronto:20260411T203000
DTEND;TZID=America/Toronto:20260412T010000
DTSTAMP:20260423T013118
CREATED:20250529T132917Z
LAST-MODIFIED:20260409T181550Z
UID:10002076-1775939400-1775955600@tavistockon.ca
SUMMARY:Lulu's Dance
DESCRIPTION:
URL:https://tavistockon.ca/events/lulus-dance/
LOCATION:Tavistock Memorial Hall\, 3 Adam Street\, Tavistock\, Ontario\, N0B 2R0\, Canada
CATEGORIES:Tavistock Opti-Mrs
ATTACH;FMTTYPE=image/png:https://tavistockon.ca/wp-content/uploads/2025/05/Lulus_Band.png
ORGANIZER;CN="Tavistock Opti-Mrs":MAILTO:tavistockoptimrs@gmail.com
END:VEVENT
BEGIN:VEVENT
DTSTART;TZID=America/Toronto:20260413T130000
DTEND;TZID=America/Toronto:20260413T160000
DTSTAMP:20260423T013118
CREATED:20251016T154500Z
LAST-MODIFIED:20251016T154530Z
UID:10002171-1776085200-1776096000@tavistockon.ca
SUMMARY:Seniors Cards - Mondays
DESCRIPTION:Euchre\, Crib (bring board)\, etc. Just drop in to play. Bring a friend. Contact Bob Routly 519-301-2118.
URL:https://tavistockon.ca/events/seniors-cards/2026-04-13/
LOCATION:Tavistock Memorial Hall\, 3 Adam Street\, Tavistock\, Ontario\, N0B 2R0\, Canada
CATEGORIES:Community Events
END:VEVENT
BEGIN:VEVENT
DTSTART;TZID=America/Toronto:20260414T103000
DTEND;TZID=America/Toronto:20260414T113000
DTSTAMP:20260423T013118
CREATED:20251016T155827Z
LAST-MODIFIED:20251016T155827Z
UID:10002502-1776162600-1776166200@tavistockon.ca
SUMMARY:VON Smart Seniors Exercise - Tuesdays
DESCRIPTION:Contact 519-539-1231 x 6285
URL:https://tavistockon.ca/events/von-smart-seniors-exercise-tuesdays/2026-04-14/
LOCATION:Village Manor\, 198 Woodstock Street S\, Tavistock\, Ontario\, N0B 2R0\, Canada
CATEGORIES:Community Events
END:VEVENT
BEGIN:VEVENT
DTSTART;TZID=America/Toronto:20260415T080000
DTEND;TZID=America/Toronto:20260415T100000
DTSTAMP:20260423T013118
CREATED:20260327T135950Z
LAST-MODIFIED:20260327T135950Z
UID:10002561-1776240000-1776247200@tavistockon.ca
SUMMARY:Rural Mayors Breakfast
DESCRIPTION:
URL:https://tavistockon.ca/events/rural-mayors-breakfast/
LOCATION:Quehl’s Restaurant\, 33 Woodstock St. S\, Tavistock\, Ontario\, N0B 2R0\, Canada
CATEGORIES:Community Events
ATTACH;FMTTYPE=image/jpeg:https://tavistockon.ca/wp-content/uploads/2026/03/Rural-Mayors-Breakfast.jpg
ORGANIZER;CN="Tavistock Chamber of Commerce":MAILTO:tavistockchamber@gmail.com
END:VEVENT
BEGIN:VEVENT
DTSTART;TZID=America/Toronto:20260416T103000
DTEND;TZID=America/Toronto:20260416T113000
DTSTAMP:20260423T013118
CREATED:20251016T155939Z
LAST-MODIFIED:20251016T155939Z
UID:10002535-1776335400-1776339000@tavistockon.ca
SUMMARY:VON Smart Seniors Exercise - Thursdays
DESCRIPTION:Contact 519-539-1231 x 6285
URL:https://tavistockon.ca/events/von-smart-seniors-exercise-thursdays/2026-04-16/
LOCATION:Village Manor\, 198 Woodstock Street S\, Tavistock\, Ontario\, N0B 2R0\, Canada
CATEGORIES:Community Events
END:VEVENT
BEGIN:VEVENT
DTSTART;TZID=UTC:20260417T083000
DTEND;TZID=UTC:20260417T233000
DTSTAMP:20260423T013118
CREATED:20240624T223207Z
LAST-MODIFIED:20240624T223207Z
UID:10000244-1776414600-1776468600@tavistockon.ca
SUMMARY:EarlyON Program
DESCRIPTION:Location: OUTDOOR PROGRAM: Queens Park\, Tavistock \nWho: Parents\, grandparents\, caregivers and children aged 0-6 years \nWhat to bring: Anything you may require to meet the needs of your child (diaper bag\, etc.). \nPlease Note: Parents are responsible for their children at all times while participating in our programs.  Please refrain from being on your phones while in program in order to attend to and engage with your child. \nProgram Description: Come play with us! The EarlyON Team will be traveling to your community and we hope you will join us in the park for songs\, rhymes\, stories\, and games!  Parents\, caregivers and grandparents with children aged 0-6 years (and their older siblings\, of course) are welcome to join us for this free drop-in program!  It is facilitated by qualified EarlyON Facilitators who are happy to answer questions about early learning and child development\, parenting topics\, and can provide additional information about other community programs and services. This is also an ideal opportunity for parents and caregivers to connect with others for social and community support.    \n\nProgram Cancellation: In the case that a program needs to be cancelled\, notices will be posted to Facebook and Instagram by 8:30 am on the day of the program.  Be sure to follow @oxfordearlyon for updates!
URL:https://tavistockon.ca/events/earlyon-program/2026-04-17/
LOCATION:Tavistock Memorial Hall\, 3 Adam Street\, Tavistock\, Ontario\, N0B 2R0\, Canada
END:VEVENT
BEGIN:VEVENT
DTSTART;TZID=America/Toronto:20260418T130000
DTEND;TZID=America/Toronto:20260418T160000
DTSTAMP:20260423T013118
CREATED:20241021T133737Z
LAST-MODIFIED:20250310T145206Z
UID:10001186-1776517200-1776528000@tavistockon.ca
SUMMARY:Tavistock & District Historical Society Museum Opening
DESCRIPTION:
URL:https://tavistockon.ca/events/tavistock-district-historical-society-museum-opening/2026-04-18/
LOCATION:Tavistock & District Historical Society Museum\, 37 Maria Street\, Tavistock\, Ontario\, N0B 2R0\, Canada
CATEGORIES:Community Events
END:VEVENT
BEGIN:VEVENT
DTSTART;TZID=America/Toronto:20260420T130000
DTEND;TZID=America/Toronto:20260420T160000
DTSTAMP:20260423T013118
CREATED:20251016T154500Z
LAST-MODIFIED:20251016T154530Z
UID:10002172-1776690000-1776700800@tavistockon.ca
SUMMARY:Seniors Cards - Mondays
DESCRIPTION:Euchre\, Crib (bring board)\, etc. Just drop in to play. Bring a friend. Contact Bob Routly 519-301-2118.
URL:https://tavistockon.ca/events/seniors-cards/2026-04-20/
LOCATION:Tavistock Memorial Hall\, 3 Adam Street\, Tavistock\, Ontario\, N0B 2R0\, Canada
CATEGORIES:Community Events
END:VEVENT
BEGIN:VEVENT
DTSTART;TZID=America/Toronto:20260421T103000
DTEND;TZID=America/Toronto:20260421T113000
DTSTAMP:20260423T013118
CREATED:20251016T155827Z
LAST-MODIFIED:20251016T155827Z
UID:10002503-1776767400-1776771000@tavistockon.ca
SUMMARY:VON Smart Seniors Exercise - Tuesdays
DESCRIPTION:Contact 519-539-1231 x 6285
URL:https://tavistockon.ca/events/von-smart-seniors-exercise-tuesdays/2026-04-21/
LOCATION:Village Manor\, 198 Woodstock Street S\, Tavistock\, Ontario\, N0B 2R0\, Canada
CATEGORIES:Community Events
END:VEVENT
BEGIN:VEVENT
DTSTART;TZID=America/Toronto:20260423T103000
DTEND;TZID=America/Toronto:20260423T113000
DTSTAMP:20260423T013118
CREATED:20251016T155939Z
LAST-MODIFIED:20251016T155939Z
UID:10002536-1776940200-1776943800@tavistockon.ca
SUMMARY:VON Smart Seniors Exercise - Thursdays
DESCRIPTION:Contact 519-539-1231 x 6285
URL:https://tavistockon.ca/events/von-smart-seniors-exercise-thursdays/2026-04-23/
LOCATION:Village Manor\, 198 Woodstock Street S\, Tavistock\, Ontario\, N0B 2R0\, Canada
CATEGORIES:Community Events
END:VEVENT
BEGIN:VEVENT
DTSTART;TZID=UTC:20260424T083000
DTEND;TZID=UTC:20260424T233000
DTSTAMP:20260423T013118
CREATED:20240624T223207Z
LAST-MODIFIED:20240624T223207Z
UID:10000245-1777019400-1777073400@tavistockon.ca
SUMMARY:EarlyON Program
DESCRIPTION:Location: OUTDOOR PROGRAM: Queens Park\, Tavistock \nWho: Parents\, grandparents\, caregivers and children aged 0-6 years \nWhat to bring: Anything you may require to meet the needs of your child (diaper bag\, etc.). \nPlease Note: Parents are responsible for their children at all times while participating in our programs.  Please refrain from being on your phones while in program in order to attend to and engage with your child. \nProgram Description: Come play with us! The EarlyON Team will be traveling to your community and we hope you will join us in the park for songs\, rhymes\, stories\, and games!  Parents\, caregivers and grandparents with children aged 0-6 years (and their older siblings\, of course) are welcome to join us for this free drop-in program!  It is facilitated by qualified EarlyON Facilitators who are happy to answer questions about early learning and child development\, parenting topics\, and can provide additional information about other community programs and services. This is also an ideal opportunity for parents and caregivers to connect with others for social and community support.    \n\nProgram Cancellation: In the case that a program needs to be cancelled\, notices will be posted to Facebook and Instagram by 8:30 am on the day of the program.  Be sure to follow @oxfordearlyon for updates!
URL:https://tavistockon.ca/events/earlyon-program/2026-04-24/
LOCATION:Tavistock Memorial Hall\, 3 Adam Street\, Tavistock\, Ontario\, N0B 2R0\, Canada
END:VEVENT
BEGIN:VEVENT
DTSTART;TZID=America/Toronto:20260427T130000
DTEND;TZID=America/Toronto:20260427T160000
DTSTAMP:20260423T013118
CREATED:20251016T154500Z
LAST-MODIFIED:20251016T154530Z
UID:10002173-1777294800-1777305600@tavistockon.ca
SUMMARY:Seniors Cards - Mondays
DESCRIPTION:Euchre\, Crib (bring board)\, etc. Just drop in to play. Bring a friend. Contact Bob Routly 519-301-2118.
URL:https://tavistockon.ca/events/seniors-cards/2026-04-27/
LOCATION:Tavistock Memorial Hall\, 3 Adam Street\, Tavistock\, Ontario\, N0B 2R0\, Canada
CATEGORIES:Community Events
END:VEVENT
BEGIN:VEVENT
DTSTART;TZID=America/Toronto:20260428T103000
DTEND;TZID=America/Toronto:20260428T113000
DTSTAMP:20260423T013118
CREATED:20251016T155827Z
LAST-MODIFIED:20251016T155827Z
UID:10002504-1777372200-1777375800@tavistockon.ca
SUMMARY:VON Smart Seniors Exercise - Tuesdays
DESCRIPTION:Contact 519-539-1231 x 6285
URL:https://tavistockon.ca/events/von-smart-seniors-exercise-tuesdays/2026-04-28/
LOCATION:Village Manor\, 198 Woodstock Street S\, Tavistock\, Ontario\, N0B 2R0\, Canada
CATEGORIES:Community Events
END:VEVENT
BEGIN:VEVENT
DTSTART;TZID=America/Toronto:20260430T103000
DTEND;TZID=America/Toronto:20260430T113000
DTSTAMP:20260423T013118
CREATED:20251016T155939Z
LAST-MODIFIED:20251016T155939Z
UID:10002537-1777545000-1777548600@tavistockon.ca
SUMMARY:VON Smart Seniors Exercise - Thursdays
DESCRIPTION:Contact 519-539-1231 x 6285
URL:https://tavistockon.ca/events/von-smart-seniors-exercise-thursdays/2026-04-30/
LOCATION:Village Manor\, 198 Woodstock Street S\, Tavistock\, Ontario\, N0B 2R0\, Canada
CATEGORIES:Community Events
END:VEVENT
BEGIN:VEVENT
DTSTART;TZID=UTC:20260501T083000
DTEND;TZID=UTC:20260501T233000
DTSTAMP:20260423T013118
CREATED:20240624T223207Z
LAST-MODIFIED:20240624T223207Z
UID:10000246-1777624200-1777678200@tavistockon.ca
SUMMARY:EarlyON Program
DESCRIPTION:Location: OUTDOOR PROGRAM: Queens Park\, Tavistock \nWho: Parents\, grandparents\, caregivers and children aged 0-6 years \nWhat to bring: Anything you may require to meet the needs of your child (diaper bag\, etc.). \nPlease Note: Parents are responsible for their children at all times while participating in our programs.  Please refrain from being on your phones while in program in order to attend to and engage with your child. \nProgram Description: Come play with us! The EarlyON Team will be traveling to your community and we hope you will join us in the park for songs\, rhymes\, stories\, and games!  Parents\, caregivers and grandparents with children aged 0-6 years (and their older siblings\, of course) are welcome to join us for this free drop-in program!  It is facilitated by qualified EarlyON Facilitators who are happy to answer questions about early learning and child development\, parenting topics\, and can provide additional information about other community programs and services. This is also an ideal opportunity for parents and caregivers to connect with others for social and community support.    \n\nProgram Cancellation: In the case that a program needs to be cancelled\, notices will be posted to Facebook and Instagram by 8:30 am on the day of the program.  Be sure to follow @oxfordearlyon for updates!
URL:https://tavistockon.ca/events/earlyon-program/2026-05-01/
LOCATION:Tavistock Memorial Hall\, 3 Adam Street\, Tavistock\, Ontario\, N0B 2R0\, Canada
END:VEVENT
BEGIN:VEVENT
DTSTART;TZID=America/Toronto:20260504T130000
DTEND;TZID=America/Toronto:20260504T160000
DTSTAMP:20260423T013118
CREATED:20251016T154500Z
LAST-MODIFIED:20251016T154530Z
UID:10002174-1777899600-1777910400@tavistockon.ca
SUMMARY:Seniors Cards - Mondays
DESCRIPTION:Euchre\, Crib (bring board)\, etc. Just drop in to play. Bring a friend. Contact Bob Routly 519-301-2118.
URL:https://tavistockon.ca/events/seniors-cards/2026-05-04/
LOCATION:Tavistock Memorial Hall\, 3 Adam Street\, Tavistock\, Ontario\, N0B 2R0\, Canada
CATEGORIES:Community Events
END:VEVENT
BEGIN:VEVENT
DTSTART;TZID=America/Toronto:20260505T103000
DTEND;TZID=America/Toronto:20260505T113000
DTSTAMP:20260423T013118
CREATED:20251016T155827Z
LAST-MODIFIED:20251016T155827Z
UID:10002505-1777977000-1777980600@tavistockon.ca
SUMMARY:VON Smart Seniors Exercise - Tuesdays
DESCRIPTION:Contact 519-539-1231 x 6285
URL:https://tavistockon.ca/events/von-smart-seniors-exercise-tuesdays/2026-05-05/
LOCATION:Village Manor\, 198 Woodstock Street S\, Tavistock\, Ontario\, N0B 2R0\, Canada
CATEGORIES:Community Events
END:VEVENT
BEGIN:VEVENT
DTSTART;TZID=America/Toronto:20260507T103000
DTEND;TZID=America/Toronto:20260507T113000
DTSTAMP:20260423T013118
CREATED:20251016T155939Z
LAST-MODIFIED:20251016T155939Z
UID:10002538-1778149800-1778153400@tavistockon.ca
SUMMARY:VON Smart Seniors Exercise - Thursdays
DESCRIPTION:Contact 519-539-1231 x 6285
URL:https://tavistockon.ca/events/von-smart-seniors-exercise-thursdays/2026-05-07/
LOCATION:Village Manor\, 198 Woodstock Street S\, Tavistock\, Ontario\, N0B 2R0\, Canada
CATEGORIES:Community Events
END:VEVENT
BEGIN:VEVENT
DTSTART;TZID=UTC:20260508T083000
DTEND;TZID=UTC:20260508T233000
DTSTAMP:20260423T013118
CREATED:20240624T223207Z
LAST-MODIFIED:20240624T223207Z
UID:10000247-1778229000-1778283000@tavistockon.ca
SUMMARY:EarlyON Program
DESCRIPTION:Location: OUTDOOR PROGRAM: Queens Park\, Tavistock \nWho: Parents\, grandparents\, caregivers and children aged 0-6 years \nWhat to bring: Anything you may require to meet the needs of your child (diaper bag\, etc.). \nPlease Note: Parents are responsible for their children at all times while participating in our programs.  Please refrain from being on your phones while in program in order to attend to and engage with your child. \nProgram Description: Come play with us! The EarlyON Team will be traveling to your community and we hope you will join us in the park for songs\, rhymes\, stories\, and games!  Parents\, caregivers and grandparents with children aged 0-6 years (and their older siblings\, of course) are welcome to join us for this free drop-in program!  It is facilitated by qualified EarlyON Facilitators who are happy to answer questions about early learning and child development\, parenting topics\, and can provide additional information about other community programs and services. This is also an ideal opportunity for parents and caregivers to connect with others for social and community support.    \n\nProgram Cancellation: In the case that a program needs to be cancelled\, notices will be posted to Facebook and Instagram by 8:30 am on the day of the program.  Be sure to follow @oxfordearlyon for updates!
URL:https://tavistockon.ca/events/earlyon-program/2026-05-08/
LOCATION:Tavistock Memorial Hall\, 3 Adam Street\, Tavistock\, Ontario\, N0B 2R0\, Canada
END:VEVENT
BEGIN:VEVENT
DTSTART;TZID=America/Toronto:20260511T130000
DTEND;TZID=America/Toronto:20260511T160000
DTSTAMP:20260423T013118
CREATED:20251016T154500Z
LAST-MODIFIED:20251016T154530Z
UID:10002175-1778504400-1778515200@tavistockon.ca
SUMMARY:Seniors Cards - Mondays
DESCRIPTION:Euchre\, Crib (bring board)\, etc. Just drop in to play. Bring a friend. Contact Bob Routly 519-301-2118.
URL:https://tavistockon.ca/events/seniors-cards/2026-05-11/
LOCATION:Tavistock Memorial Hall\, 3 Adam Street\, Tavistock\, Ontario\, N0B 2R0\, Canada
CATEGORIES:Community Events
END:VEVENT
BEGIN:VEVENT
DTSTART;TZID=America/Toronto:20260512T103000
DTEND;TZID=America/Toronto:20260512T113000
DTSTAMP:20260423T013118
CREATED:20251016T155827Z
LAST-MODIFIED:20251016T155827Z
UID:10002506-1778581800-1778585400@tavistockon.ca
SUMMARY:VON Smart Seniors Exercise - Tuesdays
DESCRIPTION:Contact 519-539-1231 x 6285
URL:https://tavistockon.ca/events/von-smart-seniors-exercise-tuesdays/2026-05-12/
LOCATION:Village Manor\, 198 Woodstock Street S\, Tavistock\, Ontario\, N0B 2R0\, Canada
CATEGORIES:Community Events
END:VEVENT
BEGIN:VEVENT
DTSTART;TZID=America/Toronto:20260514T103000
DTEND;TZID=America/Toronto:20260514T113000
DTSTAMP:20260423T013118
CREATED:20251016T155939Z
LAST-MODIFIED:20251016T155939Z
UID:10002539-1778754600-1778758200@tavistockon.ca
SUMMARY:VON Smart Seniors Exercise - Thursdays
DESCRIPTION:Contact 519-539-1231 x 6285
URL:https://tavistockon.ca/events/von-smart-seniors-exercise-thursdays/2026-05-14/
LOCATION:Village Manor\, 198 Woodstock Street S\, Tavistock\, Ontario\, N0B 2R0\, Canada
CATEGORIES:Community Events
END:VEVENT
BEGIN:VEVENT
DTSTART;TZID=UTC:20260515T083000
DTEND;TZID=UTC:20260515T233000
DTSTAMP:20260423T013118
CREATED:20240624T223207Z
LAST-MODIFIED:20240624T223207Z
UID:10000248-1778833800-1778887800@tavistockon.ca
SUMMARY:EarlyON Program
DESCRIPTION:Location: OUTDOOR PROGRAM: Queens Park\, Tavistock \nWho: Parents\, grandparents\, caregivers and children aged 0-6 years \nWhat to bring: Anything you may require to meet the needs of your child (diaper bag\, etc.). \nPlease Note: Parents are responsible for their children at all times while participating in our programs.  Please refrain from being on your phones while in program in order to attend to and engage with your child. \nProgram Description: Come play with us! The EarlyON Team will be traveling to your community and we hope you will join us in the park for songs\, rhymes\, stories\, and games!  Parents\, caregivers and grandparents with children aged 0-6 years (and their older siblings\, of course) are welcome to join us for this free drop-in program!  It is facilitated by qualified EarlyON Facilitators who are happy to answer questions about early learning and child development\, parenting topics\, and can provide additional information about other community programs and services. This is also an ideal opportunity for parents and caregivers to connect with others for social and community support.    \n\nProgram Cancellation: In the case that a program needs to be cancelled\, notices will be posted to Facebook and Instagram by 8:30 am on the day of the program.  Be sure to follow @oxfordearlyon for updates!
URL:https://tavistockon.ca/events/earlyon-program/2026-05-15/
LOCATION:Tavistock Memorial Hall\, 3 Adam Street\, Tavistock\, Ontario\, N0B 2R0\, Canada
END:VEVENT
BEGIN:VEVENT
DTSTART;TZID=America/Toronto:20260516T130000
DTEND;TZID=America/Toronto:20260516T160000
DTSTAMP:20260423T013118
CREATED:20241021T133737Z
LAST-MODIFIED:20250310T145206Z
UID:10001187-1778936400-1778947200@tavistockon.ca
SUMMARY:Tavistock & District Historical Society Museum Opening
DESCRIPTION:
URL:https://tavistockon.ca/events/tavistock-district-historical-society-museum-opening/2026-05-16/
LOCATION:Tavistock & District Historical Society Museum\, 37 Maria Street\, Tavistock\, Ontario\, N0B 2R0\, Canada
CATEGORIES:Community Events
END:VEVENT
BEGIN:VEVENT
DTSTART;TZID=America/Toronto:20260518T130000
DTEND;TZID=America/Toronto:20260518T160000
DTSTAMP:20260423T013118
CREATED:20251016T154500Z
LAST-MODIFIED:20251016T154530Z
UID:10002176-1779109200-1779120000@tavistockon.ca
SUMMARY:Seniors Cards - Mondays
DESCRIPTION:Euchre\, Crib (bring board)\, etc. Just drop in to play. Bring a friend. Contact Bob Routly 519-301-2118.
URL:https://tavistockon.ca/events/seniors-cards/2026-05-18/
LOCATION:Tavistock Memorial Hall\, 3 Adam Street\, Tavistock\, Ontario\, N0B 2R0\, Canada
CATEGORIES:Community Events
END:VEVENT
BEGIN:VEVENT
DTSTART;TZID=America/Toronto:20260519T103000
DTEND;TZID=America/Toronto:20260519T113000
DTSTAMP:20260423T013118
CREATED:20251016T155827Z
LAST-MODIFIED:20251016T155827Z
UID:10002507-1779186600-1779190200@tavistockon.ca
SUMMARY:VON Smart Seniors Exercise - Tuesdays
DESCRIPTION:Contact 519-539-1231 x 6285
URL:https://tavistockon.ca/events/von-smart-seniors-exercise-tuesdays/2026-05-19/
LOCATION:Village Manor\, 198 Woodstock Street S\, Tavistock\, Ontario\, N0B 2R0\, Canada
CATEGORIES:Community Events
END:VEVENT
BEGIN:VEVENT
DTSTART;TZID=America/Toronto:20260521T103000
DTEND;TZID=America/Toronto:20260521T113000
DTSTAMP:20260423T013118
CREATED:20251016T155939Z
LAST-MODIFIED:20251016T155939Z
UID:10002540-1779359400-1779363000@tavistockon.ca
SUMMARY:VON Smart Seniors Exercise - Thursdays
DESCRIPTION:Contact 519-539-1231 x 6285
URL:https://tavistockon.ca/events/von-smart-seniors-exercise-thursdays/2026-05-21/
LOCATION:Village Manor\, 198 Woodstock Street S\, Tavistock\, Ontario\, N0B 2R0\, Canada
CATEGORIES:Community Events
END:VEVENT
END:VCALENDAR