BEGIN:VCALENDAR
VERSION:2.0
PRODID:-//Tavistock ON CA - ECPv6.15.18//NONSGML v1.0//EN
CALSCALE:GREGORIAN
METHOD:PUBLISH
X-ORIGINAL-URL:https://tavistockon.ca
X-WR-CALDESC:Events for Tavistock ON CA
REFRESH-INTERVAL;VALUE=DURATION:PT1H
X-Robots-Tag:noindex
X-PUBLISHED-TTL:PT1H
BEGIN:VTIMEZONE
TZID:UTC
BEGIN:STANDARD
TZOFFSETFROM:+0000
TZOFFSETTO:+0000
TZNAME:UTC
DTSTART:20240101T000000
END:STANDARD
END:VTIMEZONE
BEGIN:VTIMEZONE
TZID:America/Toronto
BEGIN:DAYLIGHT
TZOFFSETFROM:-0500
TZOFFSETTO:-0400
TZNAME:EDT
DTSTART:20240310T070000
END:DAYLIGHT
BEGIN:STANDARD
TZOFFSETFROM:-0400
TZOFFSETTO:-0500
TZNAME:EST
DTSTART:20241103T060000
END:STANDARD
BEGIN:DAYLIGHT
TZOFFSETFROM:-0500
TZOFFSETTO:-0400
TZNAME:EDT
DTSTART:20250309T070000
END:DAYLIGHT
BEGIN:STANDARD
TZOFFSETFROM:-0400
TZOFFSETTO:-0500
TZNAME:EST
DTSTART:20251102T060000
END:STANDARD
BEGIN:DAYLIGHT
TZOFFSETFROM:-0500
TZOFFSETTO:-0400
TZNAME:EDT
DTSTART:20260308T070000
END:DAYLIGHT
BEGIN:STANDARD
TZOFFSETFROM:-0400
TZOFFSETTO:-0500
TZNAME:EST
DTSTART:20261101T060000
END:STANDARD
BEGIN:DAYLIGHT
TZOFFSETFROM:-0500
TZOFFSETTO:-0400
TZNAME:EDT
DTSTART:20270314T070000
END:DAYLIGHT
BEGIN:STANDARD
TZOFFSETFROM:-0400
TZOFFSETTO:-0500
TZNAME:EST
DTSTART:20271107T060000
END:STANDARD
END:VTIMEZONE
BEGIN:VEVENT
DTSTART;TZID=UTC:20251229T083000
DTEND;TZID=UTC:20251229T120000
DTSTAMP:20260422T190156
CREATED:20241021T140856Z
LAST-MODIFIED:20260413T164511Z
UID:10001376-1766997000-1767009600@tavistockon.ca
SUMMARY:Community Walk & Social - Mondays
DESCRIPTION:For more information\, contact Larry Brown at 519-240-6715
URL:https://tavistockon.ca/events/community-walk-social-mondays-2/2025-12-29/
LOCATION:Tavistock Memorial Hall\, 3 Adam Street\, Tavistock\, Ontario\, N0B 2R0\, Canada
CATEGORIES:Community Events
END:VEVENT
BEGIN:VEVENT
DTSTART;TZID=America/Toronto:20251229T130000
DTEND;TZID=America/Toronto:20251229T160000
DTSTAMP:20260422T190156
CREATED:20251016T154500Z
LAST-MODIFIED:20251016T154530Z
UID:10002156-1767013200-1767024000@tavistockon.ca
SUMMARY:Seniors Cards - Mondays
DESCRIPTION:Euchre\, Crib (bring board)\, etc. Just drop in to play. Bring a friend. Contact Bob Routly 519-301-2118.
URL:https://tavistockon.ca/events/seniors-cards/2025-12-29/
LOCATION:Tavistock Memorial Hall\, 3 Adam Street\, Tavistock\, Ontario\, N0B 2R0\, Canada
CATEGORIES:Community Events
END:VEVENT
BEGIN:VEVENT
DTSTART;TZID=America/Toronto:20251230T103000
DTEND;TZID=America/Toronto:20251230T113000
DTSTAMP:20260422T190156
CREATED:20251016T155827Z
LAST-MODIFIED:20251016T155827Z
UID:10002487-1767090600-1767094200@tavistockon.ca
SUMMARY:VON Smart Seniors Exercise - Tuesdays
DESCRIPTION:Contact 519-539-1231 x 6285
URL:https://tavistockon.ca/events/von-smart-seniors-exercise-tuesdays/2025-12-30/
LOCATION:Village Manor\, 198 Woodstock Street S\, Tavistock\, Ontario\, N0B 2R0\, Canada
CATEGORIES:Community Events
END:VEVENT
BEGIN:VEVENT
DTSTART;TZID=UTC:20251231T083000
DTEND;TZID=UTC:20251231T120000
DTSTAMP:20260422T190156
CREATED:20241021T142803Z
LAST-MODIFIED:20260413T164629Z
UID:10001541-1767169800-1767182400@tavistockon.ca
SUMMARY:Community Walk & Social - Wednesdays
DESCRIPTION:For more information\, contact Larry Brown at 519-240-6715
URL:https://tavistockon.ca/events/community-walk-social-wednesdays/2025-12-31/
LOCATION:Tavistock Memorial Hall\, 3 Adam Street\, Tavistock\, Ontario\, N0B 2R0\, Canada
CATEGORIES:Community Events
END:VEVENT
BEGIN:VEVENT
DTSTART;TZID=America/Toronto:20251231T123000
DTEND;TZID=America/Toronto:20251231T160000
DTSTAMP:20260422T190156
CREATED:20251016T155334Z
LAST-MODIFIED:20260413T165650Z
UID:10002422-1767184200-1767196800@tavistockon.ca
SUMMARY:Shuffleboard - Wednesdays
DESCRIPTION:Contact Don Junker 519-535-7052
URL:https://tavistockon.ca/events/shuffleboard-wednesdays-2/2025-12-31/
LOCATION:Tavistock Arena\, 1 Adam Street\, Tavistock\, Ontario\, N0B 2R0\, Canada
CATEGORIES:Community Events
END:VEVENT
BEGIN:VEVENT
DTSTART;TZID=America/Toronto:20251231T130000
DTEND;TZID=America/Toronto:20251231T160000
DTSTAMP:20260422T190156
CREATED:20251016T154634Z
LAST-MODIFIED:20260413T164146Z
UID:10002326-1767186000-1767196800@tavistockon.ca
SUMMARY:Seniors Cards - Wednesdays
DESCRIPTION:Euchre\, Crib (bring board)\, etc. Just drop in to play. Bring a friend. Contact Bob Routly 519-301-2118.
URL:https://tavistockon.ca/events/seniors-cards-wednesdays/2025-12-31/
LOCATION:Tavistock Memorial Hall\, 3 Adam Street\, Tavistock\, Ontario\, N0B 2R0\, Canada
CATEGORIES:Community Events
END:VEVENT
BEGIN:VEVENT
DTSTART;TZID=America/Toronto:20260101T100000
DTEND;TZID=America/Toronto:20260101T160000
DTSTAMP:20260422T190156
CREATED:20251016T155501Z
LAST-MODIFIED:20260413T165427Z
UID:10002455-1767261600-1767283200@tavistockon.ca
SUMMARY:Shuffleboard - Thursdays
DESCRIPTION:Contact Don Junker 519-535-7052
URL:https://tavistockon.ca/events/shuffleboard-thursdays-2/2026-01-01/
LOCATION:Tavistock Arena\, 1 Adam Street\, Tavistock\, Ontario\, N0B 2R0\, Canada
CATEGORIES:Community Events
END:VEVENT
BEGIN:VEVENT
DTSTART;TZID=America/Toronto:20260101T103000
DTEND;TZID=America/Toronto:20260101T113000
DTSTAMP:20260422T190156
CREATED:20251016T155939Z
LAST-MODIFIED:20251016T155939Z
UID:10002520-1767263400-1767267000@tavistockon.ca
SUMMARY:VON Smart Seniors Exercise - Thursdays
DESCRIPTION:Contact 519-539-1231 x 6285
URL:https://tavistockon.ca/events/von-smart-seniors-exercise-thursdays/2026-01-01/
LOCATION:Village Manor\, 198 Woodstock Street S\, Tavistock\, Ontario\, N0B 2R0\, Canada
CATEGORIES:Community Events
END:VEVENT
BEGIN:VEVENT
DTSTART;TZID=UTC:20260102T083000
DTEND;TZID=UTC:20260102T233000
DTSTAMP:20260422T190156
CREATED:20240624T223207Z
LAST-MODIFIED:20240624T223207Z
UID:10000229-1767342600-1767396600@tavistockon.ca
SUMMARY:EarlyON Program
DESCRIPTION:Location: OUTDOOR PROGRAM: Queens Park\, Tavistock \nWho: Parents\, grandparents\, caregivers and children aged 0-6 years \nWhat to bring: Anything you may require to meet the needs of your child (diaper bag\, etc.). \nPlease Note: Parents are responsible for their children at all times while participating in our programs.  Please refrain from being on your phones while in program in order to attend to and engage with your child. \nProgram Description: Come play with us! The EarlyON Team will be traveling to your community and we hope you will join us in the park for songs\, rhymes\, stories\, and games!  Parents\, caregivers and grandparents with children aged 0-6 years (and their older siblings\, of course) are welcome to join us for this free drop-in program!  It is facilitated by qualified EarlyON Facilitators who are happy to answer questions about early learning and child development\, parenting topics\, and can provide additional information about other community programs and services. This is also an ideal opportunity for parents and caregivers to connect with others for social and community support.    \n\nProgram Cancellation: In the case that a program needs to be cancelled\, notices will be posted to Facebook and Instagram by 8:30 am on the day of the program.  Be sure to follow @oxfordearlyon for updates!
URL:https://tavistockon.ca/events/earlyon-program/2026-01-02/
LOCATION:Tavistock Memorial Hall\, 3 Adam Street\, Tavistock\, Ontario\, N0B 2R0\, Canada
END:VEVENT
BEGIN:VEVENT
DTSTART;TZID=UTC:20260105T083000
DTEND;TZID=UTC:20260105T120000
DTSTAMP:20260422T190156
CREATED:20241021T140856Z
LAST-MODIFIED:20260413T164511Z
UID:10001377-1767601800-1767614400@tavistockon.ca
SUMMARY:Community Walk & Social - Mondays
DESCRIPTION:For more information\, contact Larry Brown at 519-240-6715
URL:https://tavistockon.ca/events/community-walk-social-mondays-2/2026-01-05/
LOCATION:Tavistock Memorial Hall\, 3 Adam Street\, Tavistock\, Ontario\, N0B 2R0\, Canada
CATEGORIES:Community Events
END:VEVENT
BEGIN:VEVENT
DTSTART;TZID=America/Toronto:20260105T130000
DTEND;TZID=America/Toronto:20260105T160000
DTSTAMP:20260422T190156
CREATED:20251016T154500Z
LAST-MODIFIED:20251016T154530Z
UID:10002157-1767618000-1767628800@tavistockon.ca
SUMMARY:Seniors Cards - Mondays
DESCRIPTION:Euchre\, Crib (bring board)\, etc. Just drop in to play. Bring a friend. Contact Bob Routly 519-301-2118.
URL:https://tavistockon.ca/events/seniors-cards/2026-01-05/
LOCATION:Tavistock Memorial Hall\, 3 Adam Street\, Tavistock\, Ontario\, N0B 2R0\, Canada
CATEGORIES:Community Events
END:VEVENT
BEGIN:VEVENT
DTSTART;TZID=America/Toronto:20260106T103000
DTEND;TZID=America/Toronto:20260106T113000
DTSTAMP:20260422T190156
CREATED:20251016T155827Z
LAST-MODIFIED:20251016T155827Z
UID:10002488-1767695400-1767699000@tavistockon.ca
SUMMARY:VON Smart Seniors Exercise - Tuesdays
DESCRIPTION:Contact 519-539-1231 x 6285
URL:https://tavistockon.ca/events/von-smart-seniors-exercise-tuesdays/2026-01-06/
LOCATION:Village Manor\, 198 Woodstock Street S\, Tavistock\, Ontario\, N0B 2R0\, Canada
CATEGORIES:Community Events
END:VEVENT
BEGIN:VEVENT
DTSTART;TZID=UTC:20260107T083000
DTEND;TZID=UTC:20260107T120000
DTSTAMP:20260422T190156
CREATED:20241021T142803Z
LAST-MODIFIED:20260413T164629Z
UID:10001542-1767774600-1767787200@tavistockon.ca
SUMMARY:Community Walk & Social - Wednesdays
DESCRIPTION:For more information\, contact Larry Brown at 519-240-6715
URL:https://tavistockon.ca/events/community-walk-social-wednesdays/2026-01-07/
LOCATION:Tavistock Memorial Hall\, 3 Adam Street\, Tavistock\, Ontario\, N0B 2R0\, Canada
CATEGORIES:Community Events
END:VEVENT
BEGIN:VEVENT
DTSTART;TZID=America/Toronto:20260107T123000
DTEND;TZID=America/Toronto:20260107T160000
DTSTAMP:20260422T190156
CREATED:20251016T155334Z
LAST-MODIFIED:20260413T165650Z
UID:10002423-1767789000-1767801600@tavistockon.ca
SUMMARY:Shuffleboard - Wednesdays
DESCRIPTION:Contact Don Junker 519-535-7052
URL:https://tavistockon.ca/events/shuffleboard-wednesdays-2/2026-01-07/
LOCATION:Tavistock Arena\, 1 Adam Street\, Tavistock\, Ontario\, N0B 2R0\, Canada
CATEGORIES:Community Events
END:VEVENT
BEGIN:VEVENT
DTSTART;TZID=America/Toronto:20260107T130000
DTEND;TZID=America/Toronto:20260107T160000
DTSTAMP:20260422T190156
CREATED:20251016T154634Z
LAST-MODIFIED:20260413T164146Z
UID:10002327-1767790800-1767801600@tavistockon.ca
SUMMARY:Seniors Cards - Wednesdays
DESCRIPTION:Euchre\, Crib (bring board)\, etc. Just drop in to play. Bring a friend. Contact Bob Routly 519-301-2118.
URL:https://tavistockon.ca/events/seniors-cards-wednesdays/2026-01-07/
LOCATION:Tavistock Memorial Hall\, 3 Adam Street\, Tavistock\, Ontario\, N0B 2R0\, Canada
CATEGORIES:Community Events
END:VEVENT
BEGIN:VEVENT
DTSTART;TZID=America/Toronto:20260108T100000
DTEND;TZID=America/Toronto:20260108T160000
DTSTAMP:20260422T190156
CREATED:20251016T155501Z
LAST-MODIFIED:20260413T165427Z
UID:10002456-1767866400-1767888000@tavistockon.ca
SUMMARY:Shuffleboard - Thursdays
DESCRIPTION:Contact Don Junker 519-535-7052
URL:https://tavistockon.ca/events/shuffleboard-thursdays-2/2026-01-08/
LOCATION:Tavistock Arena\, 1 Adam Street\, Tavistock\, Ontario\, N0B 2R0\, Canada
CATEGORIES:Community Events
END:VEVENT
BEGIN:VEVENT
DTSTART;TZID=America/Toronto:20260108T103000
DTEND;TZID=America/Toronto:20260108T113000
DTSTAMP:20260422T190156
CREATED:20251016T155939Z
LAST-MODIFIED:20251016T155939Z
UID:10002521-1767868200-1767871800@tavistockon.ca
SUMMARY:VON Smart Seniors Exercise - Thursdays
DESCRIPTION:Contact 519-539-1231 x 6285
URL:https://tavistockon.ca/events/von-smart-seniors-exercise-thursdays/2026-01-08/
LOCATION:Village Manor\, 198 Woodstock Street S\, Tavistock\, Ontario\, N0B 2R0\, Canada
CATEGORIES:Community Events
END:VEVENT
BEGIN:VEVENT
DTSTART;TZID=UTC:20260109T083000
DTEND;TZID=UTC:20260109T233000
DTSTAMP:20260422T190156
CREATED:20240624T223207Z
LAST-MODIFIED:20240624T223207Z
UID:10000230-1767947400-1768001400@tavistockon.ca
SUMMARY:EarlyON Program
DESCRIPTION:Location: OUTDOOR PROGRAM: Queens Park\, Tavistock \nWho: Parents\, grandparents\, caregivers and children aged 0-6 years \nWhat to bring: Anything you may require to meet the needs of your child (diaper bag\, etc.). \nPlease Note: Parents are responsible for their children at all times while participating in our programs.  Please refrain from being on your phones while in program in order to attend to and engage with your child. \nProgram Description: Come play with us! The EarlyON Team will be traveling to your community and we hope you will join us in the park for songs\, rhymes\, stories\, and games!  Parents\, caregivers and grandparents with children aged 0-6 years (and their older siblings\, of course) are welcome to join us for this free drop-in program!  It is facilitated by qualified EarlyON Facilitators who are happy to answer questions about early learning and child development\, parenting topics\, and can provide additional information about other community programs and services. This is also an ideal opportunity for parents and caregivers to connect with others for social and community support.    \n\nProgram Cancellation: In the case that a program needs to be cancelled\, notices will be posted to Facebook and Instagram by 8:30 am on the day of the program.  Be sure to follow @oxfordearlyon for updates!
URL:https://tavistockon.ca/events/earlyon-program/2026-01-09/
LOCATION:Tavistock Memorial Hall\, 3 Adam Street\, Tavistock\, Ontario\, N0B 2R0\, Canada
END:VEVENT
BEGIN:VEVENT
DTSTART;TZID=UTC:20260112T083000
DTEND;TZID=UTC:20260112T120000
DTSTAMP:20260422T190156
CREATED:20241021T140856Z
LAST-MODIFIED:20260413T164511Z
UID:10001378-1768206600-1768219200@tavistockon.ca
SUMMARY:Community Walk & Social - Mondays
DESCRIPTION:For more information\, contact Larry Brown at 519-240-6715
URL:https://tavistockon.ca/events/community-walk-social-mondays-2/2026-01-12/
LOCATION:Tavistock Memorial Hall\, 3 Adam Street\, Tavistock\, Ontario\, N0B 2R0\, Canada
CATEGORIES:Community Events
END:VEVENT
BEGIN:VEVENT
DTSTART;TZID=America/Toronto:20260112T130000
DTEND;TZID=America/Toronto:20260112T160000
DTSTAMP:20260422T190156
CREATED:20251016T154500Z
LAST-MODIFIED:20251016T154530Z
UID:10002158-1768222800-1768233600@tavistockon.ca
SUMMARY:Seniors Cards - Mondays
DESCRIPTION:Euchre\, Crib (bring board)\, etc. Just drop in to play. Bring a friend. Contact Bob Routly 519-301-2118.
URL:https://tavistockon.ca/events/seniors-cards/2026-01-12/
LOCATION:Tavistock Memorial Hall\, 3 Adam Street\, Tavistock\, Ontario\, N0B 2R0\, Canada
CATEGORIES:Community Events
END:VEVENT
BEGIN:VEVENT
DTSTART;TZID=America/Toronto:20260113T103000
DTEND;TZID=America/Toronto:20260113T113000
DTSTAMP:20260422T190156
CREATED:20251016T155827Z
LAST-MODIFIED:20251016T155827Z
UID:10002489-1768300200-1768303800@tavistockon.ca
SUMMARY:VON Smart Seniors Exercise - Tuesdays
DESCRIPTION:Contact 519-539-1231 x 6285
URL:https://tavistockon.ca/events/von-smart-seniors-exercise-tuesdays/2026-01-13/
LOCATION:Village Manor\, 198 Woodstock Street S\, Tavistock\, Ontario\, N0B 2R0\, Canada
CATEGORIES:Community Events
END:VEVENT
BEGIN:VEVENT
DTSTART;TZID=UTC:20260114T083000
DTEND;TZID=UTC:20260114T120000
DTSTAMP:20260422T190156
CREATED:20241021T142803Z
LAST-MODIFIED:20260413T164629Z
UID:10001543-1768379400-1768392000@tavistockon.ca
SUMMARY:Community Walk & Social - Wednesdays
DESCRIPTION:For more information\, contact Larry Brown at 519-240-6715
URL:https://tavistockon.ca/events/community-walk-social-wednesdays/2026-01-14/
LOCATION:Tavistock Memorial Hall\, 3 Adam Street\, Tavistock\, Ontario\, N0B 2R0\, Canada
CATEGORIES:Community Events
END:VEVENT
BEGIN:VEVENT
DTSTART;TZID=America/Toronto:20260114T123000
DTEND;TZID=America/Toronto:20260114T160000
DTSTAMP:20260422T190156
CREATED:20251016T155334Z
LAST-MODIFIED:20260413T165650Z
UID:10002424-1768393800-1768406400@tavistockon.ca
SUMMARY:Shuffleboard - Wednesdays
DESCRIPTION:Contact Don Junker 519-535-7052
URL:https://tavistockon.ca/events/shuffleboard-wednesdays-2/2026-01-14/
LOCATION:Tavistock Arena\, 1 Adam Street\, Tavistock\, Ontario\, N0B 2R0\, Canada
CATEGORIES:Community Events
END:VEVENT
BEGIN:VEVENT
DTSTART;TZID=America/Toronto:20260114T130000
DTEND;TZID=America/Toronto:20260114T160000
DTSTAMP:20260422T190156
CREATED:20251016T154634Z
LAST-MODIFIED:20260413T164146Z
UID:10002328-1768395600-1768406400@tavistockon.ca
SUMMARY:Seniors Cards - Wednesdays
DESCRIPTION:Euchre\, Crib (bring board)\, etc. Just drop in to play. Bring a friend. Contact Bob Routly 519-301-2118.
URL:https://tavistockon.ca/events/seniors-cards-wednesdays/2026-01-14/
LOCATION:Tavistock Memorial Hall\, 3 Adam Street\, Tavistock\, Ontario\, N0B 2R0\, Canada
CATEGORIES:Community Events
END:VEVENT
BEGIN:VEVENT
DTSTART;TZID=America/Toronto:20260115T100000
DTEND;TZID=America/Toronto:20260115T160000
DTSTAMP:20260422T190156
CREATED:20251016T155501Z
LAST-MODIFIED:20260413T165427Z
UID:10002457-1768471200-1768492800@tavistockon.ca
SUMMARY:Shuffleboard - Thursdays
DESCRIPTION:Contact Don Junker 519-535-7052
URL:https://tavistockon.ca/events/shuffleboard-thursdays-2/2026-01-15/
LOCATION:Tavistock Arena\, 1 Adam Street\, Tavistock\, Ontario\, N0B 2R0\, Canada
CATEGORIES:Community Events
END:VEVENT
BEGIN:VEVENT
DTSTART;TZID=America/Toronto:20260115T103000
DTEND;TZID=America/Toronto:20260115T113000
DTSTAMP:20260422T190156
CREATED:20251016T155939Z
LAST-MODIFIED:20251016T155939Z
UID:10002522-1768473000-1768476600@tavistockon.ca
SUMMARY:VON Smart Seniors Exercise - Thursdays
DESCRIPTION:Contact 519-539-1231 x 6285
URL:https://tavistockon.ca/events/von-smart-seniors-exercise-thursdays/2026-01-15/
LOCATION:Village Manor\, 198 Woodstock Street S\, Tavistock\, Ontario\, N0B 2R0\, Canada
CATEGORIES:Community Events
END:VEVENT
BEGIN:VEVENT
DTSTART;TZID=UTC:20260116T083000
DTEND;TZID=UTC:20260116T233000
DTSTAMP:20260422T190156
CREATED:20240624T223207Z
LAST-MODIFIED:20240624T223207Z
UID:10000231-1768552200-1768606200@tavistockon.ca
SUMMARY:EarlyON Program
DESCRIPTION:Location: OUTDOOR PROGRAM: Queens Park\, Tavistock \nWho: Parents\, grandparents\, caregivers and children aged 0-6 years \nWhat to bring: Anything you may require to meet the needs of your child (diaper bag\, etc.). \nPlease Note: Parents are responsible for their children at all times while participating in our programs.  Please refrain from being on your phones while in program in order to attend to and engage with your child. \nProgram Description: Come play with us! The EarlyON Team will be traveling to your community and we hope you will join us in the park for songs\, rhymes\, stories\, and games!  Parents\, caregivers and grandparents with children aged 0-6 years (and their older siblings\, of course) are welcome to join us for this free drop-in program!  It is facilitated by qualified EarlyON Facilitators who are happy to answer questions about early learning and child development\, parenting topics\, and can provide additional information about other community programs and services. This is also an ideal opportunity for parents and caregivers to connect with others for social and community support.    \n\nProgram Cancellation: In the case that a program needs to be cancelled\, notices will be posted to Facebook and Instagram by 8:30 am on the day of the program.  Be sure to follow @oxfordearlyon for updates!
URL:https://tavistockon.ca/events/earlyon-program/2026-01-16/
LOCATION:Tavistock Memorial Hall\, 3 Adam Street\, Tavistock\, Ontario\, N0B 2R0\, Canada
END:VEVENT
BEGIN:VEVENT
DTSTART;TZID=America/Toronto:20260117T130000
DTEND;TZID=America/Toronto:20260117T160000
DTSTAMP:20260422T190156
CREATED:20241021T133737Z
LAST-MODIFIED:20250310T145206Z
UID:10001183-1768654800-1768665600@tavistockon.ca
SUMMARY:Tavistock & District Historical Society Museum Opening
DESCRIPTION:
URL:https://tavistockon.ca/events/tavistock-district-historical-society-museum-opening/2026-01-17/
LOCATION:Tavistock & District Historical Society Museum\, 37 Maria Street\, Tavistock\, Ontario\, N0B 2R0\, Canada
CATEGORIES:Community Events
END:VEVENT
BEGIN:VEVENT
DTSTART;TZID=UTC:20260119T083000
DTEND;TZID=UTC:20260119T120000
DTSTAMP:20260422T190156
CREATED:20241021T140856Z
LAST-MODIFIED:20260413T164511Z
UID:10001379-1768811400-1768824000@tavistockon.ca
SUMMARY:Community Walk & Social - Mondays
DESCRIPTION:For more information\, contact Larry Brown at 519-240-6715
URL:https://tavistockon.ca/events/community-walk-social-mondays-2/2026-01-19/
LOCATION:Tavistock Memorial Hall\, 3 Adam Street\, Tavistock\, Ontario\, N0B 2R0\, Canada
CATEGORIES:Community Events
END:VEVENT
BEGIN:VEVENT
DTSTART;TZID=America/Toronto:20260119T130000
DTEND;TZID=America/Toronto:20260119T160000
DTSTAMP:20260422T190156
CREATED:20251016T154500Z
LAST-MODIFIED:20251016T154530Z
UID:10002159-1768827600-1768838400@tavistockon.ca
SUMMARY:Seniors Cards - Mondays
DESCRIPTION:Euchre\, Crib (bring board)\, etc. Just drop in to play. Bring a friend. Contact Bob Routly 519-301-2118.
URL:https://tavistockon.ca/events/seniors-cards/2026-01-19/
LOCATION:Tavistock Memorial Hall\, 3 Adam Street\, Tavistock\, Ontario\, N0B 2R0\, Canada
CATEGORIES:Community Events
END:VEVENT
END:VCALENDAR