BEGIN:VCALENDAR
VERSION:2.0
PRODID:-//Tavistock ON CA - ECPv6.15.18//NONSGML v1.0//EN
CALSCALE:GREGORIAN
METHOD:PUBLISH
X-ORIGINAL-URL:https://tavistockon.ca
X-WR-CALDESC:Events for Tavistock ON CA
REFRESH-INTERVAL;VALUE=DURATION:PT1H
X-Robots-Tag:noindex
X-PUBLISHED-TTL:PT1H
BEGIN:VTIMEZONE
TZID:America/Toronto
BEGIN:DAYLIGHT
TZOFFSETFROM:-0500
TZOFFSETTO:-0400
TZNAME:EDT
DTSTART:20240310T070000
END:DAYLIGHT
BEGIN:STANDARD
TZOFFSETFROM:-0400
TZOFFSETTO:-0500
TZNAME:EST
DTSTART:20241103T060000
END:STANDARD
BEGIN:DAYLIGHT
TZOFFSETFROM:-0500
TZOFFSETTO:-0400
TZNAME:EDT
DTSTART:20250309T070000
END:DAYLIGHT
BEGIN:STANDARD
TZOFFSETFROM:-0400
TZOFFSETTO:-0500
TZNAME:EST
DTSTART:20251102T060000
END:STANDARD
BEGIN:DAYLIGHT
TZOFFSETFROM:-0500
TZOFFSETTO:-0400
TZNAME:EDT
DTSTART:20260308T070000
END:DAYLIGHT
BEGIN:STANDARD
TZOFFSETFROM:-0400
TZOFFSETTO:-0500
TZNAME:EST
DTSTART:20261101T060000
END:STANDARD
END:VTIMEZONE
BEGIN:VTIMEZONE
TZID:UTC
BEGIN:STANDARD
TZOFFSETFROM:+0000
TZOFFSETTO:+0000
TZNAME:UTC
DTSTART:20240101T000000
END:STANDARD
END:VTIMEZONE
BEGIN:VEVENT
DTSTART;TZID=America/Toronto:20251210T130000
DTEND;TZID=America/Toronto:20251210T160000
DTSTAMP:20260421T225009
CREATED:20251016T154634Z
LAST-MODIFIED:20260413T164146Z
UID:10002323-1765371600-1765382400@tavistockon.ca
SUMMARY:Seniors Cards - Wednesdays
DESCRIPTION:Euchre\, Crib (bring board)\, etc. Just drop in to play. Bring a friend. Contact Bob Routly 519-301-2118.
URL:https://tavistockon.ca/events/seniors-cards-wednesdays/2025-12-10/
LOCATION:Tavistock Memorial Hall\, 3 Adam Street\, Tavistock\, Ontario\, N0B 2R0\, Canada
CATEGORIES:Community Events
END:VEVENT
BEGIN:VEVENT
DTSTART;TZID=America/Toronto:20251211T100000
DTEND;TZID=America/Toronto:20251211T160000
DTSTAMP:20260421T225009
CREATED:20251016T155501Z
LAST-MODIFIED:20260413T165427Z
UID:10002452-1765447200-1765468800@tavistockon.ca
SUMMARY:Shuffleboard - Thursdays
DESCRIPTION:Contact Don Junker 519-535-7052
URL:https://tavistockon.ca/events/shuffleboard-thursdays-2/2025-12-11/
LOCATION:Tavistock Arena\, 1 Adam Street\, Tavistock\, Ontario\, N0B 2R0\, Canada
CATEGORIES:Community Events
END:VEVENT
BEGIN:VEVENT
DTSTART;TZID=America/Toronto:20251211T103000
DTEND;TZID=America/Toronto:20251211T113000
DTSTAMP:20260421T225009
CREATED:20251016T155939Z
LAST-MODIFIED:20251016T155939Z
UID:10002517-1765449000-1765452600@tavistockon.ca
SUMMARY:VON Smart Seniors Exercise - Thursdays
DESCRIPTION:Contact 519-539-1231 x 6285
URL:https://tavistockon.ca/events/von-smart-seniors-exercise-thursdays/2025-12-11/
LOCATION:Village Manor\, 198 Woodstock Street S\, Tavistock\, Ontario\, N0B 2R0\, Canada
CATEGORIES:Community Events
END:VEVENT
BEGIN:VEVENT
DTSTART;TZID=America/Toronto:20251211T120000
DTEND;TZID=America/Toronto:20251211T130000
DTSTAMP:20260421T225009
CREATED:20251103T164006Z
LAST-MODIFIED:20251103T164006Z
UID:10002545-1765454400-1765458000@tavistockon.ca
SUMMARY:Fellowship Lunch - Dec 11
DESCRIPTION:Have Lunch with a neighbour! | Stay for entertainment\, speakers\,  music or activities. | Trinity Church in Sebastopol. | Christmas Music by East Zorra Friends | Cost: free will offering.
URL:https://tavistockon.ca/events/fellowship-lunch-dec-11/
LOCATION:Trinity Lutheran Church\, 2210 Line 29\, Tavistock\, Ontario\, N0B 2R0\, Canada
CATEGORIES:Community Events
ATTACH;FMTTYPE=image/jpeg:https://tavistockon.ca/wp-content/uploads/2025/11/Fellowship-Lunch.jpeg
END:VEVENT
BEGIN:VEVENT
DTSTART;TZID=UTC:20251212T083000
DTEND;TZID=UTC:20251212T233000
DTSTAMP:20260421T225009
CREATED:20240624T223207Z
LAST-MODIFIED:20240624T223207Z
UID:10000226-1765528200-1765582200@tavistockon.ca
SUMMARY:EarlyON Program
DESCRIPTION:Location: OUTDOOR PROGRAM: Queens Park\, Tavistock \nWho: Parents\, grandparents\, caregivers and children aged 0-6 years \nWhat to bring: Anything you may require to meet the needs of your child (diaper bag\, etc.). \nPlease Note: Parents are responsible for their children at all times while participating in our programs.  Please refrain from being on your phones while in program in order to attend to and engage with your child. \nProgram Description: Come play with us! The EarlyON Team will be traveling to your community and we hope you will join us in the park for songs\, rhymes\, stories\, and games!  Parents\, caregivers and grandparents with children aged 0-6 years (and their older siblings\, of course) are welcome to join us for this free drop-in program!  It is facilitated by qualified EarlyON Facilitators who are happy to answer questions about early learning and child development\, parenting topics\, and can provide additional information about other community programs and services. This is also an ideal opportunity for parents and caregivers to connect with others for social and community support.    \n\nProgram Cancellation: In the case that a program needs to be cancelled\, notices will be posted to Facebook and Instagram by 8:30 am on the day of the program.  Be sure to follow @oxfordearlyon for updates!
URL:https://tavistockon.ca/events/earlyon-program/2025-12-12/
LOCATION:Tavistock Memorial Hall\, 3 Adam Street\, Tavistock\, Ontario\, N0B 2R0\, Canada
END:VEVENT
BEGIN:VEVENT
DTSTART;TZID=America/Toronto:20251212T180000
DTEND;TZID=America/Toronto:20251212T223000
DTSTAMP:20260421T225009
CREATED:20251113T204947Z
LAST-MODIFIED:20251113T210541Z
UID:10002556-1765562400-1765578600@tavistockon.ca
SUMMARY:Festival of Lights
DESCRIPTION:Donations of food\, clothing\, and money will be accepted for local organizations in Oxford and Perth counties to support the homeless.
URL:https://tavistockon.ca/events/festival-of-lights-7/
LOCATION:Tavistock Queen’s Park\, 1 Adam Street\, Tavistock\, Ontario\, N0B 2R0\, Canada
CATEGORIES:Tavistock Ag Society
ATTACH;FMTTYPE=image/png:https://tavistockon.ca/wp-content/uploads/2025/11/Festival-of-Lights.png
END:VEVENT
BEGIN:VEVENT
DTSTART;TZID=America/Toronto:20251213T180000
DTEND;TZID=America/Toronto:20251213T223000
DTSTAMP:20260421T225009
CREATED:20251113T205109Z
LAST-MODIFIED:20251113T210608Z
UID:10002558-1765648800-1765665000@tavistockon.ca
SUMMARY:Festival of Lights
DESCRIPTION:Donations of food\, clothing\, and money will be accepted for local organizations in Oxford and Perth counties to support the homeless.
URL:https://tavistockon.ca/events/festival-of-lights-9/
LOCATION:Tavistock Queen’s Park\, 1 Adam Street\, Tavistock\, Ontario\, N0B 2R0\, Canada
CATEGORIES:Tavistock Ag Society
ATTACH;FMTTYPE=image/png:https://tavistockon.ca/wp-content/uploads/2025/11/Festival-of-Lights.png
END:VEVENT
BEGIN:VEVENT
DTSTART;TZID=America/Toronto:20251214T150000
DTEND;TZID=America/Toronto:20251214T160000
DTSTAMP:20260421T225009
CREATED:20251127T172336Z
LAST-MODIFIED:20251127T172336Z
UID:10002559-1765724400-1765728000@tavistockon.ca
SUMMARY:Tavistock Opti-Mrs Free Skate
DESCRIPTION:
URL:https://tavistockon.ca/events/tavistock-opti-mrs-free-skate/
LOCATION:Tavistock Arena\, 1 Adam Street\, Tavistock\, Ontario\, N0B 2R0\, Canada
CATEGORIES:Tavistock Opti-Mrs
ORGANIZER;CN="Tavistock Opti-Mrs":MAILTO:tavistockoptimrs@gmail.com
END:VEVENT
BEGIN:VEVENT
DTSTART;TZID=UTC:20251215T083000
DTEND;TZID=UTC:20251215T120000
DTSTAMP:20260421T225009
CREATED:20241021T140856Z
LAST-MODIFIED:20260413T164511Z
UID:10001374-1765787400-1765800000@tavistockon.ca
SUMMARY:Community Walk & Social - Mondays
DESCRIPTION:For more information\, contact Larry Brown at 519-240-6715
URL:https://tavistockon.ca/events/community-walk-social-mondays-2/2025-12-15/
LOCATION:Tavistock Memorial Hall\, 3 Adam Street\, Tavistock\, Ontario\, N0B 2R0\, Canada
CATEGORIES:Community Events
END:VEVENT
BEGIN:VEVENT
DTSTART;TZID=America/Toronto:20251215T130000
DTEND;TZID=America/Toronto:20251215T160000
DTSTAMP:20260421T225009
CREATED:20251016T154500Z
LAST-MODIFIED:20251016T154530Z
UID:10002154-1765803600-1765814400@tavistockon.ca
SUMMARY:Seniors Cards - Mondays
DESCRIPTION:Euchre\, Crib (bring board)\, etc. Just drop in to play. Bring a friend. Contact Bob Routly 519-301-2118.
URL:https://tavistockon.ca/events/seniors-cards/2025-12-15/
LOCATION:Tavistock Memorial Hall\, 3 Adam Street\, Tavistock\, Ontario\, N0B 2R0\, Canada
CATEGORIES:Community Events
END:VEVENT
BEGIN:VEVENT
DTSTART;TZID=America/Toronto:20251216T103000
DTEND;TZID=America/Toronto:20251216T113000
DTSTAMP:20260421T225009
CREATED:20251016T155827Z
LAST-MODIFIED:20251016T155827Z
UID:10002485-1765881000-1765884600@tavistockon.ca
SUMMARY:VON Smart Seniors Exercise - Tuesdays
DESCRIPTION:Contact 519-539-1231 x 6285
URL:https://tavistockon.ca/events/von-smart-seniors-exercise-tuesdays/2025-12-16/
LOCATION:Village Manor\, 198 Woodstock Street S\, Tavistock\, Ontario\, N0B 2R0\, Canada
CATEGORIES:Community Events
END:VEVENT
BEGIN:VEVENT
DTSTART;TZID=UTC:20251217T083000
DTEND;TZID=UTC:20251217T120000
DTSTAMP:20260421T225009
CREATED:20241021T142803Z
LAST-MODIFIED:20260413T164629Z
UID:10001539-1765960200-1765972800@tavistockon.ca
SUMMARY:Community Walk & Social - Wednesdays
DESCRIPTION:For more information\, contact Larry Brown at 519-240-6715
URL:https://tavistockon.ca/events/community-walk-social-wednesdays/2025-12-17/
LOCATION:Tavistock Memorial Hall\, 3 Adam Street\, Tavistock\, Ontario\, N0B 2R0\, Canada
CATEGORIES:Community Events
END:VEVENT
BEGIN:VEVENT
DTSTART;TZID=America/Toronto:20251217T123000
DTEND;TZID=America/Toronto:20251217T160000
DTSTAMP:20260421T225009
CREATED:20251016T155334Z
LAST-MODIFIED:20260413T165650Z
UID:10002420-1765974600-1765987200@tavistockon.ca
SUMMARY:Shuffleboard - Wednesdays
DESCRIPTION:Contact Don Junker 519-535-7052
URL:https://tavistockon.ca/events/shuffleboard-wednesdays-2/2025-12-17/
LOCATION:Tavistock Arena\, 1 Adam Street\, Tavistock\, Ontario\, N0B 2R0\, Canada
CATEGORIES:Community Events
END:VEVENT
BEGIN:VEVENT
DTSTART;TZID=America/Toronto:20251217T130000
DTEND;TZID=America/Toronto:20251217T160000
DTSTAMP:20260421T225009
CREATED:20251016T154634Z
LAST-MODIFIED:20260413T164146Z
UID:10002324-1765976400-1765987200@tavistockon.ca
SUMMARY:Seniors Cards - Wednesdays
DESCRIPTION:Euchre\, Crib (bring board)\, etc. Just drop in to play. Bring a friend. Contact Bob Routly 519-301-2118.
URL:https://tavistockon.ca/events/seniors-cards-wednesdays/2025-12-17/
LOCATION:Tavistock Memorial Hall\, 3 Adam Street\, Tavistock\, Ontario\, N0B 2R0\, Canada
CATEGORIES:Community Events
END:VEVENT
BEGIN:VEVENT
DTSTART;TZID=America/Toronto:20251218T100000
DTEND;TZID=America/Toronto:20251218T160000
DTSTAMP:20260421T225009
CREATED:20251016T155501Z
LAST-MODIFIED:20260413T165427Z
UID:10002453-1766052000-1766073600@tavistockon.ca
SUMMARY:Shuffleboard - Thursdays
DESCRIPTION:Contact Don Junker 519-535-7052
URL:https://tavistockon.ca/events/shuffleboard-thursdays-2/2025-12-18/
LOCATION:Tavistock Arena\, 1 Adam Street\, Tavistock\, Ontario\, N0B 2R0\, Canada
CATEGORIES:Community Events
END:VEVENT
BEGIN:VEVENT
DTSTART;TZID=America/Toronto:20251218T103000
DTEND;TZID=America/Toronto:20251218T113000
DTSTAMP:20260421T225009
CREATED:20251016T155939Z
LAST-MODIFIED:20251016T155939Z
UID:10002518-1766053800-1766057400@tavistockon.ca
SUMMARY:VON Smart Seniors Exercise - Thursdays
DESCRIPTION:Contact 519-539-1231 x 6285
URL:https://tavistockon.ca/events/von-smart-seniors-exercise-thursdays/2025-12-18/
LOCATION:Village Manor\, 198 Woodstock Street S\, Tavistock\, Ontario\, N0B 2R0\, Canada
CATEGORIES:Community Events
END:VEVENT
BEGIN:VEVENT
DTSTART;TZID=UTC:20251219T083000
DTEND;TZID=UTC:20251219T233000
DTSTAMP:20260421T225009
CREATED:20240624T223207Z
LAST-MODIFIED:20240624T223207Z
UID:10000227-1766133000-1766187000@tavistockon.ca
SUMMARY:EarlyON Program
DESCRIPTION:Location: OUTDOOR PROGRAM: Queens Park\, Tavistock \nWho: Parents\, grandparents\, caregivers and children aged 0-6 years \nWhat to bring: Anything you may require to meet the needs of your child (diaper bag\, etc.). \nPlease Note: Parents are responsible for their children at all times while participating in our programs.  Please refrain from being on your phones while in program in order to attend to and engage with your child. \nProgram Description: Come play with us! The EarlyON Team will be traveling to your community and we hope you will join us in the park for songs\, rhymes\, stories\, and games!  Parents\, caregivers and grandparents with children aged 0-6 years (and their older siblings\, of course) are welcome to join us for this free drop-in program!  It is facilitated by qualified EarlyON Facilitators who are happy to answer questions about early learning and child development\, parenting topics\, and can provide additional information about other community programs and services. This is also an ideal opportunity for parents and caregivers to connect with others for social and community support.    \n\nProgram Cancellation: In the case that a program needs to be cancelled\, notices will be posted to Facebook and Instagram by 8:30 am on the day of the program.  Be sure to follow @oxfordearlyon for updates!
URL:https://tavistockon.ca/events/earlyon-program/2025-12-19/
LOCATION:Tavistock Memorial Hall\, 3 Adam Street\, Tavistock\, Ontario\, N0B 2R0\, Canada
END:VEVENT
BEGIN:VEVENT
DTSTART;TZID=America/Toronto:20251220T130000
DTEND;TZID=America/Toronto:20251220T160000
DTSTAMP:20260421T225009
CREATED:20241021T133737Z
LAST-MODIFIED:20250310T145206Z
UID:10001182-1766235600-1766246400@tavistockon.ca
SUMMARY:Tavistock & District Historical Society Museum Opening
DESCRIPTION:
URL:https://tavistockon.ca/events/tavistock-district-historical-society-museum-opening/2025-12-20/
LOCATION:Tavistock & District Historical Society Museum\, 37 Maria Street\, Tavistock\, Ontario\, N0B 2R0\, Canada
CATEGORIES:Community Events
END:VEVENT
BEGIN:VEVENT
DTSTART;TZID=UTC:20251222T083000
DTEND;TZID=UTC:20251222T120000
DTSTAMP:20260421T225009
CREATED:20241021T140856Z
LAST-MODIFIED:20260413T164511Z
UID:10001375-1766392200-1766404800@tavistockon.ca
SUMMARY:Community Walk & Social - Mondays
DESCRIPTION:For more information\, contact Larry Brown at 519-240-6715
URL:https://tavistockon.ca/events/community-walk-social-mondays-2/2025-12-22/
LOCATION:Tavistock Memorial Hall\, 3 Adam Street\, Tavistock\, Ontario\, N0B 2R0\, Canada
CATEGORIES:Community Events
END:VEVENT
BEGIN:VEVENT
DTSTART;TZID=America/Toronto:20251222T130000
DTEND;TZID=America/Toronto:20251222T160000
DTSTAMP:20260421T225009
CREATED:20251016T154500Z
LAST-MODIFIED:20251016T154530Z
UID:10002155-1766408400-1766419200@tavistockon.ca
SUMMARY:Seniors Cards - Mondays
DESCRIPTION:Euchre\, Crib (bring board)\, etc. Just drop in to play. Bring a friend. Contact Bob Routly 519-301-2118.
URL:https://tavistockon.ca/events/seniors-cards/2025-12-22/
LOCATION:Tavistock Memorial Hall\, 3 Adam Street\, Tavistock\, Ontario\, N0B 2R0\, Canada
CATEGORIES:Community Events
END:VEVENT
BEGIN:VEVENT
DTSTART;TZID=America/Toronto:20251223T103000
DTEND;TZID=America/Toronto:20251223T113000
DTSTAMP:20260421T225009
CREATED:20251016T155827Z
LAST-MODIFIED:20251016T155827Z
UID:10002486-1766485800-1766489400@tavistockon.ca
SUMMARY:VON Smart Seniors Exercise - Tuesdays
DESCRIPTION:Contact 519-539-1231 x 6285
URL:https://tavistockon.ca/events/von-smart-seniors-exercise-tuesdays/2025-12-23/
LOCATION:Village Manor\, 198 Woodstock Street S\, Tavistock\, Ontario\, N0B 2R0\, Canada
CATEGORIES:Community Events
END:VEVENT
BEGIN:VEVENT
DTSTART;TZID=UTC:20251224T083000
DTEND;TZID=UTC:20251224T120000
DTSTAMP:20260421T225009
CREATED:20241021T142803Z
LAST-MODIFIED:20260413T164629Z
UID:10001540-1766565000-1766577600@tavistockon.ca
SUMMARY:Community Walk & Social - Wednesdays
DESCRIPTION:For more information\, contact Larry Brown at 519-240-6715
URL:https://tavistockon.ca/events/community-walk-social-wednesdays/2025-12-24/
LOCATION:Tavistock Memorial Hall\, 3 Adam Street\, Tavistock\, Ontario\, N0B 2R0\, Canada
CATEGORIES:Community Events
END:VEVENT
BEGIN:VEVENT
DTSTART;TZID=America/Toronto:20251224T123000
DTEND;TZID=America/Toronto:20251224T160000
DTSTAMP:20260421T225009
CREATED:20251016T155334Z
LAST-MODIFIED:20260413T165650Z
UID:10002421-1766579400-1766592000@tavistockon.ca
SUMMARY:Shuffleboard - Wednesdays
DESCRIPTION:Contact Don Junker 519-535-7052
URL:https://tavistockon.ca/events/shuffleboard-wednesdays-2/2025-12-24/
LOCATION:Tavistock Arena\, 1 Adam Street\, Tavistock\, Ontario\, N0B 2R0\, Canada
CATEGORIES:Community Events
END:VEVENT
BEGIN:VEVENT
DTSTART;TZID=America/Toronto:20251224T130000
DTEND;TZID=America/Toronto:20251224T160000
DTSTAMP:20260421T225009
CREATED:20251016T154634Z
LAST-MODIFIED:20260413T164146Z
UID:10002325-1766581200-1766592000@tavistockon.ca
SUMMARY:Seniors Cards - Wednesdays
DESCRIPTION:Euchre\, Crib (bring board)\, etc. Just drop in to play. Bring a friend. Contact Bob Routly 519-301-2118.
URL:https://tavistockon.ca/events/seniors-cards-wednesdays/2025-12-24/
LOCATION:Tavistock Memorial Hall\, 3 Adam Street\, Tavistock\, Ontario\, N0B 2R0\, Canada
CATEGORIES:Community Events
END:VEVENT
BEGIN:VEVENT
DTSTART;TZID=America/Toronto:20251225T100000
DTEND;TZID=America/Toronto:20251225T160000
DTSTAMP:20260421T225009
CREATED:20251016T155501Z
LAST-MODIFIED:20260413T165427Z
UID:10002454-1766656800-1766678400@tavistockon.ca
SUMMARY:Shuffleboard - Thursdays
DESCRIPTION:Contact Don Junker 519-535-7052
URL:https://tavistockon.ca/events/shuffleboard-thursdays-2/2025-12-25/
LOCATION:Tavistock Arena\, 1 Adam Street\, Tavistock\, Ontario\, N0B 2R0\, Canada
CATEGORIES:Community Events
END:VEVENT
BEGIN:VEVENT
DTSTART;TZID=America/Toronto:20251225T103000
DTEND;TZID=America/Toronto:20251225T113000
DTSTAMP:20260421T225009
CREATED:20251016T155939Z
LAST-MODIFIED:20251016T155939Z
UID:10002519-1766658600-1766662200@tavistockon.ca
SUMMARY:VON Smart Seniors Exercise - Thursdays
DESCRIPTION:Contact 519-539-1231 x 6285
URL:https://tavistockon.ca/events/von-smart-seniors-exercise-thursdays/2025-12-25/
LOCATION:Village Manor\, 198 Woodstock Street S\, Tavistock\, Ontario\, N0B 2R0\, Canada
CATEGORIES:Community Events
END:VEVENT
BEGIN:VEVENT
DTSTART;TZID=UTC:20251226T083000
DTEND;TZID=UTC:20251226T233000
DTSTAMP:20260421T225009
CREATED:20240624T223207Z
LAST-MODIFIED:20240624T223207Z
UID:10000228-1766737800-1766791800@tavistockon.ca
SUMMARY:EarlyON Program
DESCRIPTION:Location: OUTDOOR PROGRAM: Queens Park\, Tavistock \nWho: Parents\, grandparents\, caregivers and children aged 0-6 years \nWhat to bring: Anything you may require to meet the needs of your child (diaper bag\, etc.). \nPlease Note: Parents are responsible for their children at all times while participating in our programs.  Please refrain from being on your phones while in program in order to attend to and engage with your child. \nProgram Description: Come play with us! The EarlyON Team will be traveling to your community and we hope you will join us in the park for songs\, rhymes\, stories\, and games!  Parents\, caregivers and grandparents with children aged 0-6 years (and their older siblings\, of course) are welcome to join us for this free drop-in program!  It is facilitated by qualified EarlyON Facilitators who are happy to answer questions about early learning and child development\, parenting topics\, and can provide additional information about other community programs and services. This is also an ideal opportunity for parents and caregivers to connect with others for social and community support.    \n\nProgram Cancellation: In the case that a program needs to be cancelled\, notices will be posted to Facebook and Instagram by 8:30 am on the day of the program.  Be sure to follow @oxfordearlyon for updates!
URL:https://tavistockon.ca/events/earlyon-program/2025-12-26/
LOCATION:Tavistock Memorial Hall\, 3 Adam Street\, Tavistock\, Ontario\, N0B 2R0\, Canada
END:VEVENT
BEGIN:VEVENT
DTSTART;TZID=UTC:20251229T083000
DTEND;TZID=UTC:20251229T120000
DTSTAMP:20260421T225009
CREATED:20241021T140856Z
LAST-MODIFIED:20260413T164511Z
UID:10001376-1766997000-1767009600@tavistockon.ca
SUMMARY:Community Walk & Social - Mondays
DESCRIPTION:For more information\, contact Larry Brown at 519-240-6715
URL:https://tavistockon.ca/events/community-walk-social-mondays-2/2025-12-29/
LOCATION:Tavistock Memorial Hall\, 3 Adam Street\, Tavistock\, Ontario\, N0B 2R0\, Canada
CATEGORIES:Community Events
END:VEVENT
BEGIN:VEVENT
DTSTART;TZID=America/Toronto:20251229T130000
DTEND;TZID=America/Toronto:20251229T160000
DTSTAMP:20260421T225009
CREATED:20251016T154500Z
LAST-MODIFIED:20251016T154530Z
UID:10002156-1767013200-1767024000@tavistockon.ca
SUMMARY:Seniors Cards - Mondays
DESCRIPTION:Euchre\, Crib (bring board)\, etc. Just drop in to play. Bring a friend. Contact Bob Routly 519-301-2118.
URL:https://tavistockon.ca/events/seniors-cards/2025-12-29/
LOCATION:Tavistock Memorial Hall\, 3 Adam Street\, Tavistock\, Ontario\, N0B 2R0\, Canada
CATEGORIES:Community Events
END:VEVENT
BEGIN:VEVENT
DTSTART;TZID=America/Toronto:20251230T103000
DTEND;TZID=America/Toronto:20251230T113000
DTSTAMP:20260421T225009
CREATED:20251016T155827Z
LAST-MODIFIED:20251016T155827Z
UID:10002487-1767090600-1767094200@tavistockon.ca
SUMMARY:VON Smart Seniors Exercise - Tuesdays
DESCRIPTION:Contact 519-539-1231 x 6285
URL:https://tavistockon.ca/events/von-smart-seniors-exercise-tuesdays/2025-12-30/
LOCATION:Village Manor\, 198 Woodstock Street S\, Tavistock\, Ontario\, N0B 2R0\, Canada
CATEGORIES:Community Events
END:VEVENT
END:VCALENDAR