BEGIN:VCALENDAR
VERSION:2.0
PRODID:-//Tavistock ON CA - ECPv6.15.18//NONSGML v1.0//EN
CALSCALE:GREGORIAN
METHOD:PUBLISH
X-WR-CALNAME:Tavistock ON CA
X-ORIGINAL-URL:https://tavistockon.ca
X-WR-CALDESC:Events for Tavistock ON CA
REFRESH-INTERVAL;VALUE=DURATION:PT1H
X-Robots-Tag:noindex
X-PUBLISHED-TTL:PT1H
BEGIN:VTIMEZONE
TZID:UTC
BEGIN:STANDARD
TZOFFSETFROM:+0000
TZOFFSETTO:+0000
TZNAME:UTC
DTSTART:20240101T000000
END:STANDARD
END:VTIMEZONE
BEGIN:VTIMEZONE
TZID:America/Toronto
BEGIN:DAYLIGHT
TZOFFSETFROM:-0500
TZOFFSETTO:-0400
TZNAME:EDT
DTSTART:20240310T070000
END:DAYLIGHT
BEGIN:STANDARD
TZOFFSETFROM:-0400
TZOFFSETTO:-0500
TZNAME:EST
DTSTART:20241103T060000
END:STANDARD
BEGIN:DAYLIGHT
TZOFFSETFROM:-0500
TZOFFSETTO:-0400
TZNAME:EDT
DTSTART:20250309T070000
END:DAYLIGHT
BEGIN:STANDARD
TZOFFSETFROM:-0400
TZOFFSETTO:-0500
TZNAME:EST
DTSTART:20251102T060000
END:STANDARD
BEGIN:DAYLIGHT
TZOFFSETFROM:-0500
TZOFFSETTO:-0400
TZNAME:EDT
DTSTART:20260308T070000
END:DAYLIGHT
BEGIN:STANDARD
TZOFFSETFROM:-0400
TZOFFSETTO:-0500
TZNAME:EST
DTSTART:20261101T060000
END:STANDARD
END:VTIMEZONE
BEGIN:VEVENT
DTSTART;TZID=UTC:20250509T083000
DTEND;TZID=UTC:20250509T233000
DTSTAMP:20260421T014102
CREATED:20240624T223207Z
LAST-MODIFIED:20240624T223207Z
UID:10000195-1746779400-1746833400@tavistockon.ca
SUMMARY:EarlyON Program
DESCRIPTION:Location: OUTDOOR PROGRAM: Queens Park\, Tavistock \nWho: Parents\, grandparents\, caregivers and children aged 0-6 years \nWhat to bring: Anything you may require to meet the needs of your child (diaper bag\, etc.). \nPlease Note: Parents are responsible for their children at all times while participating in our programs.  Please refrain from being on your phones while in program in order to attend to and engage with your child. \nProgram Description: Come play with us! The EarlyON Team will be traveling to your community and we hope you will join us in the park for songs\, rhymes\, stories\, and games!  Parents\, caregivers and grandparents with children aged 0-6 years (and their older siblings\, of course) are welcome to join us for this free drop-in program!  It is facilitated by qualified EarlyON Facilitators who are happy to answer questions about early learning and child development\, parenting topics\, and can provide additional information about other community programs and services. This is also an ideal opportunity for parents and caregivers to connect with others for social and community support.    \n\nProgram Cancellation: In the case that a program needs to be cancelled\, notices will be posted to Facebook and Instagram by 8:30 am on the day of the program.  Be sure to follow @oxfordearlyon for updates!
URL:https://tavistockon.ca/events/earlyon-program/2025-05-09/
LOCATION:Tavistock Memorial Hall\, 3 Adam Street\, Tavistock\, Ontario\, N0B 2R0\, Canada
END:VEVENT
BEGIN:VEVENT
DTSTART;TZID=UTC:20250509T120000
DTEND;TZID=UTC:20250509T160000
DTSTAMP:20260421T014102
CREATED:20240624T232120Z
LAST-MODIFIED:20251016T153739Z
UID:10002142-1746792000-1746806400@tavistockon.ca
SUMMARY:Community Pickleball - Friday
DESCRIPTION:For more information\, contact Don Junker @ 519-535-7052
URL:https://tavistockon.ca/events/community-pickleball-friday/2025-05-09/
LOCATION:Ontario
CATEGORIES:Community Events
END:VEVENT
BEGIN:VEVENT
DTSTART;TZID=UTC:20250512T083000
DTEND;TZID=UTC:20250512T120000
DTSTAMP:20260421T014102
CREATED:20241021T140856Z
LAST-MODIFIED:20260413T164511Z
UID:10001343-1747038600-1747051200@tavistockon.ca
SUMMARY:Community Walk & Social - Mondays
DESCRIPTION:For more information\, contact Larry Brown at 519-240-6715
URL:https://tavistockon.ca/events/community-walk-social-mondays-2/2025-05-12/
LOCATION:Tavistock Memorial Hall\, 3 Adam Street\, Tavistock\, Ontario\, N0B 2R0\, Canada
CATEGORIES:Community Events
END:VEVENT
BEGIN:VEVENT
DTSTART;TZID=UTC:20250512T120000
DTEND;TZID=UTC:20250512T160000
DTSTAMP:20260421T014102
CREATED:20240624T231632Z
LAST-MODIFIED:20251016T153638Z
UID:10000973-1747051200-1747065600@tavistockon.ca
SUMMARY:Community Pickleball - Monday
DESCRIPTION:For more information\, contact Don Junker @ 519-535-7052
URL:https://tavistockon.ca/events/community-pickleball-monday/2025-05-12/
LOCATION:Tavistock Memorial Hall\, 3 Adam Street\, Tavistock\, Ontario\, N0B 2R0\, Canada
CATEGORIES:Community Events
END:VEVENT
BEGIN:VEVENT
DTSTART;TZID=UTC:20250514T083000
DTEND;TZID=UTC:20250514T120000
DTSTAMP:20260421T014102
CREATED:20241021T142803Z
LAST-MODIFIED:20260413T164629Z
UID:10001508-1747211400-1747224000@tavistockon.ca
SUMMARY:Community Walk & Social - Wednesdays
DESCRIPTION:For more information\, contact Larry Brown at 519-240-6715
URL:https://tavistockon.ca/events/community-walk-social-wednesdays/2025-05-14/
LOCATION:Tavistock Memorial Hall\, 3 Adam Street\, Tavistock\, Ontario\, N0B 2R0\, Canada
CATEGORIES:Community Events
END:VEVENT
BEGIN:VEVENT
DTSTART;TZID=UTC:20250514T120000
DTEND;TZID=UTC:20250514T160000
DTSTAMP:20260421T014102
CREATED:20240624T231744Z
LAST-MODIFIED:20251016T153659Z
UID:10001022-1747224000-1747238400@tavistockon.ca
SUMMARY:Community Pickleball - Wednesday
DESCRIPTION:For more information\, contact Don Junker @ 519-535-7052
URL:https://tavistockon.ca/events/community-pickleball-wednesday/2025-05-14/
LOCATION:Tavistock Memorial Hall\, 3 Adam Street\, Tavistock\, Ontario\, N0B 2R0\, Canada
CATEGORIES:Community Events
END:VEVENT
BEGIN:VEVENT
DTSTART;TZID=UTC:20250516T083000
DTEND;TZID=UTC:20250516T233000
DTSTAMP:20260421T014102
CREATED:20240624T223207Z
LAST-MODIFIED:20240624T223207Z
UID:10000196-1747384200-1747438200@tavistockon.ca
SUMMARY:EarlyON Program
DESCRIPTION:Location: OUTDOOR PROGRAM: Queens Park\, Tavistock \nWho: Parents\, grandparents\, caregivers and children aged 0-6 years \nWhat to bring: Anything you may require to meet the needs of your child (diaper bag\, etc.). \nPlease Note: Parents are responsible for their children at all times while participating in our programs.  Please refrain from being on your phones while in program in order to attend to and engage with your child. \nProgram Description: Come play with us! The EarlyON Team will be traveling to your community and we hope you will join us in the park for songs\, rhymes\, stories\, and games!  Parents\, caregivers and grandparents with children aged 0-6 years (and their older siblings\, of course) are welcome to join us for this free drop-in program!  It is facilitated by qualified EarlyON Facilitators who are happy to answer questions about early learning and child development\, parenting topics\, and can provide additional information about other community programs and services. This is also an ideal opportunity for parents and caregivers to connect with others for social and community support.    \n\nProgram Cancellation: In the case that a program needs to be cancelled\, notices will be posted to Facebook and Instagram by 8:30 am on the day of the program.  Be sure to follow @oxfordearlyon for updates!
URL:https://tavistockon.ca/events/earlyon-program/2025-05-16/
LOCATION:Tavistock Memorial Hall\, 3 Adam Street\, Tavistock\, Ontario\, N0B 2R0\, Canada
END:VEVENT
BEGIN:VEVENT
DTSTART;TZID=UTC:20250516T120000
DTEND;TZID=UTC:20250516T160000
DTSTAMP:20260421T014102
CREATED:20240624T232120Z
LAST-MODIFIED:20251016T153739Z
UID:10002143-1747396800-1747411200@tavistockon.ca
SUMMARY:Community Pickleball - Friday
DESCRIPTION:For more information\, contact Don Junker @ 519-535-7052
URL:https://tavistockon.ca/events/community-pickleball-friday/2025-05-16/
LOCATION:Ontario
CATEGORIES:Community Events
END:VEVENT
BEGIN:VEVENT
DTSTART;TZID=America/Toronto:20250517T130000
DTEND;TZID=America/Toronto:20250517T160000
DTSTAMP:20260421T014102
CREATED:20241021T133737Z
LAST-MODIFIED:20250310T145206Z
UID:10001175-1747486800-1747497600@tavistockon.ca
SUMMARY:Tavistock & District Historical Society Museum Opening
DESCRIPTION:
URL:https://tavistockon.ca/events/tavistock-district-historical-society-museum-opening/2025-05-17/
LOCATION:Tavistock & District Historical Society Museum\, 37 Maria Street\, Tavistock\, Ontario\, N0B 2R0\, Canada
CATEGORIES:Community Events
END:VEVENT
BEGIN:VEVENT
DTSTART;TZID=UTC:20250519T083000
DTEND;TZID=UTC:20250519T120000
DTSTAMP:20260421T014102
CREATED:20241021T140856Z
LAST-MODIFIED:20260413T164511Z
UID:10001344-1747643400-1747656000@tavistockon.ca
SUMMARY:Community Walk & Social - Mondays
DESCRIPTION:For more information\, contact Larry Brown at 519-240-6715
URL:https://tavistockon.ca/events/community-walk-social-mondays-2/2025-05-19/
LOCATION:Tavistock Memorial Hall\, 3 Adam Street\, Tavistock\, Ontario\, N0B 2R0\, Canada
CATEGORIES:Community Events
END:VEVENT
BEGIN:VEVENT
DTSTART;TZID=UTC:20250519T120000
DTEND;TZID=UTC:20250519T160000
DTSTAMP:20260421T014102
CREATED:20240624T231632Z
LAST-MODIFIED:20251016T153638Z
UID:10000974-1747656000-1747670400@tavistockon.ca
SUMMARY:Community Pickleball - Monday
DESCRIPTION:For more information\, contact Don Junker @ 519-535-7052
URL:https://tavistockon.ca/events/community-pickleball-monday/2025-05-19/
LOCATION:Tavistock Memorial Hall\, 3 Adam Street\, Tavistock\, Ontario\, N0B 2R0\, Canada
CATEGORIES:Community Events
END:VEVENT
BEGIN:VEVENT
DTSTART;TZID=UTC:20250521T083000
DTEND;TZID=UTC:20250521T120000
DTSTAMP:20260421T014102
CREATED:20241021T142803Z
LAST-MODIFIED:20260413T164629Z
UID:10001509-1747816200-1747828800@tavistockon.ca
SUMMARY:Community Walk & Social - Wednesdays
DESCRIPTION:For more information\, contact Larry Brown at 519-240-6715
URL:https://tavistockon.ca/events/community-walk-social-wednesdays/2025-05-21/
LOCATION:Tavistock Memorial Hall\, 3 Adam Street\, Tavistock\, Ontario\, N0B 2R0\, Canada
CATEGORIES:Community Events
END:VEVENT
BEGIN:VEVENT
DTSTART;TZID=UTC:20250521T120000
DTEND;TZID=UTC:20250521T160000
DTSTAMP:20260421T014102
CREATED:20240624T231744Z
LAST-MODIFIED:20251016T153659Z
UID:10001023-1747828800-1747843200@tavistockon.ca
SUMMARY:Community Pickleball - Wednesday
DESCRIPTION:For more information\, contact Don Junker @ 519-535-7052
URL:https://tavistockon.ca/events/community-pickleball-wednesday/2025-05-21/
LOCATION:Tavistock Memorial Hall\, 3 Adam Street\, Tavistock\, Ontario\, N0B 2R0\, Canada
CATEGORIES:Community Events
END:VEVENT
BEGIN:VEVENT
DTSTART;TZID=UTC:20250523T083000
DTEND;TZID=UTC:20250523T233000
DTSTAMP:20260421T014102
CREATED:20240624T223207Z
LAST-MODIFIED:20240624T223207Z
UID:10000197-1747989000-1748043000@tavistockon.ca
SUMMARY:EarlyON Program
DESCRIPTION:Location: OUTDOOR PROGRAM: Queens Park\, Tavistock \nWho: Parents\, grandparents\, caregivers and children aged 0-6 years \nWhat to bring: Anything you may require to meet the needs of your child (diaper bag\, etc.). \nPlease Note: Parents are responsible for their children at all times while participating in our programs.  Please refrain from being on your phones while in program in order to attend to and engage with your child. \nProgram Description: Come play with us! The EarlyON Team will be traveling to your community and we hope you will join us in the park for songs\, rhymes\, stories\, and games!  Parents\, caregivers and grandparents with children aged 0-6 years (and their older siblings\, of course) are welcome to join us for this free drop-in program!  It is facilitated by qualified EarlyON Facilitators who are happy to answer questions about early learning and child development\, parenting topics\, and can provide additional information about other community programs and services. This is also an ideal opportunity for parents and caregivers to connect with others for social and community support.    \n\nProgram Cancellation: In the case that a program needs to be cancelled\, notices will be posted to Facebook and Instagram by 8:30 am on the day of the program.  Be sure to follow @oxfordearlyon for updates!
URL:https://tavistockon.ca/events/earlyon-program/2025-05-23/
LOCATION:Tavistock Memorial Hall\, 3 Adam Street\, Tavistock\, Ontario\, N0B 2R0\, Canada
END:VEVENT
BEGIN:VEVENT
DTSTART;TZID=UTC:20250523T120000
DTEND;TZID=UTC:20250523T160000
DTSTAMP:20260421T014102
CREATED:20240624T232120Z
LAST-MODIFIED:20251016T153739Z
UID:10002144-1748001600-1748016000@tavistockon.ca
SUMMARY:Community Pickleball - Friday
DESCRIPTION:For more information\, contact Don Junker @ 519-535-7052
URL:https://tavistockon.ca/events/community-pickleball-friday/2025-05-23/
LOCATION:Ontario
CATEGORIES:Community Events
END:VEVENT
BEGIN:VEVENT
DTSTART;TZID=UTC:20250526T083000
DTEND;TZID=UTC:20250526T120000
DTSTAMP:20260421T014102
CREATED:20241021T140856Z
LAST-MODIFIED:20260413T164511Z
UID:10001345-1748248200-1748260800@tavistockon.ca
SUMMARY:Community Walk & Social - Mondays
DESCRIPTION:For more information\, contact Larry Brown at 519-240-6715
URL:https://tavistockon.ca/events/community-walk-social-mondays-2/2025-05-26/
LOCATION:Tavistock Memorial Hall\, 3 Adam Street\, Tavistock\, Ontario\, N0B 2R0\, Canada
CATEGORIES:Community Events
END:VEVENT
BEGIN:VEVENT
DTSTART;TZID=UTC:20250526T120000
DTEND;TZID=UTC:20250526T160000
DTSTAMP:20260421T014102
CREATED:20240624T231632Z
LAST-MODIFIED:20251016T153638Z
UID:10000975-1748260800-1748275200@tavistockon.ca
SUMMARY:Community Pickleball - Monday
DESCRIPTION:For more information\, contact Don Junker @ 519-535-7052
URL:https://tavistockon.ca/events/community-pickleball-monday/2025-05-26/
LOCATION:Tavistock Memorial Hall\, 3 Adam Street\, Tavistock\, Ontario\, N0B 2R0\, Canada
CATEGORIES:Community Events
END:VEVENT
BEGIN:VEVENT
DTSTART;TZID=UTC:20250528T083000
DTEND;TZID=UTC:20250528T120000
DTSTAMP:20260421T014102
CREATED:20241021T142803Z
LAST-MODIFIED:20260413T164629Z
UID:10001510-1748421000-1748433600@tavistockon.ca
SUMMARY:Community Walk & Social - Wednesdays
DESCRIPTION:For more information\, contact Larry Brown at 519-240-6715
URL:https://tavistockon.ca/events/community-walk-social-wednesdays/2025-05-28/
LOCATION:Tavistock Memorial Hall\, 3 Adam Street\, Tavistock\, Ontario\, N0B 2R0\, Canada
CATEGORIES:Community Events
END:VEVENT
BEGIN:VEVENT
DTSTART;TZID=UTC:20250528T120000
DTEND;TZID=UTC:20250528T160000
DTSTAMP:20260421T014102
CREATED:20240624T231744Z
LAST-MODIFIED:20251016T153659Z
UID:10001024-1748433600-1748448000@tavistockon.ca
SUMMARY:Community Pickleball - Wednesday
DESCRIPTION:For more information\, contact Don Junker @ 519-535-7052
URL:https://tavistockon.ca/events/community-pickleball-wednesday/2025-05-28/
LOCATION:Tavistock Memorial Hall\, 3 Adam Street\, Tavistock\, Ontario\, N0B 2R0\, Canada
CATEGORIES:Community Events
END:VEVENT
BEGIN:VEVENT
DTSTART;TZID=UTC:20250530T083000
DTEND;TZID=UTC:20250530T233000
DTSTAMP:20260421T014102
CREATED:20240624T223207Z
LAST-MODIFIED:20240624T223207Z
UID:10000198-1748593800-1748647800@tavistockon.ca
SUMMARY:EarlyON Program
DESCRIPTION:Location: OUTDOOR PROGRAM: Queens Park\, Tavistock \nWho: Parents\, grandparents\, caregivers and children aged 0-6 years \nWhat to bring: Anything you may require to meet the needs of your child (diaper bag\, etc.). \nPlease Note: Parents are responsible for their children at all times while participating in our programs.  Please refrain from being on your phones while in program in order to attend to and engage with your child. \nProgram Description: Come play with us! The EarlyON Team will be traveling to your community and we hope you will join us in the park for songs\, rhymes\, stories\, and games!  Parents\, caregivers and grandparents with children aged 0-6 years (and their older siblings\, of course) are welcome to join us for this free drop-in program!  It is facilitated by qualified EarlyON Facilitators who are happy to answer questions about early learning and child development\, parenting topics\, and can provide additional information about other community programs and services. This is also an ideal opportunity for parents and caregivers to connect with others for social and community support.    \n\nProgram Cancellation: In the case that a program needs to be cancelled\, notices will be posted to Facebook and Instagram by 8:30 am on the day of the program.  Be sure to follow @oxfordearlyon for updates!
URL:https://tavistockon.ca/events/earlyon-program/2025-05-30/
LOCATION:Tavistock Memorial Hall\, 3 Adam Street\, Tavistock\, Ontario\, N0B 2R0\, Canada
END:VEVENT
BEGIN:VEVENT
DTSTART;TZID=UTC:20250530T120000
DTEND;TZID=UTC:20250530T160000
DTSTAMP:20260421T014102
CREATED:20240624T232120Z
LAST-MODIFIED:20251016T153739Z
UID:10002145-1748606400-1748620800@tavistockon.ca
SUMMARY:Community Pickleball - Friday
DESCRIPTION:For more information\, contact Don Junker @ 519-535-7052
URL:https://tavistockon.ca/events/community-pickleball-friday/2025-05-30/
LOCATION:Ontario
CATEGORIES:Community Events
END:VEVENT
BEGIN:VEVENT
DTSTART;TZID=UTC:20250602T083000
DTEND;TZID=UTC:20250602T120000
DTSTAMP:20260421T014102
CREATED:20241021T140856Z
LAST-MODIFIED:20260413T164511Z
UID:10001346-1748853000-1748865600@tavistockon.ca
SUMMARY:Community Walk & Social - Mondays
DESCRIPTION:For more information\, contact Larry Brown at 519-240-6715
URL:https://tavistockon.ca/events/community-walk-social-mondays-2/2025-06-02/
LOCATION:Tavistock Memorial Hall\, 3 Adam Street\, Tavistock\, Ontario\, N0B 2R0\, Canada
CATEGORIES:Community Events
END:VEVENT
BEGIN:VEVENT
DTSTART;TZID=America/Toronto:20250602T190000
DTEND;TZID=America/Toronto:20250602T210000
DTSTAMP:20260421T014102
CREATED:20250526T123641Z
LAST-MODIFIED:20250526T131417Z
UID:10002072-1748890800-1748898000@tavistockon.ca
SUMMARY:Tavistock Legion Meeting
DESCRIPTION:Meeting for Elections of directors and officers\nContact Jane McKay jem_mckay@hotmail.com 519-475-6181
URL:https://tavistockon.ca/events/tavistock-legion-meeting/
LOCATION:Tavistock Legion\, 223 Hope Street West\, Tavistock\, Ontario\, N0B 2R0
CATEGORIES:Community Events
END:VEVENT
BEGIN:VEVENT
DTSTART;TZID=UTC:20250604T083000
DTEND;TZID=UTC:20250604T120000
DTSTAMP:20260421T014102
CREATED:20241021T142803Z
LAST-MODIFIED:20260413T164629Z
UID:10001511-1749025800-1749038400@tavistockon.ca
SUMMARY:Community Walk & Social - Wednesdays
DESCRIPTION:For more information\, contact Larry Brown at 519-240-6715
URL:https://tavistockon.ca/events/community-walk-social-wednesdays/2025-06-04/
LOCATION:Tavistock Memorial Hall\, 3 Adam Street\, Tavistock\, Ontario\, N0B 2R0\, Canada
CATEGORIES:Community Events
END:VEVENT
BEGIN:VEVENT
DTSTART;TZID=America/Toronto:20250604T160000
DTEND;TZID=America/Toronto:20250604T190000
DTSTAMP:20260421T014102
CREATED:20250508T183256Z
LAST-MODIFIED:20250508T183256Z
UID:10002070-1749052800-1749063600@tavistockon.ca
SUMMARY:Tavistock Men's Club Fish Fry
DESCRIPTION:TAVISTOCK MEN’S CLUB FISH FRY\nWednesday\, June 4\, 2025 4:00 – 7:00 pm\nTAVISTOCK MEN’S CLUB HALL\nPickerel Dine-in or Take Out\nAdults $30 Children (age 6-12) $15\n——————————————————–\nTickets available at Men’s Club Hall 78 Woodstock St N\nEvery Wednesday 4-7 pm and Saturdays 11am-2pm\nStarting May 14th\nor from Club members or call 519-655-3573\nor email: info@tavistockmensclub.ca or online: tavistockmensclub.ca\n——————————————————————————\nPortion of profits to Tavistock Community Health fundraiser.
URL:https://tavistockon.ca/events/tavistock-mens-club-fish-fry-2/
LOCATION:Tavistock Men’s Club Hall\, 78 Woodstock St. N\, Tavistock\, Ontario\, N0B 2R0\, Canada
CATEGORIES:Community Events
ORGANIZER;CN="Tavistock Men's Club":MAILTO:info@tavistockmensclub.ca
END:VEVENT
BEGIN:VEVENT
DTSTART;TZID=UTC:20250606T083000
DTEND;TZID=UTC:20250606T233000
DTSTAMP:20260421T014102
CREATED:20240624T223207Z
LAST-MODIFIED:20240624T223207Z
UID:10000199-1749198600-1749252600@tavistockon.ca
SUMMARY:EarlyON Program
DESCRIPTION:Location: OUTDOOR PROGRAM: Queens Park\, Tavistock \nWho: Parents\, grandparents\, caregivers and children aged 0-6 years \nWhat to bring: Anything you may require to meet the needs of your child (diaper bag\, etc.). \nPlease Note: Parents are responsible for their children at all times while participating in our programs.  Please refrain from being on your phones while in program in order to attend to and engage with your child. \nProgram Description: Come play with us! The EarlyON Team will be traveling to your community and we hope you will join us in the park for songs\, rhymes\, stories\, and games!  Parents\, caregivers and grandparents with children aged 0-6 years (and their older siblings\, of course) are welcome to join us for this free drop-in program!  It is facilitated by qualified EarlyON Facilitators who are happy to answer questions about early learning and child development\, parenting topics\, and can provide additional information about other community programs and services. This is also an ideal opportunity for parents and caregivers to connect with others for social and community support.    \n\nProgram Cancellation: In the case that a program needs to be cancelled\, notices will be posted to Facebook and Instagram by 8:30 am on the day of the program.  Be sure to follow @oxfordearlyon for updates!
URL:https://tavistockon.ca/events/earlyon-program/2025-06-06/
LOCATION:Tavistock Memorial Hall\, 3 Adam Street\, Tavistock\, Ontario\, N0B 2R0\, Canada
END:VEVENT
BEGIN:VEVENT
DTSTART;TZID=UTC:20250607T080000
DTEND;TZID=UTC:20250607T170000
DTSTAMP:20260421T014102
CREATED:20240718T185907Z
LAST-MODIFIED:20241114T165437Z
UID:10001163-1749283200-1749315600@tavistockon.ca
SUMMARY:World Crokinole Tournament
DESCRIPTION:
URL:https://tavistockon.ca/events/world-crokinole-tournament/
LOCATION:Tavistock Arena\, 1 Adam Street\, Tavistock\, Ontario\, N0B 2R0\, Canada
CATEGORIES:Community Events
END:VEVENT
BEGIN:VEVENT
DTSTART;TZID=America/Toronto:20250607T100000
DTEND;TZID=America/Toronto:20250607T130000
DTSTAMP:20260421T014102
CREATED:20250605T130827Z
LAST-MODIFIED:20250605T130841Z
UID:10002077-1749290400-1749301200@tavistockon.ca
SUMMARY:Built Fitness Grand Opening
DESCRIPTION:Bring your friends and family – stronger together! \nFree samples & giveaways \nExciting fitness challenges \nPrize draws and exclusive offers \nTour the facility
URL:https://tavistockon.ca/events/built-fitness-grand-opening/
LOCATION:Built Fitness\, 66 Woodstock St. N.\, Tavistock\, Ontario\, N0B 2R0\, Canada
CATEGORIES:Community Events
END:VEVENT
BEGIN:VEVENT
DTSTART;TZID=America/Toronto:20250607T110000
DTEND;TZID=America/Toronto:20250607T150000
DTSTAMP:20260421T014102
CREATED:20250526T124242Z
LAST-MODIFIED:20250526T124303Z
UID:10002073-1749294000-1749308400@tavistockon.ca
SUMMARY:Optimist Club of Tavistock Parkfest
DESCRIPTION:Optimist Food Truck \nBouncy Castles \nFace Painting \nCotton Candy \nTouch a Truck \nTractor Rides
URL:https://tavistockon.ca/events/optimist-club-of-tavistock-parkfest/
LOCATION:Optimist Park\, 250 Woodstock Street S\, Tavistock\, Ontario\, N0B 2R0\, Canada
CATEGORIES:Optimist Club of Tavistock
END:VEVENT
BEGIN:VEVENT
DTSTART;TZID=UTC:20250609T083000
DTEND;TZID=UTC:20250609T120000
DTSTAMP:20260421T014102
CREATED:20241021T140856Z
LAST-MODIFIED:20260413T164511Z
UID:10001347-1749457800-1749470400@tavistockon.ca
SUMMARY:Community Walk & Social - Mondays
DESCRIPTION:For more information\, contact Larry Brown at 519-240-6715
URL:https://tavistockon.ca/events/community-walk-social-mondays-2/2025-06-09/
LOCATION:Tavistock Memorial Hall\, 3 Adam Street\, Tavistock\, Ontario\, N0B 2R0\, Canada
CATEGORIES:Community Events
END:VEVENT
END:VCALENDAR