BEGIN:VCALENDAR
VERSION:2.0
PRODID:-//Tavistock ON CA - ECPv6.15.18//NONSGML v1.0//EN
CALSCALE:GREGORIAN
METHOD:PUBLISH
X-ORIGINAL-URL:https://tavistockon.ca
X-WR-CALDESC:Events for Tavistock ON CA
REFRESH-INTERVAL;VALUE=DURATION:PT1H
X-Robots-Tag:noindex
X-PUBLISHED-TTL:PT1H
BEGIN:VTIMEZONE
TZID:UTC
BEGIN:STANDARD
TZOFFSETFROM:+0000
TZOFFSETTO:+0000
TZNAME:UTC
DTSTART:20240101T000000
END:STANDARD
END:VTIMEZONE
BEGIN:VTIMEZONE
TZID:America/Toronto
BEGIN:DAYLIGHT
TZOFFSETFROM:-0500
TZOFFSETTO:-0400
TZNAME:EDT
DTSTART:20240310T070000
END:DAYLIGHT
BEGIN:STANDARD
TZOFFSETFROM:-0400
TZOFFSETTO:-0500
TZNAME:EST
DTSTART:20241103T060000
END:STANDARD
BEGIN:DAYLIGHT
TZOFFSETFROM:-0500
TZOFFSETTO:-0400
TZNAME:EDT
DTSTART:20250309T070000
END:DAYLIGHT
BEGIN:STANDARD
TZOFFSETFROM:-0400
TZOFFSETTO:-0500
TZNAME:EST
DTSTART:20251102T060000
END:STANDARD
BEGIN:DAYLIGHT
TZOFFSETFROM:-0500
TZOFFSETTO:-0400
TZNAME:EDT
DTSTART:20260308T070000
END:DAYLIGHT
BEGIN:STANDARD
TZOFFSETFROM:-0400
TZOFFSETTO:-0500
TZNAME:EST
DTSTART:20261101T060000
END:STANDARD
END:VTIMEZONE
BEGIN:VEVENT
DTSTART;TZID=UTC:20250327T100000
DTEND;TZID=UTC:20250327T160000
DTSTAMP:20260420T211229
CREATED:20240624T234922Z
LAST-MODIFIED:20241031T204635Z
UID:10001158-1743069600-1743091200@tavistockon.ca
SUMMARY:Shuffleboard - Thursdays
DESCRIPTION:For more information\, contact Don Junker @ 519-535-7052
URL:https://tavistockon.ca/events/shuffleboard-thursdays/2025-03-27/
LOCATION:Ontario
CATEGORIES:Community Events
END:VEVENT
BEGIN:VEVENT
DTSTART;TZID=UTC:20250328T083000
DTEND;TZID=UTC:20250328T233000
DTSTAMP:20260420T211229
CREATED:20240624T223207Z
LAST-MODIFIED:20240624T223207Z
UID:10000189-1743150600-1743204600@tavistockon.ca
SUMMARY:EarlyON Program
DESCRIPTION:Location: OUTDOOR PROGRAM: Queens Park\, Tavistock \nWho: Parents\, grandparents\, caregivers and children aged 0-6 years \nWhat to bring: Anything you may require to meet the needs of your child (diaper bag\, etc.). \nPlease Note: Parents are responsible for their children at all times while participating in our programs.  Please refrain from being on your phones while in program in order to attend to and engage with your child. \nProgram Description: Come play with us! The EarlyON Team will be traveling to your community and we hope you will join us in the park for songs\, rhymes\, stories\, and games!  Parents\, caregivers and grandparents with children aged 0-6 years (and their older siblings\, of course) are welcome to join us for this free drop-in program!  It is facilitated by qualified EarlyON Facilitators who are happy to answer questions about early learning and child development\, parenting topics\, and can provide additional information about other community programs and services. This is also an ideal opportunity for parents and caregivers to connect with others for social and community support.    \n\nProgram Cancellation: In the case that a program needs to be cancelled\, notices will be posted to Facebook and Instagram by 8:30 am on the day of the program.  Be sure to follow @oxfordearlyon for updates!
URL:https://tavistockon.ca/events/earlyon-program/2025-03-28/
LOCATION:Tavistock Memorial Hall\, 3 Adam Street\, Tavistock\, Ontario\, N0B 2R0\, Canada
END:VEVENT
BEGIN:VEVENT
DTSTART;TZID=UTC:20250328T120000
DTEND;TZID=UTC:20250328T160000
DTSTAMP:20260420T211229
CREATED:20240624T232120Z
LAST-MODIFIED:20251016T153739Z
UID:10002136-1743163200-1743177600@tavistockon.ca
SUMMARY:Community Pickleball - Friday
DESCRIPTION:For more information\, contact Don Junker @ 519-535-7052
URL:https://tavistockon.ca/events/community-pickleball-friday/2025-03-28/
LOCATION:Ontario
CATEGORIES:Community Events
END:VEVENT
BEGIN:VEVENT
DTSTART;TZID=UTC:20250329T130000
DTEND;TZID=UTC:20250329T140000
DTSTAMP:20260420T211229
CREATED:20240611T003557Z
LAST-MODIFIED:20241127T204708Z
UID:10000923-1743253200-1743256800@tavistockon.ca
SUMMARY:Public Skating
DESCRIPTION:
URL:https://tavistockon.ca/events/public-skating/2025-03-29/
LOCATION:Tavistock Arena\, 1 Adam Street\, Tavistock\, Ontario\, N0B 2R0\, Canada
END:VEVENT
BEGIN:VEVENT
DTSTART;TZID=UTC:20250331T083000
DTEND;TZID=UTC:20250331T120000
DTSTAMP:20260420T211229
CREATED:20241021T140856Z
LAST-MODIFIED:20260413T164511Z
UID:10001337-1743409800-1743422400@tavistockon.ca
SUMMARY:Community Walk & Social - Mondays
DESCRIPTION:For more information\, contact Larry Brown at 519-240-6715
URL:https://tavistockon.ca/events/community-walk-social-mondays-2/2025-03-31/
LOCATION:Tavistock Memorial Hall\, 3 Adam Street\, Tavistock\, Ontario\, N0B 2R0\, Canada
CATEGORIES:Community Events
END:VEVENT
BEGIN:VEVENT
DTSTART;TZID=UTC:20250331T120000
DTEND;TZID=UTC:20250331T160000
DTSTAMP:20260420T211229
CREATED:20240624T231632Z
LAST-MODIFIED:20251016T153638Z
UID:10000967-1743422400-1743436800@tavistockon.ca
SUMMARY:Community Pickleball - Monday
DESCRIPTION:For more information\, contact Don Junker @ 519-535-7052
URL:https://tavistockon.ca/events/community-pickleball-monday/2025-03-31/
LOCATION:Tavistock Memorial Hall\, 3 Adam Street\, Tavistock\, Ontario\, N0B 2R0\, Canada
CATEGORIES:Community Events
END:VEVENT
BEGIN:VEVENT
DTSTART;TZID=UTC:20250402T083000
DTEND;TZID=UTC:20250402T120000
DTSTAMP:20260420T211229
CREATED:20241021T142803Z
LAST-MODIFIED:20260413T164629Z
UID:10001502-1743582600-1743595200@tavistockon.ca
SUMMARY:Community Walk & Social - Wednesdays
DESCRIPTION:For more information\, contact Larry Brown at 519-240-6715
URL:https://tavistockon.ca/events/community-walk-social-wednesdays/2025-04-02/
LOCATION:Tavistock Memorial Hall\, 3 Adam Street\, Tavistock\, Ontario\, N0B 2R0\, Canada
CATEGORIES:Community Events
END:VEVENT
BEGIN:VEVENT
DTSTART;TZID=UTC:20250402T120000
DTEND;TZID=UTC:20250402T160000
DTSTAMP:20260420T211229
CREATED:20240624T231744Z
LAST-MODIFIED:20251016T153659Z
UID:10001016-1743595200-1743609600@tavistockon.ca
SUMMARY:Community Pickleball - Wednesday
DESCRIPTION:For more information\, contact Don Junker @ 519-535-7052
URL:https://tavistockon.ca/events/community-pickleball-wednesday/2025-04-02/
LOCATION:Tavistock Memorial Hall\, 3 Adam Street\, Tavistock\, Ontario\, N0B 2R0\, Canada
CATEGORIES:Community Events
END:VEVENT
BEGIN:VEVENT
DTSTART;TZID=UTC:20250404T083000
DTEND;TZID=UTC:20250404T233000
DTSTAMP:20260420T211229
CREATED:20240624T223207Z
LAST-MODIFIED:20240624T223207Z
UID:10000190-1743755400-1743809400@tavistockon.ca
SUMMARY:EarlyON Program
DESCRIPTION:Location: OUTDOOR PROGRAM: Queens Park\, Tavistock \nWho: Parents\, grandparents\, caregivers and children aged 0-6 years \nWhat to bring: Anything you may require to meet the needs of your child (diaper bag\, etc.). \nPlease Note: Parents are responsible for their children at all times while participating in our programs.  Please refrain from being on your phones while in program in order to attend to and engage with your child. \nProgram Description: Come play with us! The EarlyON Team will be traveling to your community and we hope you will join us in the park for songs\, rhymes\, stories\, and games!  Parents\, caregivers and grandparents with children aged 0-6 years (and their older siblings\, of course) are welcome to join us for this free drop-in program!  It is facilitated by qualified EarlyON Facilitators who are happy to answer questions about early learning and child development\, parenting topics\, and can provide additional information about other community programs and services. This is also an ideal opportunity for parents and caregivers to connect with others for social and community support.    \n\nProgram Cancellation: In the case that a program needs to be cancelled\, notices will be posted to Facebook and Instagram by 8:30 am on the day of the program.  Be sure to follow @oxfordearlyon for updates!
URL:https://tavistockon.ca/events/earlyon-program/2025-04-04/
LOCATION:Tavistock Memorial Hall\, 3 Adam Street\, Tavistock\, Ontario\, N0B 2R0\, Canada
END:VEVENT
BEGIN:VEVENT
DTSTART;TZID=UTC:20250404T120000
DTEND;TZID=UTC:20250404T160000
DTSTAMP:20260420T211229
CREATED:20240624T232120Z
LAST-MODIFIED:20251016T153739Z
UID:10002137-1743768000-1743782400@tavistockon.ca
SUMMARY:Community Pickleball - Friday
DESCRIPTION:For more information\, contact Don Junker @ 519-535-7052
URL:https://tavistockon.ca/events/community-pickleball-friday/2025-04-04/
LOCATION:Ontario
CATEGORIES:Community Events
END:VEVENT
BEGIN:VEVENT
DTSTART;TZID=America/Toronto:20250405T110000
DTEND;TZID=America/Toronto:20250405T123000
DTSTAMP:20260420T211229
CREATED:20250331T132048Z
LAST-MODIFIED:20250331T132212Z
UID:10002066-1743850800-1743856200@tavistockon.ca
SUMMARY:Tavistock and District Historical Society - Museum Opening
DESCRIPTION:Open 11:00 – 12:30 before AGM and after AGM until 5:00 PM.
URL:https://tavistockon.ca/events/tavistock-and-district-historical-society-museum-opening/
LOCATION:Tavistock & District Historical Society Museum\, 37 Maria Street\, Tavistock\, Ontario\, N0B 2R0\, Canada
CATEGORIES:Community Events
END:VEVENT
BEGIN:VEVENT
DTSTART;TZID=America/Toronto:20250405T133000
DTEND;TZID=America/Toronto:20250405T163000
DTSTAMP:20260420T211229
CREATED:20250310T152417Z
LAST-MODIFIED:20250310T152457Z
UID:10002062-1743859800-1743870600@tavistockon.ca
SUMMARY:Tavistock and District Historical Society Annual Meeting
DESCRIPTION:Additional Details: The Story of the Lemp Clocks and How We Acquired One
URL:https://tavistockon.ca/events/tavistock-and-district-historical-society-annual-meeting/
LOCATION:Grace United Church\, 116 Woodstock St S\, Tavistock\, Ontario\, N0B 2R0\, Canada
CATEGORIES:Community Events
END:VEVENT
BEGIN:VEVENT
DTSTART;TZID=America/Toronto:20250405T200000
DTEND;TZID=America/Toronto:20250405T230000
DTSTAMP:20260420T211229
CREATED:20241210T170929Z
LAST-MODIFIED:20241210T171012Z
UID:10001641-1743883200-1743894000@tavistockon.ca
SUMMARY:Lulu's Dance
DESCRIPTION:
URL:https://tavistockon.ca/events/lulus-dance-2/
LOCATION:Tavistock Memorial Hall\, 3 Adam Street\, Tavistock\, Ontario\, N0B 2R0\, Canada
CATEGORIES:Tavistock Opti-Mrs
ORGANIZER;CN="Tavistock Opti-Mrs":MAILTO:tavistockoptimrs@gmail.com
END:VEVENT
BEGIN:VEVENT
DTSTART;TZID=UTC:20250407T083000
DTEND;TZID=UTC:20250407T120000
DTSTAMP:20260420T211229
CREATED:20241021T140856Z
LAST-MODIFIED:20260413T164511Z
UID:10001338-1744014600-1744027200@tavistockon.ca
SUMMARY:Community Walk & Social - Mondays
DESCRIPTION:For more information\, contact Larry Brown at 519-240-6715
URL:https://tavistockon.ca/events/community-walk-social-mondays-2/2025-04-07/
LOCATION:Tavistock Memorial Hall\, 3 Adam Street\, Tavistock\, Ontario\, N0B 2R0\, Canada
CATEGORIES:Community Events
END:VEVENT
BEGIN:VEVENT
DTSTART;TZID=UTC:20250407T120000
DTEND;TZID=UTC:20250407T160000
DTSTAMP:20260420T211229
CREATED:20240624T231632Z
LAST-MODIFIED:20251016T153638Z
UID:10000968-1744027200-1744041600@tavistockon.ca
SUMMARY:Community Pickleball - Monday
DESCRIPTION:For more information\, contact Don Junker @ 519-535-7052
URL:https://tavistockon.ca/events/community-pickleball-monday/2025-04-07/
LOCATION:Tavistock Memorial Hall\, 3 Adam Street\, Tavistock\, Ontario\, N0B 2R0\, Canada
CATEGORIES:Community Events
END:VEVENT
BEGIN:VEVENT
DTSTART;TZID=UTC:20250409T083000
DTEND;TZID=UTC:20250409T120000
DTSTAMP:20260420T211229
CREATED:20241021T142803Z
LAST-MODIFIED:20260413T164629Z
UID:10001503-1744187400-1744200000@tavistockon.ca
SUMMARY:Community Walk & Social - Wednesdays
DESCRIPTION:For more information\, contact Larry Brown at 519-240-6715
URL:https://tavistockon.ca/events/community-walk-social-wednesdays/2025-04-09/
LOCATION:Tavistock Memorial Hall\, 3 Adam Street\, Tavistock\, Ontario\, N0B 2R0\, Canada
CATEGORIES:Community Events
END:VEVENT
BEGIN:VEVENT
DTSTART;TZID=UTC:20250409T120000
DTEND;TZID=UTC:20250409T160000
DTSTAMP:20260420T211229
CREATED:20240624T231744Z
LAST-MODIFIED:20251016T153659Z
UID:10001017-1744200000-1744214400@tavistockon.ca
SUMMARY:Community Pickleball - Wednesday
DESCRIPTION:For more information\, contact Don Junker @ 519-535-7052
URL:https://tavistockon.ca/events/community-pickleball-wednesday/2025-04-09/
LOCATION:Tavistock Memorial Hall\, 3 Adam Street\, Tavistock\, Ontario\, N0B 2R0\, Canada
CATEGORIES:Community Events
END:VEVENT
BEGIN:VEVENT
DTSTART;TZID=UTC:20250411T083000
DTEND;TZID=UTC:20250411T233000
DTSTAMP:20260420T211229
CREATED:20240624T223207Z
LAST-MODIFIED:20240624T223207Z
UID:10000191-1744360200-1744414200@tavistockon.ca
SUMMARY:EarlyON Program
DESCRIPTION:Location: OUTDOOR PROGRAM: Queens Park\, Tavistock \nWho: Parents\, grandparents\, caregivers and children aged 0-6 years \nWhat to bring: Anything you may require to meet the needs of your child (diaper bag\, etc.). \nPlease Note: Parents are responsible for their children at all times while participating in our programs.  Please refrain from being on your phones while in program in order to attend to and engage with your child. \nProgram Description: Come play with us! The EarlyON Team will be traveling to your community and we hope you will join us in the park for songs\, rhymes\, stories\, and games!  Parents\, caregivers and grandparents with children aged 0-6 years (and their older siblings\, of course) are welcome to join us for this free drop-in program!  It is facilitated by qualified EarlyON Facilitators who are happy to answer questions about early learning and child development\, parenting topics\, and can provide additional information about other community programs and services. This is also an ideal opportunity for parents and caregivers to connect with others for social and community support.    \n\nProgram Cancellation: In the case that a program needs to be cancelled\, notices will be posted to Facebook and Instagram by 8:30 am on the day of the program.  Be sure to follow @oxfordearlyon for updates!
URL:https://tavistockon.ca/events/earlyon-program/2025-04-11/
LOCATION:Tavistock Memorial Hall\, 3 Adam Street\, Tavistock\, Ontario\, N0B 2R0\, Canada
END:VEVENT
BEGIN:VEVENT
DTSTART;TZID=UTC:20250411T120000
DTEND;TZID=UTC:20250411T160000
DTSTAMP:20260420T211229
CREATED:20240624T232120Z
LAST-MODIFIED:20251016T153739Z
UID:10002138-1744372800-1744387200@tavistockon.ca
SUMMARY:Community Pickleball - Friday
DESCRIPTION:For more information\, contact Don Junker @ 519-535-7052
URL:https://tavistockon.ca/events/community-pickleball-friday/2025-04-11/
LOCATION:Ontario
CATEGORIES:Community Events
END:VEVENT
BEGIN:VEVENT
DTSTART;TZID=America/Toronto:20250412T110000
DTEND;TZID=America/Toronto:20250412T140000
DTSTAMP:20260420T211229
CREATED:20250310T131727Z
LAST-MODIFIED:20250310T131816Z
UID:10002056-1744455600-1744466400@tavistockon.ca
SUMMARY:Tavistock Men's Club Sauerkraut Sale
DESCRIPTION:$5 per bag of locally made sauerkraut \n 
URL:https://tavistockon.ca/events/tavistock-mens-club-sauerkraut-sale/
LOCATION:Tavistock Men’s Club Hall\, 78 Woodstock St. N\, Tavistock\, Ontario\, N0B 2R0\, Canada
CATEGORIES:Community Events
ORGANIZER;CN="Tavistock Men's Club":MAILTO:info@tavistockmensclub.ca
END:VEVENT
BEGIN:VEVENT
DTSTART;TZID=America/Toronto:20250412T180000
DTEND;TZID=America/Toronto:20250412T220000
DTSTAMP:20260420T211229
CREATED:20250331T135658Z
LAST-MODIFIED:20250331T135741Z
UID:10002067-1744480800-1744495200@tavistockon.ca
SUMMARY:Tavistock Agricultural Society's Trivia Night
DESCRIPTION:Trivia Night is Back!! Table of 8 $280 or individual tickets $40 ea – Lasagna meal by D&D Cafe & Cuisine. \nCome out and test your knowledge against your friends and neighbours! Compete for bragging rights and cash prizes! \nTickets include a catered meal by D&D Homestyle Cafe. Cash bar available! \nReach out to any of our Board of Director Members to get your tickets!
URL:https://tavistockon.ca/events/tavistock-agricultural-societys-trivia-night/
LOCATION:Tavistock Legion\, 223 Hope Street West\, Tavistock\, Ontario\, N0B 2R0
END:VEVENT
BEGIN:VEVENT
DTSTART;TZID=America/Toronto:20250413T130000
DTEND;TZID=America/Toronto:20250413T150000
DTSTAMP:20260420T211229
CREATED:20250328T153715Z
LAST-MODIFIED:20250328T153927Z
UID:10002064-1744549200-1744556400@tavistockon.ca
SUMMARY:Tavistock & District Skating Club - 2025 Skating Carnival
DESCRIPTION:Box Office Dates at Tavistock Arena:\nApril 1 – 4:30 pm – 6:00 pm\nApril 5 – 11:00 am – 12:30 pm\nApril 6 – 4:00 pm – 7:00 pm\nApril 12 – 10:30 am – 12:00 PM \n$20.00 for reserved red seating\n$10.00 for general admission\nFree – children under 10
URL:https://tavistockon.ca/events/2025-skating-carnival/2025-04-13/1/
LOCATION:Tavistock Arena\, 1 Adam Street\, Tavistock\, Ontario\, N0B 2R0\, Canada
CATEGORIES:Community Events
ATTACH;FMTTYPE=image/jpeg:https://tavistockon.ca/wp-content/uploads/2025/03/Tavistock-Skating-Club.jpg
END:VEVENT
BEGIN:VEVENT
DTSTART;TZID=America/Toronto:20250413T163000
DTEND;TZID=America/Toronto:20250413T183000
DTSTAMP:20260420T211229
CREATED:20250328T153715Z
LAST-MODIFIED:20250328T153927Z
UID:10002065-1744561800-1744569000@tavistockon.ca
SUMMARY:Tavistock & District Skating Club - 2025 Skating Carnival
DESCRIPTION:Box Office Dates at Tavistock Arena:\nApril 1 – 4:30 pm – 6:00 pm\nApril 5 – 11:00 am – 12:30 pm\nApril 6 – 4:00 pm – 7:00 pm\nApril 12 – 10:30 am – 12:00 PM \n$20.00 for reserved red seating\n$10.00 for general admission\nFree – children under 10
URL:https://tavistockon.ca/events/2025-skating-carnival/2025-04-13/2/
LOCATION:Tavistock Arena\, 1 Adam Street\, Tavistock\, Ontario\, N0B 2R0\, Canada
CATEGORIES:Community Events
ATTACH;FMTTYPE=image/jpeg:https://tavistockon.ca/wp-content/uploads/2025/03/Tavistock-Skating-Club.jpg
END:VEVENT
BEGIN:VEVENT
DTSTART;TZID=UTC:20250414T083000
DTEND;TZID=UTC:20250414T120000
DTSTAMP:20260420T211229
CREATED:20241021T140856Z
LAST-MODIFIED:20260413T164511Z
UID:10001339-1744619400-1744632000@tavistockon.ca
SUMMARY:Community Walk & Social - Mondays
DESCRIPTION:For more information\, contact Larry Brown at 519-240-6715
URL:https://tavistockon.ca/events/community-walk-social-mondays-2/2025-04-14/
LOCATION:Tavistock Memorial Hall\, 3 Adam Street\, Tavistock\, Ontario\, N0B 2R0\, Canada
CATEGORIES:Community Events
END:VEVENT
BEGIN:VEVENT
DTSTART;TZID=UTC:20250414T120000
DTEND;TZID=UTC:20250414T160000
DTSTAMP:20260420T211229
CREATED:20240624T231632Z
LAST-MODIFIED:20251016T153638Z
UID:10000969-1744632000-1744646400@tavistockon.ca
SUMMARY:Community Pickleball - Monday
DESCRIPTION:For more information\, contact Don Junker @ 519-535-7052
URL:https://tavistockon.ca/events/community-pickleball-monday/2025-04-14/
LOCATION:Tavistock Memorial Hall\, 3 Adam Street\, Tavistock\, Ontario\, N0B 2R0\, Canada
CATEGORIES:Community Events
END:VEVENT
BEGIN:VEVENT
DTSTART;TZID=UTC:20250416T083000
DTEND;TZID=UTC:20250416T120000
DTSTAMP:20260420T211229
CREATED:20241021T142803Z
LAST-MODIFIED:20260413T164629Z
UID:10001504-1744792200-1744804800@tavistockon.ca
SUMMARY:Community Walk & Social - Wednesdays
DESCRIPTION:For more information\, contact Larry Brown at 519-240-6715
URL:https://tavistockon.ca/events/community-walk-social-wednesdays/2025-04-16/
LOCATION:Tavistock Memorial Hall\, 3 Adam Street\, Tavistock\, Ontario\, N0B 2R0\, Canada
CATEGORIES:Community Events
END:VEVENT
BEGIN:VEVENT
DTSTART;TZID=UTC:20250416T120000
DTEND;TZID=UTC:20250416T160000
DTSTAMP:20260420T211229
CREATED:20240624T231744Z
LAST-MODIFIED:20251016T153659Z
UID:10001018-1744804800-1744819200@tavistockon.ca
SUMMARY:Community Pickleball - Wednesday
DESCRIPTION:For more information\, contact Don Junker @ 519-535-7052
URL:https://tavistockon.ca/events/community-pickleball-wednesday/2025-04-16/
LOCATION:Tavistock Memorial Hall\, 3 Adam Street\, Tavistock\, Ontario\, N0B 2R0\, Canada
CATEGORIES:Community Events
END:VEVENT
BEGIN:VEVENT
DTSTART;TZID=UTC:20250418T083000
DTEND;TZID=UTC:20250418T233000
DTSTAMP:20260420T211229
CREATED:20240624T223207Z
LAST-MODIFIED:20240624T223207Z
UID:10000192-1744965000-1745019000@tavistockon.ca
SUMMARY:EarlyON Program
DESCRIPTION:Location: OUTDOOR PROGRAM: Queens Park\, Tavistock \nWho: Parents\, grandparents\, caregivers and children aged 0-6 years \nWhat to bring: Anything you may require to meet the needs of your child (diaper bag\, etc.). \nPlease Note: Parents are responsible for their children at all times while participating in our programs.  Please refrain from being on your phones while in program in order to attend to and engage with your child. \nProgram Description: Come play with us! The EarlyON Team will be traveling to your community and we hope you will join us in the park for songs\, rhymes\, stories\, and games!  Parents\, caregivers and grandparents with children aged 0-6 years (and their older siblings\, of course) are welcome to join us for this free drop-in program!  It is facilitated by qualified EarlyON Facilitators who are happy to answer questions about early learning and child development\, parenting topics\, and can provide additional information about other community programs and services. This is also an ideal opportunity for parents and caregivers to connect with others for social and community support.    \n\nProgram Cancellation: In the case that a program needs to be cancelled\, notices will be posted to Facebook and Instagram by 8:30 am on the day of the program.  Be sure to follow @oxfordearlyon for updates!
URL:https://tavistockon.ca/events/earlyon-program/2025-04-18/
LOCATION:Tavistock Memorial Hall\, 3 Adam Street\, Tavistock\, Ontario\, N0B 2R0\, Canada
END:VEVENT
BEGIN:VEVENT
DTSTART;TZID=UTC:20250418T120000
DTEND;TZID=UTC:20250418T160000
DTSTAMP:20260420T211229
CREATED:20240624T232120Z
LAST-MODIFIED:20251016T153739Z
UID:10002139-1744977600-1744992000@tavistockon.ca
SUMMARY:Community Pickleball - Friday
DESCRIPTION:For more information\, contact Don Junker @ 519-535-7052
URL:https://tavistockon.ca/events/community-pickleball-friday/2025-04-18/
LOCATION:Ontario
CATEGORIES:Community Events
END:VEVENT
BEGIN:VEVENT
DTSTART;TZID=America/Toronto:20250419T100000
DTEND;TZID=America/Toronto:20250419T120000
DTSTAMP:20260420T211229
CREATED:20250402T131019Z
LAST-MODIFIED:20250402T131628Z
UID:10002068-1745056800-1745064000@tavistockon.ca
SUMMARY:Tavistock Ag Society Easter Egg Hunt
DESCRIPTION:The Tavistock Agricultural Society is hosting an Easter Egg Hunt April 19th!\nHop to it and get your baskets ready and come down and see us at the Tavistock Queen’s Park!! \nIt is going to be an egg-citing day! \n#EasterEgg #egghunt #TaviAgSociety #easterweekend
URL:https://tavistockon.ca/events/tavistock-ag-society-easter-egg-hunt/
LOCATION:Tavistock Queen’s Park\, 1 Adam Street\, Tavistock\, Ontario\, N0B 2R0\, Canada
CATEGORIES:Tavistock Ag Society
ATTACH;FMTTYPE=image/jpeg:https://tavistockon.ca/wp-content/uploads/2025/04/TAS-Easter-Egg-Hunt.jpg
END:VEVENT
END:VCALENDAR