BEGIN:VCALENDAR
VERSION:2.0
PRODID:-//Tavistock ON CA - ECPv6.15.18//NONSGML v1.0//EN
CALSCALE:GREGORIAN
METHOD:PUBLISH
X-ORIGINAL-URL:https://tavistockon.ca
X-WR-CALDESC:Events for Tavistock ON CA
REFRESH-INTERVAL;VALUE=DURATION:PT1H
X-Robots-Tag:noindex
X-PUBLISHED-TTL:PT1H
BEGIN:VTIMEZONE
TZID:UTC
BEGIN:STANDARD
TZOFFSETFROM:+0000
TZOFFSETTO:+0000
TZNAME:UTC
DTSTART:20240101T000000
END:STANDARD
END:VTIMEZONE
BEGIN:VTIMEZONE
TZID:America/Toronto
BEGIN:DAYLIGHT
TZOFFSETFROM:-0500
TZOFFSETTO:-0400
TZNAME:EDT
DTSTART:20240310T070000
END:DAYLIGHT
BEGIN:STANDARD
TZOFFSETFROM:-0400
TZOFFSETTO:-0500
TZNAME:EST
DTSTART:20241103T060000
END:STANDARD
BEGIN:DAYLIGHT
TZOFFSETFROM:-0500
TZOFFSETTO:-0400
TZNAME:EDT
DTSTART:20250309T070000
END:DAYLIGHT
BEGIN:STANDARD
TZOFFSETFROM:-0400
TZOFFSETTO:-0500
TZNAME:EST
DTSTART:20251102T060000
END:STANDARD
BEGIN:DAYLIGHT
TZOFFSETFROM:-0500
TZOFFSETTO:-0400
TZNAME:EDT
DTSTART:20260308T070000
END:DAYLIGHT
BEGIN:STANDARD
TZOFFSETFROM:-0400
TZOFFSETTO:-0500
TZNAME:EST
DTSTART:20261101T060000
END:STANDARD
END:VTIMEZONE
BEGIN:VEVENT
DTSTART;TZID=UTC:20250226T083000
DTEND;TZID=UTC:20250226T120000
DTSTAMP:20260420T153344
CREATED:20241021T142803Z
LAST-MODIFIED:20260413T164629Z
UID:10001497-1740558600-1740571200@tavistockon.ca
SUMMARY:Community Walk & Social - Wednesdays
DESCRIPTION:For more information\, contact Larry Brown at 519-240-6715
URL:https://tavistockon.ca/events/community-walk-social-wednesdays/2025-02-26/
LOCATION:Tavistock Memorial Hall\, 3 Adam Street\, Tavistock\, Ontario\, N0B 2R0\, Canada
CATEGORIES:Community Events
END:VEVENT
BEGIN:VEVENT
DTSTART;TZID=UTC:20250226T120000
DTEND;TZID=UTC:20250226T160000
DTSTAMP:20260420T153344
CREATED:20240624T231744Z
LAST-MODIFIED:20251016T153659Z
UID:10001011-1740571200-1740585600@tavistockon.ca
SUMMARY:Community Pickleball - Wednesday
DESCRIPTION:For more information\, contact Don Junker @ 519-535-7052
URL:https://tavistockon.ca/events/community-pickleball-wednesday/2025-02-26/
LOCATION:Tavistock Memorial Hall\, 3 Adam Street\, Tavistock\, Ontario\, N0B 2R0\, Canada
CATEGORIES:Community Events
END:VEVENT
BEGIN:VEVENT
DTSTART;TZID=UTC:20250226T120000
DTEND;TZID=UTC:20250226T163000
DTSTAMP:20260420T153344
CREATED:20240624T234626Z
LAST-MODIFIED:20241031T204655Z
UID:10001128-1740571200-1740587400@tavistockon.ca
SUMMARY:Shuffleboard - Wednesdays
DESCRIPTION:For more information\, contact Don Junker @ 519-535-7052
URL:https://tavistockon.ca/events/shuffleboard-wednesdays/2025-02-26/
LOCATION:Tavistock Arena Hall\, 1 Adam Street\, Tavistock\, Ontario\, N0B 2R0\, Canada
CATEGORIES:Community Events
END:VEVENT
BEGIN:VEVENT
DTSTART;TZID=UTC:20250227T100000
DTEND;TZID=UTC:20250227T160000
DTSTAMP:20260420T153344
CREATED:20240624T234922Z
LAST-MODIFIED:20241031T204635Z
UID:10001154-1740650400-1740672000@tavistockon.ca
SUMMARY:Shuffleboard - Thursdays
DESCRIPTION:For more information\, contact Don Junker @ 519-535-7052
URL:https://tavistockon.ca/events/shuffleboard-thursdays/2025-02-27/
LOCATION:Ontario
CATEGORIES:Community Events
END:VEVENT
BEGIN:VEVENT
DTSTART;TZID=UTC:20250228T083000
DTEND;TZID=UTC:20250228T233000
DTSTAMP:20260420T153344
CREATED:20240624T223207Z
LAST-MODIFIED:20240624T223207Z
UID:10000185-1740731400-1740785400@tavistockon.ca
SUMMARY:EarlyON Program
DESCRIPTION:Location: OUTDOOR PROGRAM: Queens Park\, Tavistock \nWho: Parents\, grandparents\, caregivers and children aged 0-6 years \nWhat to bring: Anything you may require to meet the needs of your child (diaper bag\, etc.). \nPlease Note: Parents are responsible for their children at all times while participating in our programs.  Please refrain from being on your phones while in program in order to attend to and engage with your child. \nProgram Description: Come play with us! The EarlyON Team will be traveling to your community and we hope you will join us in the park for songs\, rhymes\, stories\, and games!  Parents\, caregivers and grandparents with children aged 0-6 years (and their older siblings\, of course) are welcome to join us for this free drop-in program!  It is facilitated by qualified EarlyON Facilitators who are happy to answer questions about early learning and child development\, parenting topics\, and can provide additional information about other community programs and services. This is also an ideal opportunity for parents and caregivers to connect with others for social and community support.    \n\nProgram Cancellation: In the case that a program needs to be cancelled\, notices will be posted to Facebook and Instagram by 8:30 am on the day of the program.  Be sure to follow @oxfordearlyon for updates!
URL:https://tavistockon.ca/events/earlyon-program/2025-02-28/
LOCATION:Tavistock Memorial Hall\, 3 Adam Street\, Tavistock\, Ontario\, N0B 2R0\, Canada
END:VEVENT
BEGIN:VEVENT
DTSTART;TZID=UTC:20250228T120000
DTEND;TZID=UTC:20250228T160000
DTSTAMP:20260420T153344
CREATED:20240624T232120Z
LAST-MODIFIED:20251016T153739Z
UID:10002132-1740744000-1740758400@tavistockon.ca
SUMMARY:Community Pickleball - Friday
DESCRIPTION:For more information\, contact Don Junker @ 519-535-7052
URL:https://tavistockon.ca/events/community-pickleball-friday/2025-02-28/
LOCATION:Ontario
CATEGORIES:Community Events
END:VEVENT
BEGIN:VEVENT
DTSTART;TZID=UTC:20250301T130000
DTEND;TZID=UTC:20250301T140000
DTSTAMP:20260420T153344
CREATED:20240611T003557Z
LAST-MODIFIED:20241127T204708Z
UID:10000919-1740834000-1740837600@tavistockon.ca
SUMMARY:Public Skating
DESCRIPTION:
URL:https://tavistockon.ca/events/public-skating/2025-03-01/
LOCATION:Tavistock Arena\, 1 Adam Street\, Tavistock\, Ontario\, N0B 2R0\, Canada
END:VEVENT
BEGIN:VEVENT
DTSTART;TZID=UTC:20250303T083000
DTEND;TZID=UTC:20250303T120000
DTSTAMP:20260420T153344
CREATED:20241021T140856Z
LAST-MODIFIED:20260413T164511Z
UID:10001333-1740990600-1741003200@tavistockon.ca
SUMMARY:Community Walk & Social - Mondays
DESCRIPTION:For more information\, contact Larry Brown at 519-240-6715
URL:https://tavistockon.ca/events/community-walk-social-mondays-2/2025-03-03/
LOCATION:Tavistock Memorial Hall\, 3 Adam Street\, Tavistock\, Ontario\, N0B 2R0\, Canada
CATEGORIES:Community Events
END:VEVENT
BEGIN:VEVENT
DTSTART;TZID=UTC:20250303T120000
DTEND;TZID=UTC:20250303T160000
DTSTAMP:20260420T153344
CREATED:20240624T231632Z
LAST-MODIFIED:20251016T153638Z
UID:10000963-1741003200-1741017600@tavistockon.ca
SUMMARY:Community Pickleball - Monday
DESCRIPTION:For more information\, contact Don Junker @ 519-535-7052
URL:https://tavistockon.ca/events/community-pickleball-monday/2025-03-03/
LOCATION:Tavistock Memorial Hall\, 3 Adam Street\, Tavistock\, Ontario\, N0B 2R0\, Canada
CATEGORIES:Community Events
END:VEVENT
BEGIN:VEVENT
DTSTART;TZID=America/Toronto:20250304T163000
DTEND;TZID=America/Toronto:20250304T220000
DTSTAMP:20260420T153344
CREATED:20250210T172120Z
LAST-MODIFIED:20250210T172120Z
UID:10002054-1741105800-1741125600@tavistockon.ca
SUMMARY:Shrove Tuesday Pancake Supper
DESCRIPTION:Adults $18\, 6-12 $10\nCash or cheques at the door\nAll You can eat Pancakes\, Sausage\, Applesauce & Refreshments\nContact Jane McKay 519-276-9296
URL:https://tavistockon.ca/events/shrove-tuesday-pancake-supper/
LOCATION:Tavistock Legion\, 223 Hope Street West\, Tavistock\, Ontario\, N0B 2R0
END:VEVENT
BEGIN:VEVENT
DTSTART;TZID=UTC:20250305T083000
DTEND;TZID=UTC:20250305T120000
DTSTAMP:20260420T153344
CREATED:20241021T142803Z
LAST-MODIFIED:20260413T164629Z
UID:10001498-1741163400-1741176000@tavistockon.ca
SUMMARY:Community Walk & Social - Wednesdays
DESCRIPTION:For more information\, contact Larry Brown at 519-240-6715
URL:https://tavistockon.ca/events/community-walk-social-wednesdays/2025-03-05/
LOCATION:Tavistock Memorial Hall\, 3 Adam Street\, Tavistock\, Ontario\, N0B 2R0\, Canada
CATEGORIES:Community Events
END:VEVENT
BEGIN:VEVENT
DTSTART;TZID=UTC:20250305T120000
DTEND;TZID=UTC:20250305T160000
DTSTAMP:20260420T153344
CREATED:20240624T231744Z
LAST-MODIFIED:20251016T153659Z
UID:10001012-1741176000-1741190400@tavistockon.ca
SUMMARY:Community Pickleball - Wednesday
DESCRIPTION:For more information\, contact Don Junker @ 519-535-7052
URL:https://tavistockon.ca/events/community-pickleball-wednesday/2025-03-05/
LOCATION:Tavistock Memorial Hall\, 3 Adam Street\, Tavistock\, Ontario\, N0B 2R0\, Canada
CATEGORIES:Community Events
END:VEVENT
BEGIN:VEVENT
DTSTART;TZID=UTC:20250305T120000
DTEND;TZID=UTC:20250305T163000
DTSTAMP:20260420T153344
CREATED:20240624T234626Z
LAST-MODIFIED:20241031T204655Z
UID:10001129-1741176000-1741192200@tavistockon.ca
SUMMARY:Shuffleboard - Wednesdays
DESCRIPTION:For more information\, contact Don Junker @ 519-535-7052
URL:https://tavistockon.ca/events/shuffleboard-wednesdays/2025-03-05/
LOCATION:Tavistock Arena Hall\, 1 Adam Street\, Tavistock\, Ontario\, N0B 2R0\, Canada
CATEGORIES:Community Events
END:VEVENT
BEGIN:VEVENT
DTSTART;TZID=UTC:20250306T100000
DTEND;TZID=UTC:20250306T160000
DTSTAMP:20260420T153344
CREATED:20240624T234922Z
LAST-MODIFIED:20241031T204635Z
UID:10001155-1741255200-1741276800@tavistockon.ca
SUMMARY:Shuffleboard - Thursdays
DESCRIPTION:For more information\, contact Don Junker @ 519-535-7052
URL:https://tavistockon.ca/events/shuffleboard-thursdays/2025-03-06/
LOCATION:Ontario
CATEGORIES:Community Events
END:VEVENT
BEGIN:VEVENT
DTSTART;TZID=UTC:20250307T083000
DTEND;TZID=UTC:20250307T233000
DTSTAMP:20260420T153344
CREATED:20240624T223207Z
LAST-MODIFIED:20240624T223207Z
UID:10000186-1741336200-1741390200@tavistockon.ca
SUMMARY:EarlyON Program
DESCRIPTION:Location: OUTDOOR PROGRAM: Queens Park\, Tavistock \nWho: Parents\, grandparents\, caregivers and children aged 0-6 years \nWhat to bring: Anything you may require to meet the needs of your child (diaper bag\, etc.). \nPlease Note: Parents are responsible for their children at all times while participating in our programs.  Please refrain from being on your phones while in program in order to attend to and engage with your child. \nProgram Description: Come play with us! The EarlyON Team will be traveling to your community and we hope you will join us in the park for songs\, rhymes\, stories\, and games!  Parents\, caregivers and grandparents with children aged 0-6 years (and their older siblings\, of course) are welcome to join us for this free drop-in program!  It is facilitated by qualified EarlyON Facilitators who are happy to answer questions about early learning and child development\, parenting topics\, and can provide additional information about other community programs and services. This is also an ideal opportunity for parents and caregivers to connect with others for social and community support.    \n\nProgram Cancellation: In the case that a program needs to be cancelled\, notices will be posted to Facebook and Instagram by 8:30 am on the day of the program.  Be sure to follow @oxfordearlyon for updates!
URL:https://tavistockon.ca/events/earlyon-program/2025-03-07/
LOCATION:Tavistock Memorial Hall\, 3 Adam Street\, Tavistock\, Ontario\, N0B 2R0\, Canada
END:VEVENT
BEGIN:VEVENT
DTSTART;TZID=UTC:20250307T120000
DTEND;TZID=UTC:20250307T160000
DTSTAMP:20260420T153344
CREATED:20240624T232120Z
LAST-MODIFIED:20251016T153739Z
UID:10002133-1741348800-1741363200@tavistockon.ca
SUMMARY:Community Pickleball - Friday
DESCRIPTION:For more information\, contact Don Junker @ 519-535-7052
URL:https://tavistockon.ca/events/community-pickleball-friday/2025-03-07/
LOCATION:Ontario
CATEGORIES:Community Events
END:VEVENT
BEGIN:VEVENT
DTSTART;TZID=UTC:20250308T130000
DTEND;TZID=UTC:20250308T140000
DTSTAMP:20260420T153344
CREATED:20240611T003557Z
LAST-MODIFIED:20241127T204708Z
UID:10000920-1741438800-1741442400@tavistockon.ca
SUMMARY:Public Skating
DESCRIPTION:
URL:https://tavistockon.ca/events/public-skating/2025-03-08/
LOCATION:Tavistock Arena\, 1 Adam Street\, Tavistock\, Ontario\, N0B 2R0\, Canada
END:VEVENT
BEGIN:VEVENT
DTSTART;TZID=UTC:20250310T083000
DTEND;TZID=UTC:20250310T120000
DTSTAMP:20260420T153344
CREATED:20241021T140856Z
LAST-MODIFIED:20260413T164511Z
UID:10001334-1741595400-1741608000@tavistockon.ca
SUMMARY:Community Walk & Social - Mondays
DESCRIPTION:For more information\, contact Larry Brown at 519-240-6715
URL:https://tavistockon.ca/events/community-walk-social-mondays-2/2025-03-10/
LOCATION:Tavistock Memorial Hall\, 3 Adam Street\, Tavistock\, Ontario\, N0B 2R0\, Canada
CATEGORIES:Community Events
END:VEVENT
BEGIN:VEVENT
DTSTART;TZID=UTC:20250310T120000
DTEND;TZID=UTC:20250310T160000
DTSTAMP:20260420T153344
CREATED:20240624T231632Z
LAST-MODIFIED:20251016T153638Z
UID:10000964-1741608000-1741622400@tavistockon.ca
SUMMARY:Community Pickleball - Monday
DESCRIPTION:For more information\, contact Don Junker @ 519-535-7052
URL:https://tavistockon.ca/events/community-pickleball-monday/2025-03-10/
LOCATION:Tavistock Memorial Hall\, 3 Adam Street\, Tavistock\, Ontario\, N0B 2R0\, Canada
CATEGORIES:Community Events
END:VEVENT
BEGIN:VEVENT
DTSTART;TZID=America/Toronto:20250311T070000
DTEND;TZID=America/Toronto:20250311T150000
DTSTAMP:20260420T153344
CREATED:20250306T182322Z
LAST-MODIFIED:20250306T182322Z
UID:10002055-1741676400-1741705200@tavistockon.ca
SUMMARY:D&D Homestyle Cafe 10th Anniversary
DESCRIPTION:Coffee price as it was 10 years ago \nTrivia questions with great prizes for the winners \nGet a 10th Anniversary pen \nFree cake \nThanks you for the support for the past 10 years and enjoying our dining room as if we were welcoming you into our home.
URL:https://tavistockon.ca/events/dd-homestyle-cafe-10th-anniversary/
LOCATION:D&D Homestyle Cafe\, 8 Woodstock Street N\, Tavistock\, Ontario\, N0B 2R0\, Canada
END:VEVENT
BEGIN:VEVENT
DTSTART;TZID=UTC:20250312T083000
DTEND;TZID=UTC:20250312T120000
DTSTAMP:20260420T153344
CREATED:20241021T142803Z
LAST-MODIFIED:20260413T164629Z
UID:10001499-1741768200-1741780800@tavistockon.ca
SUMMARY:Community Walk & Social - Wednesdays
DESCRIPTION:For more information\, contact Larry Brown at 519-240-6715
URL:https://tavistockon.ca/events/community-walk-social-wednesdays/2025-03-12/
LOCATION:Tavistock Memorial Hall\, 3 Adam Street\, Tavistock\, Ontario\, N0B 2R0\, Canada
CATEGORIES:Community Events
END:VEVENT
BEGIN:VEVENT
DTSTART;TZID=UTC:20250312T120000
DTEND;TZID=UTC:20250312T160000
DTSTAMP:20260420T153344
CREATED:20240624T231744Z
LAST-MODIFIED:20251016T153659Z
UID:10001013-1741780800-1741795200@tavistockon.ca
SUMMARY:Community Pickleball - Wednesday
DESCRIPTION:For more information\, contact Don Junker @ 519-535-7052
URL:https://tavistockon.ca/events/community-pickleball-wednesday/2025-03-12/
LOCATION:Tavistock Memorial Hall\, 3 Adam Street\, Tavistock\, Ontario\, N0B 2R0\, Canada
CATEGORIES:Community Events
END:VEVENT
BEGIN:VEVENT
DTSTART;TZID=UTC:20250312T120000
DTEND;TZID=UTC:20250312T163000
DTSTAMP:20260420T153344
CREATED:20240624T234626Z
LAST-MODIFIED:20241031T204655Z
UID:10001130-1741780800-1741797000@tavistockon.ca
SUMMARY:Shuffleboard - Wednesdays
DESCRIPTION:For more information\, contact Don Junker @ 519-535-7052
URL:https://tavistockon.ca/events/shuffleboard-wednesdays/2025-03-12/
LOCATION:Tavistock Arena Hall\, 1 Adam Street\, Tavistock\, Ontario\, N0B 2R0\, Canada
CATEGORIES:Community Events
END:VEVENT
BEGIN:VEVENT
DTSTART;TZID=UTC:20250313T100000
DTEND;TZID=UTC:20250313T160000
DTSTAMP:20260420T153344
CREATED:20240624T234922Z
LAST-MODIFIED:20241031T204635Z
UID:10001156-1741860000-1741881600@tavistockon.ca
SUMMARY:Shuffleboard - Thursdays
DESCRIPTION:For more information\, contact Don Junker @ 519-535-7052
URL:https://tavistockon.ca/events/shuffleboard-thursdays/2025-03-13/
LOCATION:Ontario
CATEGORIES:Community Events
END:VEVENT
BEGIN:VEVENT
DTSTART;TZID=UTC:20250314T083000
DTEND;TZID=UTC:20250314T233000
DTSTAMP:20260420T153344
CREATED:20240624T223207Z
LAST-MODIFIED:20240624T223207Z
UID:10000187-1741941000-1741995000@tavistockon.ca
SUMMARY:EarlyON Program
DESCRIPTION:Location: OUTDOOR PROGRAM: Queens Park\, Tavistock \nWho: Parents\, grandparents\, caregivers and children aged 0-6 years \nWhat to bring: Anything you may require to meet the needs of your child (diaper bag\, etc.). \nPlease Note: Parents are responsible for their children at all times while participating in our programs.  Please refrain from being on your phones while in program in order to attend to and engage with your child. \nProgram Description: Come play with us! The EarlyON Team will be traveling to your community and we hope you will join us in the park for songs\, rhymes\, stories\, and games!  Parents\, caregivers and grandparents with children aged 0-6 years (and their older siblings\, of course) are welcome to join us for this free drop-in program!  It is facilitated by qualified EarlyON Facilitators who are happy to answer questions about early learning and child development\, parenting topics\, and can provide additional information about other community programs and services. This is also an ideal opportunity for parents and caregivers to connect with others for social and community support.    \n\nProgram Cancellation: In the case that a program needs to be cancelled\, notices will be posted to Facebook and Instagram by 8:30 am on the day of the program.  Be sure to follow @oxfordearlyon for updates!
URL:https://tavistockon.ca/events/earlyon-program/2025-03-14/
LOCATION:Tavistock Memorial Hall\, 3 Adam Street\, Tavistock\, Ontario\, N0B 2R0\, Canada
END:VEVENT
BEGIN:VEVENT
DTSTART;TZID=UTC:20250314T120000
DTEND;TZID=UTC:20250314T160000
DTSTAMP:20260420T153344
CREATED:20240624T232120Z
LAST-MODIFIED:20251016T153739Z
UID:10002134-1741953600-1741968000@tavistockon.ca
SUMMARY:Community Pickleball - Friday
DESCRIPTION:For more information\, contact Don Junker @ 519-535-7052
URL:https://tavistockon.ca/events/community-pickleball-friday/2025-03-14/
LOCATION:Ontario
CATEGORIES:Community Events
END:VEVENT
BEGIN:VEVENT
DTSTART;TZID=America/Toronto:20250315T100000
DTEND;TZID=America/Toronto:20250315T233000
DTSTAMP:20260420T153344
CREATED:20250311T204124Z
LAST-MODIFIED:20250311T204304Z
UID:10002063-1742032800-1742081400@tavistockon.ca
SUMMARY:Tavistock Board Game Event
DESCRIPTION:Join us for our next Board Game Event on Saturday\, March 15th from 10am-11:30pm at Tavistock Men’s Club Hall. Youth/teens 12 to 17 may attend if accompanied by an adult 18 & older. Entry Fee: Adult $10\, Youth/Teens $5. We have games available and you are welcome to bring your own games and snacks to share. Alcohol not permitted.
URL:https://tavistockon.ca/events/tavistock-board-game-event/
LOCATION:Tavistock Men’s Club Hall\, 78 Woodstock St. N\, Tavistock\, Ontario\, N0B 2R0\, Canada
CATEGORIES:Community Events
END:VEVENT
BEGIN:VEVENT
DTSTART;TZID=UTC:20250315T130000
DTEND;TZID=UTC:20250315T140000
DTSTAMP:20260420T153344
CREATED:20240611T003557Z
LAST-MODIFIED:20241127T204708Z
UID:10000921-1742043600-1742047200@tavistockon.ca
SUMMARY:Public Skating
DESCRIPTION:
URL:https://tavistockon.ca/events/public-skating/2025-03-15/
LOCATION:Tavistock Arena\, 1 Adam Street\, Tavistock\, Ontario\, N0B 2R0\, Canada
END:VEVENT
BEGIN:VEVENT
DTSTART;TZID=America/Toronto:20250315T130000
DTEND;TZID=America/Toronto:20250315T160000
DTSTAMP:20260420T153344
CREATED:20241021T133737Z
LAST-MODIFIED:20250310T145206Z
UID:10001173-1742043600-1742054400@tavistockon.ca
SUMMARY:Tavistock & District Historical Society Museum Opening
DESCRIPTION:
URL:https://tavistockon.ca/events/tavistock-district-historical-society-museum-opening/2025-03-15/
LOCATION:Tavistock & District Historical Society Museum\, 37 Maria Street\, Tavistock\, Ontario\, N0B 2R0\, Canada
CATEGORIES:Community Events
END:VEVENT
BEGIN:VEVENT
DTSTART;TZID=UTC:20250317T083000
DTEND;TZID=UTC:20250317T120000
DTSTAMP:20260420T153344
CREATED:20241021T140856Z
LAST-MODIFIED:20260413T164511Z
UID:10001335-1742200200-1742212800@tavistockon.ca
SUMMARY:Community Walk & Social - Mondays
DESCRIPTION:For more information\, contact Larry Brown at 519-240-6715
URL:https://tavistockon.ca/events/community-walk-social-mondays-2/2025-03-17/
LOCATION:Tavistock Memorial Hall\, 3 Adam Street\, Tavistock\, Ontario\, N0B 2R0\, Canada
CATEGORIES:Community Events
END:VEVENT
END:VCALENDAR