BEGIN:VCALENDAR
VERSION:2.0
PRODID:-//Tavistock ON CA - ECPv6.15.18//NONSGML v1.0//EN
CALSCALE:GREGORIAN
METHOD:PUBLISH
X-WR-CALNAME:Tavistock ON CA
X-ORIGINAL-URL:https://tavistockon.ca
X-WR-CALDESC:Events for Tavistock ON CA
REFRESH-INTERVAL;VALUE=DURATION:PT1H
X-Robots-Tag:noindex
X-PUBLISHED-TTL:PT1H
BEGIN:VTIMEZONE
TZID:UTC
BEGIN:STANDARD
TZOFFSETFROM:+0000
TZOFFSETTO:+0000
TZNAME:UTC
DTSTART:20230101T000000
END:STANDARD
END:VTIMEZONE
BEGIN:VEVENT
DTSTART;TZID=UTC:20240605T160000
DTEND;TZID=UTC:20240605T190000
DTSTAMP:20260419T102606
CREATED:20240529T042440Z
LAST-MODIFIED:20240529T042728Z
UID:10000006-1717603200-1717614000@tavistockon.ca
SUMMARY:Tavistock Men's Club Fish Fry
DESCRIPTION:Pickeral Dine-in or Take-out – \nAdults $30 | Children (6-12) $15 – \nTickets available at Men’s Club Hall – 78 Woodstock St. N – \nEvery Wednesday\, 4 – 7 pm\, Saturday 11 – 2 pm – \nor from Club members or call 519-655-2286 or 519-655-3573 – \nEmail: info@tavistockmensclub.ca
URL:https://tavistockon.ca/events/tavistock-mens-club-fish-fry/
LOCATION:Tavistock Men’s Club Hall\, 78 Woodstock St. N\, Tavistock\, Ontario\, N0B 2R0\, Canada
END:VEVENT
BEGIN:VEVENT
DTSTART;TZID=UTC:20240603T120000
DTEND;TZID=UTC:20240603T160000
DTSTAMP:20260419T102606
CREATED:20240624T231632Z
LAST-MODIFIED:20251016T153638Z
UID:10000924-1717416000-1717430400@tavistockon.ca
SUMMARY:Community Pickleball - Monday
DESCRIPTION:For more information\, contact Don Junker @ 519-535-7052
URL:https://tavistockon.ca/events/community-pickleball-monday/2024-06-03/
LOCATION:Tavistock Memorial Hall\, 3 Adam Street\, Tavistock\, Ontario\, N0B 2R0\, Canada
CATEGORIES:Community Events
END:VEVENT
BEGIN:VEVENT
DTSTART;TZID=UTC:20240601T070000
DTEND;TZID=UTC:20240601T230000
DTSTAMP:20260419T102606
CREATED:20240624T222218Z
LAST-MODIFIED:20240624T222218Z
UID:10000145-1717225200-1717282800@tavistockon.ca
SUMMARY:World Crokinole Championship
DESCRIPTION:
URL:https://tavistockon.ca/events/world-crokinole-championship/
LOCATION:Tavistock Arena Curling Club\, 1 Adam Street\, Tavistock\, Ontario\, N0B 2R0\, Canada
END:VEVENT
BEGIN:VEVENT
DTSTART;TZID=UTC:20240427T203000
DTEND;TZID=UTC:20240427T203000
DTSTAMP:20260419T102606
CREATED:20240326T214815Z
LAST-MODIFIED:20240326T215153Z
UID:10000003-1714249800-1714249800@tavistockon.ca
SUMMARY:Lulu's Band
DESCRIPTION:
URL:https://tavistockon.ca/events/tavistock-opti-mrs/
LOCATION:Ontario
END:VEVENT
BEGIN:VEVENT
DTSTART;TZID=UTC:20240406T183000
DTEND;TZID=UTC:20240406T213000
DTSTAMP:20260419T102606
CREATED:20240327T183353Z
LAST-MODIFIED:20240327T183536Z
UID:10000004-1712428200-1712439000@tavistockon.ca
SUMMARY:Trivia Night
DESCRIPTION:Lasagne Dinner catered by D&D Homestyle Cafe.
URL:https://tavistockon.ca/events/trivia-night/
LOCATION:Ontario
END:VEVENT
END:VCALENDAR