BEGIN:VCALENDAR
VERSION:2.0
PRODID:-//Tavistock ON CA - ECPv6.15.18//NONSGML v1.0//EN
CALSCALE:GREGORIAN
METHOD:PUBLISH
X-WR-CALNAME:Tavistock ON CA
X-ORIGINAL-URL:https://tavistockon.ca
X-WR-CALDESC:Events for Tavistock ON CA
REFRESH-INTERVAL;VALUE=DURATION:PT1H
X-Robots-Tag:noindex
X-PUBLISHED-TTL:PT1H
BEGIN:VTIMEZONE
TZID:UTC
BEGIN:STANDARD
TZOFFSETFROM:+0000
TZOFFSETTO:+0000
TZNAME:UTC
DTSTART:20240101T000000
END:STANDARD
END:VTIMEZONE
BEGIN:VTIMEZONE
TZID:America/Toronto
BEGIN:DAYLIGHT
TZOFFSETFROM:-0500
TZOFFSETTO:-0400
TZNAME:EDT
DTSTART:20240310T070000
END:DAYLIGHT
BEGIN:STANDARD
TZOFFSETFROM:-0400
TZOFFSETTO:-0500
TZNAME:EST
DTSTART:20241103T060000
END:STANDARD
BEGIN:DAYLIGHT
TZOFFSETFROM:-0500
TZOFFSETTO:-0400
TZNAME:EDT
DTSTART:20250309T070000
END:DAYLIGHT
BEGIN:STANDARD
TZOFFSETFROM:-0400
TZOFFSETTO:-0500
TZNAME:EST
DTSTART:20251102T060000
END:STANDARD
BEGIN:DAYLIGHT
TZOFFSETFROM:-0500
TZOFFSETTO:-0400
TZNAME:EDT
DTSTART:20260308T070000
END:DAYLIGHT
BEGIN:STANDARD
TZOFFSETFROM:-0400
TZOFFSETTO:-0500
TZNAME:EST
DTSTART:20261101T060000
END:STANDARD
END:VTIMEZONE
BEGIN:VEVENT
DTSTART;TZID=UTC:20250203T120000
DTEND;TZID=UTC:20250203T160000
DTSTAMP:20260420T122400
CREATED:20240624T231632Z
LAST-MODIFIED:20251016T153638Z
UID:10000959-1738584000-1738598400@tavistockon.ca
SUMMARY:Community Pickleball - Monday
DESCRIPTION:For more information\, contact Don Junker @ 519-535-7052
URL:https://tavistockon.ca/events/community-pickleball-monday/2025-02-03/
LOCATION:Tavistock Memorial Hall\, 3 Adam Street\, Tavistock\, Ontario\, N0B 2R0\, Canada
CATEGORIES:Community Events
END:VEVENT
BEGIN:VEVENT
DTSTART;TZID=UTC:20250205T083000
DTEND;TZID=UTC:20250205T120000
DTSTAMP:20260420T122400
CREATED:20241021T142803Z
LAST-MODIFIED:20260413T164629Z
UID:10001494-1738744200-1738756800@tavistockon.ca
SUMMARY:Community Walk & Social - Wednesdays
DESCRIPTION:For more information\, contact Larry Brown at 519-240-6715
URL:https://tavistockon.ca/events/community-walk-social-wednesdays/2025-02-05/
LOCATION:Tavistock Memorial Hall\, 3 Adam Street\, Tavistock\, Ontario\, N0B 2R0\, Canada
CATEGORIES:Community Events
END:VEVENT
BEGIN:VEVENT
DTSTART;TZID=UTC:20250205T120000
DTEND;TZID=UTC:20250205T160000
DTSTAMP:20260420T122400
CREATED:20240624T231744Z
LAST-MODIFIED:20251016T153659Z
UID:10001008-1738756800-1738771200@tavistockon.ca
SUMMARY:Community Pickleball - Wednesday
DESCRIPTION:For more information\, contact Don Junker @ 519-535-7052
URL:https://tavistockon.ca/events/community-pickleball-wednesday/2025-02-05/
LOCATION:Tavistock Memorial Hall\, 3 Adam Street\, Tavistock\, Ontario\, N0B 2R0\, Canada
CATEGORIES:Community Events
END:VEVENT
BEGIN:VEVENT
DTSTART;TZID=UTC:20250205T120000
DTEND;TZID=UTC:20250205T163000
DTSTAMP:20260420T122400
CREATED:20240624T234626Z
LAST-MODIFIED:20241031T204655Z
UID:10001125-1738756800-1738773000@tavistockon.ca
SUMMARY:Shuffleboard - Wednesdays
DESCRIPTION:For more information\, contact Don Junker @ 519-535-7052
URL:https://tavistockon.ca/events/shuffleboard-wednesdays/2025-02-05/
LOCATION:Tavistock Arena Hall\, 1 Adam Street\, Tavistock\, Ontario\, N0B 2R0\, Canada
CATEGORIES:Community Events
END:VEVENT
BEGIN:VEVENT
DTSTART;TZID=UTC:20250206T100000
DTEND;TZID=UTC:20250206T160000
DTSTAMP:20260420T122400
CREATED:20240624T234922Z
LAST-MODIFIED:20241031T204635Z
UID:10001151-1738836000-1738857600@tavistockon.ca
SUMMARY:Shuffleboard - Thursdays
DESCRIPTION:For more information\, contact Don Junker @ 519-535-7052
URL:https://tavistockon.ca/events/shuffleboard-thursdays/2025-02-06/
LOCATION:Ontario
CATEGORIES:Community Events
END:VEVENT
BEGIN:VEVENT
DTSTART;TZID=UTC:20250207T083000
DTEND;TZID=UTC:20250207T233000
DTSTAMP:20260420T122400
CREATED:20240624T223207Z
LAST-MODIFIED:20240624T223207Z
UID:10000182-1738917000-1738971000@tavistockon.ca
SUMMARY:EarlyON Program
DESCRIPTION:Location: OUTDOOR PROGRAM: Queens Park\, Tavistock \nWho: Parents\, grandparents\, caregivers and children aged 0-6 years \nWhat to bring: Anything you may require to meet the needs of your child (diaper bag\, etc.). \nPlease Note: Parents are responsible for their children at all times while participating in our programs.  Please refrain from being on your phones while in program in order to attend to and engage with your child. \nProgram Description: Come play with us! The EarlyON Team will be traveling to your community and we hope you will join us in the park for songs\, rhymes\, stories\, and games!  Parents\, caregivers and grandparents with children aged 0-6 years (and their older siblings\, of course) are welcome to join us for this free drop-in program!  It is facilitated by qualified EarlyON Facilitators who are happy to answer questions about early learning and child development\, parenting topics\, and can provide additional information about other community programs and services. This is also an ideal opportunity for parents and caregivers to connect with others for social and community support.    \n\nProgram Cancellation: In the case that a program needs to be cancelled\, notices will be posted to Facebook and Instagram by 8:30 am on the day of the program.  Be sure to follow @oxfordearlyon for updates!
URL:https://tavistockon.ca/events/earlyon-program/2025-02-07/
LOCATION:Tavistock Memorial Hall\, 3 Adam Street\, Tavistock\, Ontario\, N0B 2R0\, Canada
END:VEVENT
BEGIN:VEVENT
DTSTART;TZID=UTC:20250207T120000
DTEND;TZID=UTC:20250207T160000
DTSTAMP:20260420T122400
CREATED:20240624T232120Z
LAST-MODIFIED:20251016T153739Z
UID:10002129-1738929600-1738944000@tavistockon.ca
SUMMARY:Community Pickleball - Friday
DESCRIPTION:For more information\, contact Don Junker @ 519-535-7052
URL:https://tavistockon.ca/events/community-pickleball-friday/2025-02-07/
LOCATION:Ontario
CATEGORIES:Community Events
END:VEVENT
BEGIN:VEVENT
DTSTART;TZID=UTC:20250208T130000
DTEND;TZID=UTC:20250208T140000
DTSTAMP:20260420T122400
CREATED:20240611T003557Z
LAST-MODIFIED:20241127T204708Z
UID:10000916-1739019600-1739023200@tavistockon.ca
SUMMARY:Public Skating
DESCRIPTION:
URL:https://tavistockon.ca/events/public-skating/2025-02-08/
LOCATION:Tavistock Arena\, 1 Adam Street\, Tavistock\, Ontario\, N0B 2R0\, Canada
END:VEVENT
BEGIN:VEVENT
DTSTART;TZID=UTC:20250210T083000
DTEND;TZID=UTC:20250210T120000
DTSTAMP:20260420T122400
CREATED:20241021T140856Z
LAST-MODIFIED:20260413T164511Z
UID:10001330-1739176200-1739188800@tavistockon.ca
SUMMARY:Community Walk & Social - Mondays
DESCRIPTION:For more information\, contact Larry Brown at 519-240-6715
URL:https://tavistockon.ca/events/community-walk-social-mondays-2/2025-02-10/
LOCATION:Tavistock Memorial Hall\, 3 Adam Street\, Tavistock\, Ontario\, N0B 2R0\, Canada
CATEGORIES:Community Events
END:VEVENT
BEGIN:VEVENT
DTSTART;TZID=UTC:20250210T120000
DTEND;TZID=UTC:20250210T160000
DTSTAMP:20260420T122400
CREATED:20240624T231632Z
LAST-MODIFIED:20251016T153638Z
UID:10000960-1739188800-1739203200@tavistockon.ca
SUMMARY:Community Pickleball - Monday
DESCRIPTION:For more information\, contact Don Junker @ 519-535-7052
URL:https://tavistockon.ca/events/community-pickleball-monday/2025-02-10/
LOCATION:Tavistock Memorial Hall\, 3 Adam Street\, Tavistock\, Ontario\, N0B 2R0\, Canada
CATEGORIES:Community Events
END:VEVENT
BEGIN:VEVENT
DTSTART;TZID=UTC:20250212T083000
DTEND;TZID=UTC:20250212T120000
DTSTAMP:20260420T122400
CREATED:20241021T142803Z
LAST-MODIFIED:20260413T164629Z
UID:10001495-1739349000-1739361600@tavistockon.ca
SUMMARY:Community Walk & Social - Wednesdays
DESCRIPTION:For more information\, contact Larry Brown at 519-240-6715
URL:https://tavistockon.ca/events/community-walk-social-wednesdays/2025-02-12/
LOCATION:Tavistock Memorial Hall\, 3 Adam Street\, Tavistock\, Ontario\, N0B 2R0\, Canada
CATEGORIES:Community Events
END:VEVENT
BEGIN:VEVENT
DTSTART;TZID=UTC:20250212T120000
DTEND;TZID=UTC:20250212T160000
DTSTAMP:20260420T122400
CREATED:20240624T231744Z
LAST-MODIFIED:20251016T153659Z
UID:10001009-1739361600-1739376000@tavistockon.ca
SUMMARY:Community Pickleball - Wednesday
DESCRIPTION:For more information\, contact Don Junker @ 519-535-7052
URL:https://tavistockon.ca/events/community-pickleball-wednesday/2025-02-12/
LOCATION:Tavistock Memorial Hall\, 3 Adam Street\, Tavistock\, Ontario\, N0B 2R0\, Canada
CATEGORIES:Community Events
END:VEVENT
BEGIN:VEVENT
DTSTART;TZID=UTC:20250212T120000
DTEND;TZID=UTC:20250212T163000
DTSTAMP:20260420T122400
CREATED:20240624T234626Z
LAST-MODIFIED:20241031T204655Z
UID:10001126-1739361600-1739377800@tavistockon.ca
SUMMARY:Shuffleboard - Wednesdays
DESCRIPTION:For more information\, contact Don Junker @ 519-535-7052
URL:https://tavistockon.ca/events/shuffleboard-wednesdays/2025-02-12/
LOCATION:Tavistock Arena Hall\, 1 Adam Street\, Tavistock\, Ontario\, N0B 2R0\, Canada
CATEGORIES:Community Events
END:VEVENT
BEGIN:VEVENT
DTSTART;TZID=UTC:20250213T100000
DTEND;TZID=UTC:20250213T160000
DTSTAMP:20260420T122400
CREATED:20240624T234922Z
LAST-MODIFIED:20241031T204635Z
UID:10001152-1739440800-1739462400@tavistockon.ca
SUMMARY:Shuffleboard - Thursdays
DESCRIPTION:For more information\, contact Don Junker @ 519-535-7052
URL:https://tavistockon.ca/events/shuffleboard-thursdays/2025-02-13/
LOCATION:Ontario
CATEGORIES:Community Events
END:VEVENT
BEGIN:VEVENT
DTSTART;TZID=UTC:20250214T083000
DTEND;TZID=UTC:20250214T233000
DTSTAMP:20260420T122400
CREATED:20240624T223207Z
LAST-MODIFIED:20240624T223207Z
UID:10000183-1739521800-1739575800@tavistockon.ca
SUMMARY:EarlyON Program
DESCRIPTION:Location: OUTDOOR PROGRAM: Queens Park\, Tavistock \nWho: Parents\, grandparents\, caregivers and children aged 0-6 years \nWhat to bring: Anything you may require to meet the needs of your child (diaper bag\, etc.). \nPlease Note: Parents are responsible for their children at all times while participating in our programs.  Please refrain from being on your phones while in program in order to attend to and engage with your child. \nProgram Description: Come play with us! The EarlyON Team will be traveling to your community and we hope you will join us in the park for songs\, rhymes\, stories\, and games!  Parents\, caregivers and grandparents with children aged 0-6 years (and their older siblings\, of course) are welcome to join us for this free drop-in program!  It is facilitated by qualified EarlyON Facilitators who are happy to answer questions about early learning and child development\, parenting topics\, and can provide additional information about other community programs and services. This is also an ideal opportunity for parents and caregivers to connect with others for social and community support.    \n\nProgram Cancellation: In the case that a program needs to be cancelled\, notices will be posted to Facebook and Instagram by 8:30 am on the day of the program.  Be sure to follow @oxfordearlyon for updates!
URL:https://tavistockon.ca/events/earlyon-program/2025-02-14/
LOCATION:Tavistock Memorial Hall\, 3 Adam Street\, Tavistock\, Ontario\, N0B 2R0\, Canada
END:VEVENT
BEGIN:VEVENT
DTSTART;TZID=UTC:20250214T120000
DTEND;TZID=UTC:20250214T160000
DTSTAMP:20260420T122400
CREATED:20240624T232120Z
LAST-MODIFIED:20251016T153739Z
UID:10002130-1739534400-1739548800@tavistockon.ca
SUMMARY:Community Pickleball - Friday
DESCRIPTION:For more information\, contact Don Junker @ 519-535-7052
URL:https://tavistockon.ca/events/community-pickleball-friday/2025-02-14/
LOCATION:Ontario
CATEGORIES:Community Events
END:VEVENT
BEGIN:VEVENT
DTSTART;TZID=America/Toronto:20250214T160000
DTEND;TZID=America/Toronto:20250214T190000
DTSTAMP:20260420T122400
CREATED:20250115T152627Z
LAST-MODIFIED:20250115T152627Z
UID:10001643-1739548800-1739559600@tavistockon.ca
SUMMARY:Quehl's Valentine's Buffet
DESCRIPTION:Celebrate Valentine’s Day with an all-you-can-eat evening buffet including the following: mashed potatoes\, vegetables\, “Marry Me” chicken\, roast beef\, roast turkey\, breaded shrimp\, rolled stuffed ribs\, salad bar\, cream of asparagus soup\, red velvet trifle\, cheesecake and assorted dainties and squares. Coffee\, tea & punch included. \nAdults: $27.95\nSeniors 60 – 80: $23.50\nSeniors 80+: $21.00\nSoup & Salad: $13.25\nSoup\, Salad & Dessert: $16.25\nKids 8 – 12: $12.50\nKids 4 – 7: $8.50\n3 & under: free
URL:https://tavistockon.ca/events/quehls-valentines-buffet/
LOCATION:Quehl’s Restaurant\, 33 Woodstock St. S\, Tavistock\, Ontario\, N0B 2R0\, Canada
CATEGORIES:Community Events
END:VEVENT
BEGIN:VEVENT
DTSTART;TZID=UTC:20250215T130000
DTEND;TZID=UTC:20250215T140000
DTSTAMP:20260420T122400
CREATED:20240611T003557Z
LAST-MODIFIED:20241127T204708Z
UID:10000917-1739624400-1739628000@tavistockon.ca
SUMMARY:Public Skating
DESCRIPTION:
URL:https://tavistockon.ca/events/public-skating/2025-02-15/
LOCATION:Tavistock Arena\, 1 Adam Street\, Tavistock\, Ontario\, N0B 2R0\, Canada
END:VEVENT
BEGIN:VEVENT
DTSTART;TZID=America/Toronto:20250215T130000
DTEND;TZID=America/Toronto:20250215T160000
DTSTAMP:20260420T122400
CREATED:20241021T133737Z
LAST-MODIFIED:20250310T145206Z
UID:10001172-1739624400-1739635200@tavistockon.ca
SUMMARY:Tavistock & District Historical Society Museum Opening
DESCRIPTION:
URL:https://tavistockon.ca/events/tavistock-district-historical-society-museum-opening/2025-02-15/
LOCATION:Tavistock & District Historical Society Museum\, 37 Maria Street\, Tavistock\, Ontario\, N0B 2R0\, Canada
CATEGORIES:Community Events
END:VEVENT
BEGIN:VEVENT
DTSTART;TZID=UTC:20250217T083000
DTEND;TZID=UTC:20250217T120000
DTSTAMP:20260420T122400
CREATED:20241021T140856Z
LAST-MODIFIED:20260413T164511Z
UID:10001331-1739781000-1739793600@tavistockon.ca
SUMMARY:Community Walk & Social - Mondays
DESCRIPTION:For more information\, contact Larry Brown at 519-240-6715
URL:https://tavistockon.ca/events/community-walk-social-mondays-2/2025-02-17/
LOCATION:Tavistock Memorial Hall\, 3 Adam Street\, Tavistock\, Ontario\, N0B 2R0\, Canada
CATEGORIES:Community Events
END:VEVENT
BEGIN:VEVENT
DTSTART;TZID=UTC:20250217T120000
DTEND;TZID=UTC:20250217T160000
DTSTAMP:20260420T122400
CREATED:20240624T231632Z
LAST-MODIFIED:20251016T153638Z
UID:10000961-1739793600-1739808000@tavistockon.ca
SUMMARY:Community Pickleball - Monday
DESCRIPTION:For more information\, contact Don Junker @ 519-535-7052
URL:https://tavistockon.ca/events/community-pickleball-monday/2025-02-17/
LOCATION:Tavistock Memorial Hall\, 3 Adam Street\, Tavistock\, Ontario\, N0B 2R0\, Canada
CATEGORIES:Community Events
END:VEVENT
BEGIN:VEVENT
DTSTART;TZID=UTC:20250219T083000
DTEND;TZID=UTC:20250219T120000
DTSTAMP:20260420T122400
CREATED:20241021T142803Z
LAST-MODIFIED:20260413T164629Z
UID:10001496-1739953800-1739966400@tavistockon.ca
SUMMARY:Community Walk & Social - Wednesdays
DESCRIPTION:For more information\, contact Larry Brown at 519-240-6715
URL:https://tavistockon.ca/events/community-walk-social-wednesdays/2025-02-19/
LOCATION:Tavistock Memorial Hall\, 3 Adam Street\, Tavistock\, Ontario\, N0B 2R0\, Canada
CATEGORIES:Community Events
END:VEVENT
BEGIN:VEVENT
DTSTART;TZID=UTC:20250219T120000
DTEND;TZID=UTC:20250219T160000
DTSTAMP:20260420T122400
CREATED:20240624T231744Z
LAST-MODIFIED:20251016T153659Z
UID:10001010-1739966400-1739980800@tavistockon.ca
SUMMARY:Community Pickleball - Wednesday
DESCRIPTION:For more information\, contact Don Junker @ 519-535-7052
URL:https://tavistockon.ca/events/community-pickleball-wednesday/2025-02-19/
LOCATION:Tavistock Memorial Hall\, 3 Adam Street\, Tavistock\, Ontario\, N0B 2R0\, Canada
CATEGORIES:Community Events
END:VEVENT
BEGIN:VEVENT
DTSTART;TZID=UTC:20250219T120000
DTEND;TZID=UTC:20250219T163000
DTSTAMP:20260420T122400
CREATED:20240624T234626Z
LAST-MODIFIED:20241031T204655Z
UID:10001127-1739966400-1739982600@tavistockon.ca
SUMMARY:Shuffleboard - Wednesdays
DESCRIPTION:For more information\, contact Don Junker @ 519-535-7052
URL:https://tavistockon.ca/events/shuffleboard-wednesdays/2025-02-19/
LOCATION:Tavistock Arena Hall\, 1 Adam Street\, Tavistock\, Ontario\, N0B 2R0\, Canada
CATEGORIES:Community Events
END:VEVENT
BEGIN:VEVENT
DTSTART;TZID=UTC:20250220T100000
DTEND;TZID=UTC:20250220T160000
DTSTAMP:20260420T122400
CREATED:20240624T234922Z
LAST-MODIFIED:20241031T204635Z
UID:10001153-1740045600-1740067200@tavistockon.ca
SUMMARY:Shuffleboard - Thursdays
DESCRIPTION:For more information\, contact Don Junker @ 519-535-7052
URL:https://tavistockon.ca/events/shuffleboard-thursdays/2025-02-20/
LOCATION:Ontario
CATEGORIES:Community Events
END:VEVENT
BEGIN:VEVENT
DTSTART;TZID=UTC:20250221T083000
DTEND;TZID=UTC:20250221T233000
DTSTAMP:20260420T122400
CREATED:20240624T223207Z
LAST-MODIFIED:20240624T223207Z
UID:10000184-1740126600-1740180600@tavistockon.ca
SUMMARY:EarlyON Program
DESCRIPTION:Location: OUTDOOR PROGRAM: Queens Park\, Tavistock \nWho: Parents\, grandparents\, caregivers and children aged 0-6 years \nWhat to bring: Anything you may require to meet the needs of your child (diaper bag\, etc.). \nPlease Note: Parents are responsible for their children at all times while participating in our programs.  Please refrain from being on your phones while in program in order to attend to and engage with your child. \nProgram Description: Come play with us! The EarlyON Team will be traveling to your community and we hope you will join us in the park for songs\, rhymes\, stories\, and games!  Parents\, caregivers and grandparents with children aged 0-6 years (and their older siblings\, of course) are welcome to join us for this free drop-in program!  It is facilitated by qualified EarlyON Facilitators who are happy to answer questions about early learning and child development\, parenting topics\, and can provide additional information about other community programs and services. This is also an ideal opportunity for parents and caregivers to connect with others for social and community support.    \n\nProgram Cancellation: In the case that a program needs to be cancelled\, notices will be posted to Facebook and Instagram by 8:30 am on the day of the program.  Be sure to follow @oxfordearlyon for updates!
URL:https://tavistockon.ca/events/earlyon-program/2025-02-21/
LOCATION:Tavistock Memorial Hall\, 3 Adam Street\, Tavistock\, Ontario\, N0B 2R0\, Canada
END:VEVENT
BEGIN:VEVENT
DTSTART;TZID=UTC:20250221T120000
DTEND;TZID=UTC:20250221T160000
DTSTAMP:20260420T122400
CREATED:20240624T232120Z
LAST-MODIFIED:20251016T153739Z
UID:10002131-1740139200-1740153600@tavistockon.ca
SUMMARY:Community Pickleball - Friday
DESCRIPTION:For more information\, contact Don Junker @ 519-535-7052
URL:https://tavistockon.ca/events/community-pickleball-friday/2025-02-21/
LOCATION:Ontario
CATEGORIES:Community Events
END:VEVENT
BEGIN:VEVENT
DTSTART;TZID=UTC:20250222T130000
DTEND;TZID=UTC:20250222T140000
DTSTAMP:20260420T122400
CREATED:20240611T003557Z
LAST-MODIFIED:20241127T204708Z
UID:10000918-1740229200-1740232800@tavistockon.ca
SUMMARY:Public Skating
DESCRIPTION:
URL:https://tavistockon.ca/events/public-skating/2025-02-22/
LOCATION:Tavistock Arena\, 1 Adam Street\, Tavistock\, Ontario\, N0B 2R0\, Canada
END:VEVENT
BEGIN:VEVENT
DTSTART;TZID=UTC:20250224T083000
DTEND;TZID=UTC:20250224T120000
DTSTAMP:20260420T122400
CREATED:20241021T140856Z
LAST-MODIFIED:20260413T164511Z
UID:10001332-1740385800-1740398400@tavistockon.ca
SUMMARY:Community Walk & Social - Mondays
DESCRIPTION:For more information\, contact Larry Brown at 519-240-6715
URL:https://tavistockon.ca/events/community-walk-social-mondays-2/2025-02-24/
LOCATION:Tavistock Memorial Hall\, 3 Adam Street\, Tavistock\, Ontario\, N0B 2R0\, Canada
CATEGORIES:Community Events
END:VEVENT
BEGIN:VEVENT
DTSTART;TZID=UTC:20250224T120000
DTEND;TZID=UTC:20250224T160000
DTSTAMP:20260420T122400
CREATED:20240624T231632Z
LAST-MODIFIED:20251016T153638Z
UID:10000962-1740398400-1740412800@tavistockon.ca
SUMMARY:Community Pickleball - Monday
DESCRIPTION:For more information\, contact Don Junker @ 519-535-7052
URL:https://tavistockon.ca/events/community-pickleball-monday/2025-02-24/
LOCATION:Tavistock Memorial Hall\, 3 Adam Street\, Tavistock\, Ontario\, N0B 2R0\, Canada
CATEGORIES:Community Events
END:VEVENT
END:VCALENDAR