BEGIN:VCALENDAR
VERSION:2.0
PRODID:-//Tavistock ON CA - ECPv6.15.18//NONSGML v1.0//EN
CALSCALE:GREGORIAN
METHOD:PUBLISH
X-WR-CALNAME:Tavistock ON CA
X-ORIGINAL-URL:https://tavistockon.ca
X-WR-CALDESC:Events for Tavistock ON CA
REFRESH-INTERVAL;VALUE=DURATION:PT1H
X-Robots-Tag:noindex
X-PUBLISHED-TTL:PT1H
BEGIN:VTIMEZONE
TZID:America/Toronto
BEGIN:DAYLIGHT
TZOFFSETFROM:-0500
TZOFFSETTO:-0400
TZNAME:EDT
DTSTART:20240310T070000
END:DAYLIGHT
BEGIN:STANDARD
TZOFFSETFROM:-0400
TZOFFSETTO:-0500
TZNAME:EST
DTSTART:20241103T060000
END:STANDARD
BEGIN:DAYLIGHT
TZOFFSETFROM:-0500
TZOFFSETTO:-0400
TZNAME:EDT
DTSTART:20250309T070000
END:DAYLIGHT
BEGIN:STANDARD
TZOFFSETFROM:-0400
TZOFFSETTO:-0500
TZNAME:EST
DTSTART:20251102T060000
END:STANDARD
BEGIN:DAYLIGHT
TZOFFSETFROM:-0500
TZOFFSETTO:-0400
TZNAME:EDT
DTSTART:20260308T070000
END:DAYLIGHT
BEGIN:STANDARD
TZOFFSETFROM:-0400
TZOFFSETTO:-0500
TZNAME:EST
DTSTART:20261101T060000
END:STANDARD
END:VTIMEZONE
BEGIN:VTIMEZONE
TZID:UTC
BEGIN:STANDARD
TZOFFSETFROM:+0000
TZOFFSETTO:+0000
TZNAME:UTC
DTSTART:20240101T000000
END:STANDARD
END:VTIMEZONE
BEGIN:VEVENT
DTSTART;TZID=America/Toronto:20250718T180000
DTEND;TZID=America/Toronto:20250718T235900
DTSTAMP:20260422T175044
CREATED:20250703T202302Z
LAST-MODIFIED:20250704T131817Z
UID:10002087-1752861600-1752883140@tavistockon.ca
SUMMARY:Hickson Lions Daze
DESCRIPTION:6:00 pm to 8:30 pm: Auction Sale – viewing starts at 6 pm\, auction begins at 7 pm \n7:00 pm to 11:00 pm: Co-ed Baseball Tournament \n6:00 pm to 12:00 am: Adult Lounge – bar services in pavilion / food and snacks at ball booth
URL:https://tavistockon.ca/events/hickson-lions-daze/
LOCATION:Hickson Pavillion
CATEGORIES:Community Events
END:VEVENT
BEGIN:VEVENT
DTSTART;TZID=America/Toronto:20250719T090000
DTEND;TZID=America/Toronto:20250719T190000
DTSTAMP:20260422T175044
CREATED:20250703T202535Z
LAST-MODIFIED:20250704T131614Z
UID:10002088-1752915600-1752951600@tavistockon.ca
SUMMARY:Hickson Lions Daze
DESCRIPTION:9:00 – 11:00: Lions Muffin Breakfast – egg\, ham\, cheese on a bun with coffee / juice for $7. \n10:00 am – 1:00 pm: Children’s Activities – games\, activities\, face painting \n11:00 am – 11:00 pm: Adult Lounge – bar services in pavilion / food and snacks at ball booth \n5:00 pm – 7:00 pm: Cracklin’s Fish & Chip Dinner – $20 for 1 piece\, $25 for 2 pieces\, children under 5 free.
URL:https://tavistockon.ca/events/hickson-lions-daze-2/
LOCATION:Hickson Pavillion
CATEGORIES:Community Events
END:VEVENT
BEGIN:VEVENT
DTSTART;TZID=America/Toronto:20250719T130000
DTEND;TZID=America/Toronto:20250719T160000
DTSTAMP:20260422T175044
CREATED:20241021T133737Z
LAST-MODIFIED:20250310T145206Z
UID:10001177-1752930000-1752940800@tavistockon.ca
SUMMARY:Tavistock & District Historical Society Museum Opening
DESCRIPTION:
URL:https://tavistockon.ca/events/tavistock-district-historical-society-museum-opening/2025-07-19/
LOCATION:Tavistock & District Historical Society Museum\, 37 Maria Street\, Tavistock\, Ontario\, N0B 2R0\, Canada
CATEGORIES:Community Events
END:VEVENT
BEGIN:VEVENT
DTSTART;TZID=UTC:20250721T083000
DTEND;TZID=UTC:20250721T120000
DTSTAMP:20260422T175044
CREATED:20241021T140856Z
LAST-MODIFIED:20260413T164511Z
UID:10001353-1753086600-1753099200@tavistockon.ca
SUMMARY:Community Walk & Social - Mondays
DESCRIPTION:For more information\, contact Larry Brown at 519-240-6715
URL:https://tavistockon.ca/events/community-walk-social-mondays-2/2025-07-21/
LOCATION:Tavistock Memorial Hall\, 3 Adam Street\, Tavistock\, Ontario\, N0B 2R0\, Canada
CATEGORIES:Community Events
END:VEVENT
BEGIN:VEVENT
DTSTART;TZID=UTC:20250723T083000
DTEND;TZID=UTC:20250723T120000
DTSTAMP:20260422T175044
CREATED:20241021T142803Z
LAST-MODIFIED:20260413T164629Z
UID:10001518-1753259400-1753272000@tavistockon.ca
SUMMARY:Community Walk & Social - Wednesdays
DESCRIPTION:For more information\, contact Larry Brown at 519-240-6715
URL:https://tavistockon.ca/events/community-walk-social-wednesdays/2025-07-23/
LOCATION:Tavistock Memorial Hall\, 3 Adam Street\, Tavistock\, Ontario\, N0B 2R0\, Canada
CATEGORIES:Community Events
END:VEVENT
BEGIN:VEVENT
DTSTART;TZID=UTC:20250725T083000
DTEND;TZID=UTC:20250725T233000
DTSTAMP:20260422T175044
CREATED:20240624T223207Z
LAST-MODIFIED:20240624T223207Z
UID:10000206-1753432200-1753486200@tavistockon.ca
SUMMARY:EarlyON Program
DESCRIPTION:Location: OUTDOOR PROGRAM: Queens Park\, Tavistock \nWho: Parents\, grandparents\, caregivers and children aged 0-6 years \nWhat to bring: Anything you may require to meet the needs of your child (diaper bag\, etc.). \nPlease Note: Parents are responsible for their children at all times while participating in our programs.  Please refrain from being on your phones while in program in order to attend to and engage with your child. \nProgram Description: Come play with us! The EarlyON Team will be traveling to your community and we hope you will join us in the park for songs\, rhymes\, stories\, and games!  Parents\, caregivers and grandparents with children aged 0-6 years (and their older siblings\, of course) are welcome to join us for this free drop-in program!  It is facilitated by qualified EarlyON Facilitators who are happy to answer questions about early learning and child development\, parenting topics\, and can provide additional information about other community programs and services. This is also an ideal opportunity for parents and caregivers to connect with others for social and community support.    \n\nProgram Cancellation: In the case that a program needs to be cancelled\, notices will be posted to Facebook and Instagram by 8:30 am on the day of the program.  Be sure to follow @oxfordearlyon for updates!
URL:https://tavistockon.ca/events/earlyon-program/2025-07-25/
LOCATION:Tavistock Memorial Hall\, 3 Adam Street\, Tavistock\, Ontario\, N0B 2R0\, Canada
END:VEVENT
BEGIN:VEVENT
DTSTART;TZID=UTC:20250728T083000
DTEND;TZID=UTC:20250728T120000
DTSTAMP:20260422T175044
CREATED:20241021T140856Z
LAST-MODIFIED:20260413T164511Z
UID:10001354-1753691400-1753704000@tavistockon.ca
SUMMARY:Community Walk & Social - Mondays
DESCRIPTION:For more information\, contact Larry Brown at 519-240-6715
URL:https://tavistockon.ca/events/community-walk-social-mondays-2/2025-07-28/
LOCATION:Tavistock Memorial Hall\, 3 Adam Street\, Tavistock\, Ontario\, N0B 2R0\, Canada
CATEGORIES:Community Events
END:VEVENT
BEGIN:VEVENT
DTSTART;TZID=UTC:20250730T083000
DTEND;TZID=UTC:20250730T120000
DTSTAMP:20260422T175044
CREATED:20241021T142803Z
LAST-MODIFIED:20260413T164629Z
UID:10001519-1753864200-1753876800@tavistockon.ca
SUMMARY:Community Walk & Social - Wednesdays
DESCRIPTION:For more information\, contact Larry Brown at 519-240-6715
URL:https://tavistockon.ca/events/community-walk-social-wednesdays/2025-07-30/
LOCATION:Tavistock Memorial Hall\, 3 Adam Street\, Tavistock\, Ontario\, N0B 2R0\, Canada
CATEGORIES:Community Events
END:VEVENT
BEGIN:VEVENT
DTSTART;TZID=UTC:20250801T083000
DTEND;TZID=UTC:20250801T233000
DTSTAMP:20260422T175044
CREATED:20240624T223207Z
LAST-MODIFIED:20240624T223207Z
UID:10000207-1754037000-1754091000@tavistockon.ca
SUMMARY:EarlyON Program
DESCRIPTION:Location: OUTDOOR PROGRAM: Queens Park\, Tavistock \nWho: Parents\, grandparents\, caregivers and children aged 0-6 years \nWhat to bring: Anything you may require to meet the needs of your child (diaper bag\, etc.). \nPlease Note: Parents are responsible for their children at all times while participating in our programs.  Please refrain from being on your phones while in program in order to attend to and engage with your child. \nProgram Description: Come play with us! The EarlyON Team will be traveling to your community and we hope you will join us in the park for songs\, rhymes\, stories\, and games!  Parents\, caregivers and grandparents with children aged 0-6 years (and their older siblings\, of course) are welcome to join us for this free drop-in program!  It is facilitated by qualified EarlyON Facilitators who are happy to answer questions about early learning and child development\, parenting topics\, and can provide additional information about other community programs and services. This is also an ideal opportunity for parents and caregivers to connect with others for social and community support.    \n\nProgram Cancellation: In the case that a program needs to be cancelled\, notices will be posted to Facebook and Instagram by 8:30 am on the day of the program.  Be sure to follow @oxfordearlyon for updates!
URL:https://tavistockon.ca/events/earlyon-program/2025-08-01/
LOCATION:Tavistock Memorial Hall\, 3 Adam Street\, Tavistock\, Ontario\, N0B 2R0\, Canada
END:VEVENT
BEGIN:VEVENT
DTSTART;TZID=UTC:20250804T083000
DTEND;TZID=UTC:20250804T120000
DTSTAMP:20260422T175044
CREATED:20241021T140856Z
LAST-MODIFIED:20260413T164511Z
UID:10001355-1754296200-1754308800@tavistockon.ca
SUMMARY:Community Walk & Social - Mondays
DESCRIPTION:For more information\, contact Larry Brown at 519-240-6715
URL:https://tavistockon.ca/events/community-walk-social-mondays-2/2025-08-04/
LOCATION:Tavistock Memorial Hall\, 3 Adam Street\, Tavistock\, Ontario\, N0B 2R0\, Canada
CATEGORIES:Community Events
END:VEVENT
BEGIN:VEVENT
DTSTART;TZID=UTC:20250806T083000
DTEND;TZID=UTC:20250806T120000
DTSTAMP:20260422T175044
CREATED:20241021T142803Z
LAST-MODIFIED:20260413T164629Z
UID:10001520-1754469000-1754481600@tavistockon.ca
SUMMARY:Community Walk & Social - Wednesdays
DESCRIPTION:For more information\, contact Larry Brown at 519-240-6715
URL:https://tavistockon.ca/events/community-walk-social-wednesdays/2025-08-06/
LOCATION:Tavistock Memorial Hall\, 3 Adam Street\, Tavistock\, Ontario\, N0B 2R0\, Canada
CATEGORIES:Community Events
END:VEVENT
BEGIN:VEVENT
DTSTART;TZID=UTC:20250808T083000
DTEND;TZID=UTC:20250808T233000
DTSTAMP:20260422T175044
CREATED:20240624T223207Z
LAST-MODIFIED:20240624T223207Z
UID:10000208-1754641800-1754695800@tavistockon.ca
SUMMARY:EarlyON Program
DESCRIPTION:Location: OUTDOOR PROGRAM: Queens Park\, Tavistock \nWho: Parents\, grandparents\, caregivers and children aged 0-6 years \nWhat to bring: Anything you may require to meet the needs of your child (diaper bag\, etc.). \nPlease Note: Parents are responsible for their children at all times while participating in our programs.  Please refrain from being on your phones while in program in order to attend to and engage with your child. \nProgram Description: Come play with us! The EarlyON Team will be traveling to your community and we hope you will join us in the park for songs\, rhymes\, stories\, and games!  Parents\, caregivers and grandparents with children aged 0-6 years (and their older siblings\, of course) are welcome to join us for this free drop-in program!  It is facilitated by qualified EarlyON Facilitators who are happy to answer questions about early learning and child development\, parenting topics\, and can provide additional information about other community programs and services. This is also an ideal opportunity for parents and caregivers to connect with others for social and community support.    \n\nProgram Cancellation: In the case that a program needs to be cancelled\, notices will be posted to Facebook and Instagram by 8:30 am on the day of the program.  Be sure to follow @oxfordearlyon for updates!
URL:https://tavistockon.ca/events/earlyon-program/2025-08-08/
LOCATION:Tavistock Memorial Hall\, 3 Adam Street\, Tavistock\, Ontario\, N0B 2R0\, Canada
END:VEVENT
BEGIN:VEVENT
DTSTART;TZID=UTC:20250811T083000
DTEND;TZID=UTC:20250811T120000
DTSTAMP:20260422T175044
CREATED:20241021T140856Z
LAST-MODIFIED:20260413T164511Z
UID:10001356-1754901000-1754913600@tavistockon.ca
SUMMARY:Community Walk & Social - Mondays
DESCRIPTION:For more information\, contact Larry Brown at 519-240-6715
URL:https://tavistockon.ca/events/community-walk-social-mondays-2/2025-08-11/
LOCATION:Tavistock Memorial Hall\, 3 Adam Street\, Tavistock\, Ontario\, N0B 2R0\, Canada
CATEGORIES:Community Events
END:VEVENT
BEGIN:VEVENT
DTSTART;TZID=UTC:20250813T083000
DTEND;TZID=UTC:20250813T120000
DTSTAMP:20260422T175044
CREATED:20241021T142803Z
LAST-MODIFIED:20260413T164629Z
UID:10001521-1755073800-1755086400@tavistockon.ca
SUMMARY:Community Walk & Social - Wednesdays
DESCRIPTION:For more information\, contact Larry Brown at 519-240-6715
URL:https://tavistockon.ca/events/community-walk-social-wednesdays/2025-08-13/
LOCATION:Tavistock Memorial Hall\, 3 Adam Street\, Tavistock\, Ontario\, N0B 2R0\, Canada
CATEGORIES:Community Events
END:VEVENT
BEGIN:VEVENT
DTSTART;TZID=UTC:20250815T083000
DTEND;TZID=UTC:20250815T233000
DTSTAMP:20260422T175044
CREATED:20240624T223207Z
LAST-MODIFIED:20240624T223207Z
UID:10000209-1755246600-1755300600@tavistockon.ca
SUMMARY:EarlyON Program
DESCRIPTION:Location: OUTDOOR PROGRAM: Queens Park\, Tavistock \nWho: Parents\, grandparents\, caregivers and children aged 0-6 years \nWhat to bring: Anything you may require to meet the needs of your child (diaper bag\, etc.). \nPlease Note: Parents are responsible for their children at all times while participating in our programs.  Please refrain from being on your phones while in program in order to attend to and engage with your child. \nProgram Description: Come play with us! The EarlyON Team will be traveling to your community and we hope you will join us in the park for songs\, rhymes\, stories\, and games!  Parents\, caregivers and grandparents with children aged 0-6 years (and their older siblings\, of course) are welcome to join us for this free drop-in program!  It is facilitated by qualified EarlyON Facilitators who are happy to answer questions about early learning and child development\, parenting topics\, and can provide additional information about other community programs and services. This is also an ideal opportunity for parents and caregivers to connect with others for social and community support.    \n\nProgram Cancellation: In the case that a program needs to be cancelled\, notices will be posted to Facebook and Instagram by 8:30 am on the day of the program.  Be sure to follow @oxfordearlyon for updates!
URL:https://tavistockon.ca/events/earlyon-program/2025-08-15/
LOCATION:Tavistock Memorial Hall\, 3 Adam Street\, Tavistock\, Ontario\, N0B 2R0\, Canada
END:VEVENT
BEGIN:VEVENT
DTSTART;TZID=America/Toronto:20250816T130000
DTEND;TZID=America/Toronto:20250816T160000
DTSTAMP:20260422T175044
CREATED:20241021T133737Z
LAST-MODIFIED:20250310T145206Z
UID:10001178-1755349200-1755360000@tavistockon.ca
SUMMARY:Tavistock & District Historical Society Museum Opening
DESCRIPTION:
URL:https://tavistockon.ca/events/tavistock-district-historical-society-museum-opening/2025-08-16/
LOCATION:Tavistock & District Historical Society Museum\, 37 Maria Street\, Tavistock\, Ontario\, N0B 2R0\, Canada
CATEGORIES:Community Events
END:VEVENT
BEGIN:VEVENT
DTSTART;TZID=UTC:20250818T083000
DTEND;TZID=UTC:20250818T120000
DTSTAMP:20260422T175044
CREATED:20241021T140856Z
LAST-MODIFIED:20260413T164511Z
UID:10001357-1755505800-1755518400@tavistockon.ca
SUMMARY:Community Walk & Social - Mondays
DESCRIPTION:For more information\, contact Larry Brown at 519-240-6715
URL:https://tavistockon.ca/events/community-walk-social-mondays-2/2025-08-18/
LOCATION:Tavistock Memorial Hall\, 3 Adam Street\, Tavistock\, Ontario\, N0B 2R0\, Canada
CATEGORIES:Community Events
END:VEVENT
BEGIN:VEVENT
DTSTART;TZID=UTC:20250820T083000
DTEND;TZID=UTC:20250820T120000
DTSTAMP:20260422T175044
CREATED:20241021T142803Z
LAST-MODIFIED:20260413T164629Z
UID:10001522-1755678600-1755691200@tavistockon.ca
SUMMARY:Community Walk & Social - Wednesdays
DESCRIPTION:For more information\, contact Larry Brown at 519-240-6715
URL:https://tavistockon.ca/events/community-walk-social-wednesdays/2025-08-20/
LOCATION:Tavistock Memorial Hall\, 3 Adam Street\, Tavistock\, Ontario\, N0B 2R0\, Canada
CATEGORIES:Community Events
END:VEVENT
BEGIN:VEVENT
DTSTART;TZID=UTC:20250822T083000
DTEND;TZID=UTC:20250822T233000
DTSTAMP:20260422T175044
CREATED:20240624T223207Z
LAST-MODIFIED:20240624T223207Z
UID:10000210-1755851400-1755905400@tavistockon.ca
SUMMARY:EarlyON Program
DESCRIPTION:Location: OUTDOOR PROGRAM: Queens Park\, Tavistock \nWho: Parents\, grandparents\, caregivers and children aged 0-6 years \nWhat to bring: Anything you may require to meet the needs of your child (diaper bag\, etc.). \nPlease Note: Parents are responsible for their children at all times while participating in our programs.  Please refrain from being on your phones while in program in order to attend to and engage with your child. \nProgram Description: Come play with us! The EarlyON Team will be traveling to your community and we hope you will join us in the park for songs\, rhymes\, stories\, and games!  Parents\, caregivers and grandparents with children aged 0-6 years (and their older siblings\, of course) are welcome to join us for this free drop-in program!  It is facilitated by qualified EarlyON Facilitators who are happy to answer questions about early learning and child development\, parenting topics\, and can provide additional information about other community programs and services. This is also an ideal opportunity for parents and caregivers to connect with others for social and community support.    \n\nProgram Cancellation: In the case that a program needs to be cancelled\, notices will be posted to Facebook and Instagram by 8:30 am on the day of the program.  Be sure to follow @oxfordearlyon for updates!
URL:https://tavistockon.ca/events/earlyon-program/2025-08-22/
LOCATION:Tavistock Memorial Hall\, 3 Adam Street\, Tavistock\, Ontario\, N0B 2R0\, Canada
END:VEVENT
BEGIN:VEVENT
DTSTART;TZID=UTC:20250825T083000
DTEND;TZID=UTC:20250825T120000
DTSTAMP:20260422T175044
CREATED:20241021T140856Z
LAST-MODIFIED:20260413T164511Z
UID:10001358-1756110600-1756123200@tavistockon.ca
SUMMARY:Community Walk & Social - Mondays
DESCRIPTION:For more information\, contact Larry Brown at 519-240-6715
URL:https://tavistockon.ca/events/community-walk-social-mondays-2/2025-08-25/
LOCATION:Tavistock Memorial Hall\, 3 Adam Street\, Tavistock\, Ontario\, N0B 2R0\, Canada
CATEGORIES:Community Events
END:VEVENT
BEGIN:VEVENT
DTSTART;TZID=UTC:20250827T083000
DTEND;TZID=UTC:20250827T120000
DTSTAMP:20260422T175044
CREATED:20241021T142803Z
LAST-MODIFIED:20260413T164629Z
UID:10001523-1756283400-1756296000@tavistockon.ca
SUMMARY:Community Walk & Social - Wednesdays
DESCRIPTION:For more information\, contact Larry Brown at 519-240-6715
URL:https://tavistockon.ca/events/community-walk-social-wednesdays/2025-08-27/
LOCATION:Tavistock Memorial Hall\, 3 Adam Street\, Tavistock\, Ontario\, N0B 2R0\, Canada
CATEGORIES:Community Events
END:VEVENT
BEGIN:VEVENT
DTSTART;TZID=UTC:20250829T083000
DTEND;TZID=UTC:20250829T233000
DTSTAMP:20260422T175044
CREATED:20240624T223207Z
LAST-MODIFIED:20240624T223207Z
UID:10000211-1756456200-1756510200@tavistockon.ca
SUMMARY:EarlyON Program
DESCRIPTION:Location: OUTDOOR PROGRAM: Queens Park\, Tavistock \nWho: Parents\, grandparents\, caregivers and children aged 0-6 years \nWhat to bring: Anything you may require to meet the needs of your child (diaper bag\, etc.). \nPlease Note: Parents are responsible for their children at all times while participating in our programs.  Please refrain from being on your phones while in program in order to attend to and engage with your child. \nProgram Description: Come play with us! The EarlyON Team will be traveling to your community and we hope you will join us in the park for songs\, rhymes\, stories\, and games!  Parents\, caregivers and grandparents with children aged 0-6 years (and their older siblings\, of course) are welcome to join us for this free drop-in program!  It is facilitated by qualified EarlyON Facilitators who are happy to answer questions about early learning and child development\, parenting topics\, and can provide additional information about other community programs and services. This is also an ideal opportunity for parents and caregivers to connect with others for social and community support.    \n\nProgram Cancellation: In the case that a program needs to be cancelled\, notices will be posted to Facebook and Instagram by 8:30 am on the day of the program.  Be sure to follow @oxfordearlyon for updates!
URL:https://tavistockon.ca/events/earlyon-program/2025-08-29/
LOCATION:Tavistock Memorial Hall\, 3 Adam Street\, Tavistock\, Ontario\, N0B 2R0\, Canada
END:VEVENT
BEGIN:VEVENT
DTSTART;TZID=UTC:20250901T083000
DTEND;TZID=UTC:20250901T120000
DTSTAMP:20260422T175044
CREATED:20241021T140856Z
LAST-MODIFIED:20260413T164511Z
UID:10001359-1756715400-1756728000@tavistockon.ca
SUMMARY:Community Walk & Social - Mondays
DESCRIPTION:For more information\, contact Larry Brown at 519-240-6715
URL:https://tavistockon.ca/events/community-walk-social-mondays-2/2025-09-01/
LOCATION:Tavistock Memorial Hall\, 3 Adam Street\, Tavistock\, Ontario\, N0B 2R0\, Canada
CATEGORIES:Community Events
END:VEVENT
BEGIN:VEVENT
DTSTART;TZID=UTC:20250903T083000
DTEND;TZID=UTC:20250903T120000
DTSTAMP:20260422T175044
CREATED:20241021T142803Z
LAST-MODIFIED:20260413T164629Z
UID:10001524-1756888200-1756900800@tavistockon.ca
SUMMARY:Community Walk & Social - Wednesdays
DESCRIPTION:For more information\, contact Larry Brown at 519-240-6715
URL:https://tavistockon.ca/events/community-walk-social-wednesdays/2025-09-03/
LOCATION:Tavistock Memorial Hall\, 3 Adam Street\, Tavistock\, Ontario\, N0B 2R0\, Canada
CATEGORIES:Community Events
END:VEVENT
BEGIN:VEVENT
DTSTART;TZID=UTC:20250905T083000
DTEND;TZID=UTC:20250905T233000
DTSTAMP:20260422T175044
CREATED:20240624T223207Z
LAST-MODIFIED:20240624T223207Z
UID:10000212-1757061000-1757115000@tavistockon.ca
SUMMARY:EarlyON Program
DESCRIPTION:Location: OUTDOOR PROGRAM: Queens Park\, Tavistock \nWho: Parents\, grandparents\, caregivers and children aged 0-6 years \nWhat to bring: Anything you may require to meet the needs of your child (diaper bag\, etc.). \nPlease Note: Parents are responsible for their children at all times while participating in our programs.  Please refrain from being on your phones while in program in order to attend to and engage with your child. \nProgram Description: Come play with us! The EarlyON Team will be traveling to your community and we hope you will join us in the park for songs\, rhymes\, stories\, and games!  Parents\, caregivers and grandparents with children aged 0-6 years (and their older siblings\, of course) are welcome to join us for this free drop-in program!  It is facilitated by qualified EarlyON Facilitators who are happy to answer questions about early learning and child development\, parenting topics\, and can provide additional information about other community programs and services. This is also an ideal opportunity for parents and caregivers to connect with others for social and community support.    \n\nProgram Cancellation: In the case that a program needs to be cancelled\, notices will be posted to Facebook and Instagram by 8:30 am on the day of the program.  Be sure to follow @oxfordearlyon for updates!
URL:https://tavistockon.ca/events/earlyon-program/2025-09-05/
LOCATION:Tavistock Memorial Hall\, 3 Adam Street\, Tavistock\, Ontario\, N0B 2R0\, Canada
END:VEVENT
BEGIN:VEVENT
DTSTART;TZID=America/Toronto:20250905T170000
DTEND;TZID=America/Toronto:20250905T220000
DTSTAMP:20260422T175044
CREATED:20250827T183456Z
LAST-MODIFIED:20250827T184020Z
UID:10002089-1757091600-1757109600@tavistockon.ca
SUMMARY:Tavistock Fall Fair
DESCRIPTION:5:00pm – Silent auction begins. \n5:00pm – Book Sale begins (Arena) \n5:00pm – Computer Arcade \n5:30pm – 8:00pm – Bubble Soccer \n6:00pm – 10:00pm – Midway – Kiddie’s Fun Trak\, – Weekend Pass $60\, Daily Pass $25 per day\, Weekend of Fair $30 per day \nNEW \n7:00pm – Official Opening & Fair Ambassador Competition (Memorial Hall) \n8:00pm (approx) – Tavistock Legends vs Tavistock Hops Exhibition Fastball game \nDusk – Movie Night \n  \nARENA HOURS: Friday 5 p.m.-10 p.m. • Saturday 10:00 a.m. – 10 p.m. Sunday 11:00 a.m. – 3:30 p.m. \n 
URL:https://tavistockon.ca/events/tavistock-fall-fair/
LOCATION:Tavistock Arena\, 1 Adam Street\, Tavistock\, Ontario\, N0B 2R0\, Canada
CATEGORIES:Community Events
END:VEVENT
BEGIN:VEVENT
DTSTART;TZID=America/Toronto:20250906T100000
DTEND;TZID=America/Toronto:20250906T220000
DTSTAMP:20260422T175044
CREATED:20250827T184619Z
LAST-MODIFIED:20250827T184619Z
UID:10002090-1757152800-1757196000@tavistockon.ca
SUMMARY:Tavistock Fall Fair
DESCRIPTION:All Day – Silent Auction continues (Arena) \nAll Day – Book Sale continues (Arena) \nAll Day – Computer Arcade \n10:00am – 10:00pm – Midway in operation – Kiddie’s Fun Trak NEW – Weekend Pass $60\, Daily Pass $25 per day Weekend of Fair $30 per day \n10:00am – 4pm – Road Hockey Tournament (Pavillion) \n10:00am – 4:00pm – Milk Master Chef (Memorial Hall) NEW \n10:00am – Heavy Horse Show \n11:00am – Parade \n11:00am – Cattle Show \n12:00pm – 3:00pm – Kid’s Fireman Games \n12:00pm – 4:00pm – Rock Climbing Wall – Grand River Inflatables NEW \n12:00pm – 4:00pm – Bouncer Obstacle Course – Grand River Inflatables NEW \n1:00pm – 4-H Swine Show \n2:00pm – North Fire Circus – Tex Rexman NEW \n2:30pm – 4:30pm – Egg Drop Registration \n4:00pm – North Fire Circus – Tex Rexman NEW \n5:00pm – Egg Drop Competition \n7:00pm – North Fire Circus – Ball Diamond NEW \n9:00pm – BAND – Whiskey Sunset (Pavillion) \n  \nARENA HOURS: Friday 5 p.m.-10 p.m. • Saturday 10:00 a.m. – 10 p.m. Sunday 11:00 a.m. – 3:30 p.m.
URL:https://tavistockon.ca/events/tavistock-fall-fair-3/
LOCATION:Tavistock Arena\, 1 Adam Street\, Tavistock\, Ontario\, N0B 2R0\, Canada
CATEGORIES:Community Events
END:VEVENT
BEGIN:VEVENT
DTSTART;TZID=America/Toronto:20250907T110000
DTEND;TZID=America/Toronto:20250907T170000
DTSTAMP:20260422T175044
CREATED:20250827T184901Z
LAST-MODIFIED:20250827T184901Z
UID:10002091-1757242800-1757264400@tavistockon.ca
SUMMARY:Tavistock Fall Fair
DESCRIPTION:All Day – Silent Auction continues (Arena) \nAll Day – Book Sale continues (Arena) \nAll Day – Computer Arcade continues (Arena) \n10:00am – 4:00pm – Historic Wheels \n12:00pm – 3:00pm – Ox on the Run – Mobile Library NEW \n12:00pm – 3:00pm – Touch A Truck (Ball Diamond) \n12:00pm – Registration – Premier Pedal Tractor & Pull NEW \n12:00pm – 3pm – Jr. Farmers Kid Zone \n12:00pm – Children’s Pet Show \n11:00 – 5:00pm – Midway in operation – Kiddie’s Fun Trak  NEW – Weekend Pass $60\, Daily Pass $25 per day Weekend of Fair $30 per day \n1:00pm – Silent Auction bidding ends \n1:00pm – Baby Show (Memorial Hall) \n1:00pm – Premier Pedal Tractor and Pull NEW \n1:00pm – Cow Patty Bingo NEW \n1:00pm – 3:00pm – Little Hobby Hill Farm Petting Zoo \n1:30pm – 3:00pm – Bike Rally Fun – Outside Memorial Hall \n1:30pm – Lawn Tractor Races \n2:00pm – Book Sales end \n2:00pm – Computer Arcade ends \n2:00pm – Pick up Silent Auction items \n3:30pm – Exhibits Close/Pickup Exhibits
URL:https://tavistockon.ca/events/tavistock-fall-fair-4/
LOCATION:Tavistock Arena\, 1 Adam Street\, Tavistock\, Ontario\, N0B 2R0\, Canada
CATEGORIES:Community Events
END:VEVENT
BEGIN:VEVENT
DTSTART;TZID=UTC:20250908T083000
DTEND;TZID=UTC:20250908T120000
DTSTAMP:20260422T175044
CREATED:20241021T140856Z
LAST-MODIFIED:20260413T164511Z
UID:10001360-1757320200-1757332800@tavistockon.ca
SUMMARY:Community Walk & Social - Mondays
DESCRIPTION:For more information\, contact Larry Brown at 519-240-6715
URL:https://tavistockon.ca/events/community-walk-social-mondays-2/2025-09-08/
LOCATION:Tavistock Memorial Hall\, 3 Adam Street\, Tavistock\, Ontario\, N0B 2R0\, Canada
CATEGORIES:Community Events
END:VEVENT
BEGIN:VEVENT
DTSTART;TZID=UTC:20250910T083000
DTEND;TZID=UTC:20250910T120000
DTSTAMP:20260422T175044
CREATED:20241021T142803Z
LAST-MODIFIED:20260413T164629Z
UID:10001525-1757493000-1757505600@tavistockon.ca
SUMMARY:Community Walk & Social - Wednesdays
DESCRIPTION:For more information\, contact Larry Brown at 519-240-6715
URL:https://tavistockon.ca/events/community-walk-social-wednesdays/2025-09-10/
LOCATION:Tavistock Memorial Hall\, 3 Adam Street\, Tavistock\, Ontario\, N0B 2R0\, Canada
CATEGORIES:Community Events
END:VEVENT
END:VCALENDAR