BEGIN:VCALENDAR
VERSION:2.0
PRODID:-//Tavistock ON CA - ECPv6.15.18//NONSGML v1.0//EN
CALSCALE:GREGORIAN
METHOD:PUBLISH
X-ORIGINAL-URL:https://tavistockon.ca
X-WR-CALDESC:Events for Tavistock ON CA
REFRESH-INTERVAL;VALUE=DURATION:PT1H
X-Robots-Tag:noindex
X-PUBLISHED-TTL:PT1H
BEGIN:VTIMEZONE
TZID:UTC
BEGIN:STANDARD
TZOFFSETFROM:+0000
TZOFFSETTO:+0000
TZNAME:UTC
DTSTART:20240101T000000
END:STANDARD
END:VTIMEZONE
BEGIN:VTIMEZONE
TZID:America/Toronto
BEGIN:DAYLIGHT
TZOFFSETFROM:-0500
TZOFFSETTO:-0400
TZNAME:EDT
DTSTART:20240310T070000
END:DAYLIGHT
BEGIN:STANDARD
TZOFFSETFROM:-0400
TZOFFSETTO:-0500
TZNAME:EST
DTSTART:20241103T060000
END:STANDARD
BEGIN:DAYLIGHT
TZOFFSETFROM:-0500
TZOFFSETTO:-0400
TZNAME:EDT
DTSTART:20250309T070000
END:DAYLIGHT
BEGIN:STANDARD
TZOFFSETFROM:-0400
TZOFFSETTO:-0500
TZNAME:EST
DTSTART:20251102T060000
END:STANDARD
BEGIN:DAYLIGHT
TZOFFSETFROM:-0500
TZOFFSETTO:-0400
TZNAME:EDT
DTSTART:20260308T070000
END:DAYLIGHT
BEGIN:STANDARD
TZOFFSETFROM:-0400
TZOFFSETTO:-0500
TZNAME:EST
DTSTART:20261101T060000
END:STANDARD
END:VTIMEZONE
BEGIN:VEVENT
DTSTART;TZID=UTC:20250108T083000
DTEND;TZID=UTC:20250108T120000
DTSTAMP:20260420T092404
CREATED:20241021T142803Z
LAST-MODIFIED:20260413T164629Z
UID:10001490-1736325000-1736337600@tavistockon.ca
SUMMARY:Community Walk & Social - Wednesdays
DESCRIPTION:For more information\, contact Larry Brown at 519-240-6715
URL:https://tavistockon.ca/events/community-walk-social-wednesdays/2025-01-08/
LOCATION:Tavistock Memorial Hall\, 3 Adam Street\, Tavistock\, Ontario\, N0B 2R0\, Canada
CATEGORIES:Community Events
END:VEVENT
BEGIN:VEVENT
DTSTART;TZID=UTC:20250108T120000
DTEND;TZID=UTC:20250108T160000
DTSTAMP:20260420T092404
CREATED:20240624T231744Z
LAST-MODIFIED:20251016T153659Z
UID:10001004-1736337600-1736352000@tavistockon.ca
SUMMARY:Community Pickleball - Wednesday
DESCRIPTION:For more information\, contact Don Junker @ 519-535-7052
URL:https://tavistockon.ca/events/community-pickleball-wednesday/2025-01-08/
LOCATION:Tavistock Memorial Hall\, 3 Adam Street\, Tavistock\, Ontario\, N0B 2R0\, Canada
CATEGORIES:Community Events
END:VEVENT
BEGIN:VEVENT
DTSTART;TZID=UTC:20250108T120000
DTEND;TZID=UTC:20250108T163000
DTSTAMP:20260420T092404
CREATED:20240624T234626Z
LAST-MODIFIED:20241031T204655Z
UID:10001121-1736337600-1736353800@tavistockon.ca
SUMMARY:Shuffleboard - Wednesdays
DESCRIPTION:For more information\, contact Don Junker @ 519-535-7052
URL:https://tavistockon.ca/events/shuffleboard-wednesdays/2025-01-08/
LOCATION:Tavistock Arena Hall\, 1 Adam Street\, Tavistock\, Ontario\, N0B 2R0\, Canada
CATEGORIES:Community Events
END:VEVENT
BEGIN:VEVENT
DTSTART;TZID=UTC:20250109T100000
DTEND;TZID=UTC:20250109T160000
DTSTAMP:20260420T092404
CREATED:20240624T234922Z
LAST-MODIFIED:20241031T204635Z
UID:10001147-1736416800-1736438400@tavistockon.ca
SUMMARY:Shuffleboard - Thursdays
DESCRIPTION:For more information\, contact Don Junker @ 519-535-7052
URL:https://tavistockon.ca/events/shuffleboard-thursdays/2025-01-09/
LOCATION:Ontario
CATEGORIES:Community Events
END:VEVENT
BEGIN:VEVENT
DTSTART;TZID=UTC:20250110T083000
DTEND;TZID=UTC:20250110T233000
DTSTAMP:20260420T092404
CREATED:20240624T223207Z
LAST-MODIFIED:20240624T223207Z
UID:10000178-1736497800-1736551800@tavistockon.ca
SUMMARY:EarlyON Program
DESCRIPTION:Location: OUTDOOR PROGRAM: Queens Park\, Tavistock \nWho: Parents\, grandparents\, caregivers and children aged 0-6 years \nWhat to bring: Anything you may require to meet the needs of your child (diaper bag\, etc.). \nPlease Note: Parents are responsible for their children at all times while participating in our programs.  Please refrain from being on your phones while in program in order to attend to and engage with your child. \nProgram Description: Come play with us! The EarlyON Team will be traveling to your community and we hope you will join us in the park for songs\, rhymes\, stories\, and games!  Parents\, caregivers and grandparents with children aged 0-6 years (and their older siblings\, of course) are welcome to join us for this free drop-in program!  It is facilitated by qualified EarlyON Facilitators who are happy to answer questions about early learning and child development\, parenting topics\, and can provide additional information about other community programs and services. This is also an ideal opportunity for parents and caregivers to connect with others for social and community support.    \n\nProgram Cancellation: In the case that a program needs to be cancelled\, notices will be posted to Facebook and Instagram by 8:30 am on the day of the program.  Be sure to follow @oxfordearlyon for updates!
URL:https://tavistockon.ca/events/earlyon-program/2025-01-10/
LOCATION:Tavistock Memorial Hall\, 3 Adam Street\, Tavistock\, Ontario\, N0B 2R0\, Canada
END:VEVENT
BEGIN:VEVENT
DTSTART;TZID=UTC:20250110T120000
DTEND;TZID=UTC:20250110T160000
DTSTAMP:20260420T092404
CREATED:20240624T232120Z
LAST-MODIFIED:20251016T153739Z
UID:10002125-1736510400-1736524800@tavistockon.ca
SUMMARY:Community Pickleball - Friday
DESCRIPTION:For more information\, contact Don Junker @ 519-535-7052
URL:https://tavistockon.ca/events/community-pickleball-friday/2025-01-10/
LOCATION:Ontario
CATEGORIES:Community Events
END:VEVENT
BEGIN:VEVENT
DTSTART;TZID=UTC:20250111T130000
DTEND;TZID=UTC:20250111T140000
DTSTAMP:20260420T092404
CREATED:20240611T003557Z
LAST-MODIFIED:20241127T204708Z
UID:10000912-1736600400-1736604000@tavistockon.ca
SUMMARY:Public Skating
DESCRIPTION:
URL:https://tavistockon.ca/events/public-skating/2025-01-11/
LOCATION:Tavistock Arena\, 1 Adam Street\, Tavistock\, Ontario\, N0B 2R0\, Canada
END:VEVENT
BEGIN:VEVENT
DTSTART;TZID=UTC:20250113T083000
DTEND;TZID=UTC:20250113T120000
DTSTAMP:20260420T092404
CREATED:20241021T140856Z
LAST-MODIFIED:20260413T164511Z
UID:10001326-1736757000-1736769600@tavistockon.ca
SUMMARY:Community Walk & Social - Mondays
DESCRIPTION:For more information\, contact Larry Brown at 519-240-6715
URL:https://tavistockon.ca/events/community-walk-social-mondays-2/2025-01-13/
LOCATION:Tavistock Memorial Hall\, 3 Adam Street\, Tavistock\, Ontario\, N0B 2R0\, Canada
CATEGORIES:Community Events
END:VEVENT
BEGIN:VEVENT
DTSTART;TZID=UTC:20250113T120000
DTEND;TZID=UTC:20250113T160000
DTSTAMP:20260420T092404
CREATED:20240624T231632Z
LAST-MODIFIED:20251016T153638Z
UID:10000956-1736769600-1736784000@tavistockon.ca
SUMMARY:Community Pickleball - Monday
DESCRIPTION:For more information\, contact Don Junker @ 519-535-7052
URL:https://tavistockon.ca/events/community-pickleball-monday/2025-01-13/
LOCATION:Tavistock Memorial Hall\, 3 Adam Street\, Tavistock\, Ontario\, N0B 2R0\, Canada
CATEGORIES:Community Events
END:VEVENT
BEGIN:VEVENT
DTSTART;TZID=America/Toronto:20250115T000000
DTEND;TZID=America/Toronto:20250115T233000
DTSTAMP:20260420T092404
CREATED:20250115T153624Z
LAST-MODIFIED:20250605T131340Z
UID:10001644-1736899200-1736983800@tavistockon.ca
SUMMARY:Tavistock Minor Ball Registration
DESCRIPTION:Online Ball Registration is available Jan. 15th – Feb. 28th
URL:https://tavistockon.ca/events/tavistock-minor-ball-registration/2025-01-15/1/
LOCATION:Ontario
CATEGORIES:Community Events
END:VEVENT
BEGIN:VEVENT
DTSTART;TZID=America/Toronto:20250115T080000
DTEND;TZID=America/Toronto:20250115T170000
DTSTAMP:20260420T092404
CREATED:20250115T153624Z
LAST-MODIFIED:20250605T131340Z
UID:10002079-1736928000-1736960400@tavistockon.ca
SUMMARY:Tavistock Minor Ball Registration
DESCRIPTION:Online Ball Registration is available Jan. 15th – Feb. 28th
URL:https://tavistockon.ca/events/tavistock-minor-ball-registration/2025-01-15/2/
LOCATION:Ontario
CATEGORIES:Community Events
END:VEVENT
BEGIN:VEVENT
DTSTART;TZID=UTC:20250115T083000
DTEND;TZID=UTC:20250115T120000
DTSTAMP:20260420T092404
CREATED:20241021T142803Z
LAST-MODIFIED:20260413T164629Z
UID:10001491-1736929800-1736942400@tavistockon.ca
SUMMARY:Community Walk & Social - Wednesdays
DESCRIPTION:For more information\, contact Larry Brown at 519-240-6715
URL:https://tavistockon.ca/events/community-walk-social-wednesdays/2025-01-15/
LOCATION:Tavistock Memorial Hall\, 3 Adam Street\, Tavistock\, Ontario\, N0B 2R0\, Canada
CATEGORIES:Community Events
END:VEVENT
BEGIN:VEVENT
DTSTART;TZID=UTC:20250115T120000
DTEND;TZID=UTC:20250115T160000
DTSTAMP:20260420T092404
CREATED:20240624T231744Z
LAST-MODIFIED:20251016T153659Z
UID:10001005-1736942400-1736956800@tavistockon.ca
SUMMARY:Community Pickleball - Wednesday
DESCRIPTION:For more information\, contact Don Junker @ 519-535-7052
URL:https://tavistockon.ca/events/community-pickleball-wednesday/2025-01-15/
LOCATION:Tavistock Memorial Hall\, 3 Adam Street\, Tavistock\, Ontario\, N0B 2R0\, Canada
CATEGORIES:Community Events
END:VEVENT
BEGIN:VEVENT
DTSTART;TZID=UTC:20250115T120000
DTEND;TZID=UTC:20250115T163000
DTSTAMP:20260420T092404
CREATED:20240624T234626Z
LAST-MODIFIED:20241031T204655Z
UID:10001122-1736942400-1736958600@tavistockon.ca
SUMMARY:Shuffleboard - Wednesdays
DESCRIPTION:For more information\, contact Don Junker @ 519-535-7052
URL:https://tavistockon.ca/events/shuffleboard-wednesdays/2025-01-15/
LOCATION:Tavistock Arena Hall\, 1 Adam Street\, Tavistock\, Ontario\, N0B 2R0\, Canada
CATEGORIES:Community Events
END:VEVENT
BEGIN:VEVENT
DTSTART;TZID=UTC:20250116T100000
DTEND;TZID=UTC:20250116T160000
DTSTAMP:20260420T092404
CREATED:20240624T234922Z
LAST-MODIFIED:20241031T204635Z
UID:10001148-1737021600-1737043200@tavistockon.ca
SUMMARY:Shuffleboard - Thursdays
DESCRIPTION:For more information\, contact Don Junker @ 519-535-7052
URL:https://tavistockon.ca/events/shuffleboard-thursdays/2025-01-16/
LOCATION:Ontario
CATEGORIES:Community Events
END:VEVENT
BEGIN:VEVENT
DTSTART;TZID=UTC:20250117T083000
DTEND;TZID=UTC:20250117T233000
DTSTAMP:20260420T092404
CREATED:20240624T223207Z
LAST-MODIFIED:20240624T223207Z
UID:10000179-1737102600-1737156600@tavistockon.ca
SUMMARY:EarlyON Program
DESCRIPTION:Location: OUTDOOR PROGRAM: Queens Park\, Tavistock \nWho: Parents\, grandparents\, caregivers and children aged 0-6 years \nWhat to bring: Anything you may require to meet the needs of your child (diaper bag\, etc.). \nPlease Note: Parents are responsible for their children at all times while participating in our programs.  Please refrain from being on your phones while in program in order to attend to and engage with your child. \nProgram Description: Come play with us! The EarlyON Team will be traveling to your community and we hope you will join us in the park for songs\, rhymes\, stories\, and games!  Parents\, caregivers and grandparents with children aged 0-6 years (and their older siblings\, of course) are welcome to join us for this free drop-in program!  It is facilitated by qualified EarlyON Facilitators who are happy to answer questions about early learning and child development\, parenting topics\, and can provide additional information about other community programs and services. This is also an ideal opportunity for parents and caregivers to connect with others for social and community support.    \n\nProgram Cancellation: In the case that a program needs to be cancelled\, notices will be posted to Facebook and Instagram by 8:30 am on the day of the program.  Be sure to follow @oxfordearlyon for updates!
URL:https://tavistockon.ca/events/earlyon-program/2025-01-17/
LOCATION:Tavistock Memorial Hall\, 3 Adam Street\, Tavistock\, Ontario\, N0B 2R0\, Canada
END:VEVENT
BEGIN:VEVENT
DTSTART;TZID=UTC:20250117T120000
DTEND;TZID=UTC:20250117T160000
DTSTAMP:20260420T092404
CREATED:20240624T232120Z
LAST-MODIFIED:20251016T153739Z
UID:10002126-1737115200-1737129600@tavistockon.ca
SUMMARY:Community Pickleball - Friday
DESCRIPTION:For more information\, contact Don Junker @ 519-535-7052
URL:https://tavistockon.ca/events/community-pickleball-friday/2025-01-17/
LOCATION:Ontario
CATEGORIES:Community Events
END:VEVENT
BEGIN:VEVENT
DTSTART;TZID=UTC:20250118T130000
DTEND;TZID=UTC:20250118T140000
DTSTAMP:20260420T092404
CREATED:20240611T003557Z
LAST-MODIFIED:20241127T204708Z
UID:10000913-1737205200-1737208800@tavistockon.ca
SUMMARY:Public Skating
DESCRIPTION:
URL:https://tavistockon.ca/events/public-skating/2025-01-18/
LOCATION:Tavistock Arena\, 1 Adam Street\, Tavistock\, Ontario\, N0B 2R0\, Canada
END:VEVENT
BEGIN:VEVENT
DTSTART;TZID=America/Toronto:20250118T130000
DTEND;TZID=America/Toronto:20250118T160000
DTSTAMP:20260420T092404
CREATED:20241021T133737Z
LAST-MODIFIED:20250310T145206Z
UID:10001171-1737205200-1737216000@tavistockon.ca
SUMMARY:Tavistock & District Historical Society Museum Opening
DESCRIPTION:
URL:https://tavistockon.ca/events/tavistock-district-historical-society-museum-opening/2025-01-18/
LOCATION:Tavistock & District Historical Society Museum\, 37 Maria Street\, Tavistock\, Ontario\, N0B 2R0\, Canada
CATEGORIES:Community Events
END:VEVENT
BEGIN:VEVENT
DTSTART;TZID=UTC:20250120T083000
DTEND;TZID=UTC:20250120T120000
DTSTAMP:20260420T092404
CREATED:20241021T140856Z
LAST-MODIFIED:20260413T164511Z
UID:10001327-1737361800-1737374400@tavistockon.ca
SUMMARY:Community Walk & Social - Mondays
DESCRIPTION:For more information\, contact Larry Brown at 519-240-6715
URL:https://tavistockon.ca/events/community-walk-social-mondays-2/2025-01-20/
LOCATION:Tavistock Memorial Hall\, 3 Adam Street\, Tavistock\, Ontario\, N0B 2R0\, Canada
CATEGORIES:Community Events
END:VEVENT
BEGIN:VEVENT
DTSTART;TZID=UTC:20250120T120000
DTEND;TZID=UTC:20250120T160000
DTSTAMP:20260420T092404
CREATED:20240624T231632Z
LAST-MODIFIED:20251016T153638Z
UID:10000957-1737374400-1737388800@tavistockon.ca
SUMMARY:Community Pickleball - Monday
DESCRIPTION:For more information\, contact Don Junker @ 519-535-7052
URL:https://tavistockon.ca/events/community-pickleball-monday/2025-01-20/
LOCATION:Tavistock Memorial Hall\, 3 Adam Street\, Tavistock\, Ontario\, N0B 2R0\, Canada
CATEGORIES:Community Events
END:VEVENT
BEGIN:VEVENT
DTSTART;TZID=UTC:20250122T083000
DTEND;TZID=UTC:20250122T120000
DTSTAMP:20260420T092404
CREATED:20241021T142803Z
LAST-MODIFIED:20260413T164629Z
UID:10001492-1737534600-1737547200@tavistockon.ca
SUMMARY:Community Walk & Social - Wednesdays
DESCRIPTION:For more information\, contact Larry Brown at 519-240-6715
URL:https://tavistockon.ca/events/community-walk-social-wednesdays/2025-01-22/
LOCATION:Tavistock Memorial Hall\, 3 Adam Street\, Tavistock\, Ontario\, N0B 2R0\, Canada
CATEGORIES:Community Events
END:VEVENT
BEGIN:VEVENT
DTSTART;TZID=UTC:20250122T120000
DTEND;TZID=UTC:20250122T160000
DTSTAMP:20260420T092404
CREATED:20240624T231744Z
LAST-MODIFIED:20251016T153659Z
UID:10001006-1737547200-1737561600@tavistockon.ca
SUMMARY:Community Pickleball - Wednesday
DESCRIPTION:For more information\, contact Don Junker @ 519-535-7052
URL:https://tavistockon.ca/events/community-pickleball-wednesday/2025-01-22/
LOCATION:Tavistock Memorial Hall\, 3 Adam Street\, Tavistock\, Ontario\, N0B 2R0\, Canada
CATEGORIES:Community Events
END:VEVENT
BEGIN:VEVENT
DTSTART;TZID=UTC:20250122T120000
DTEND;TZID=UTC:20250122T163000
DTSTAMP:20260420T092404
CREATED:20240624T234626Z
LAST-MODIFIED:20241031T204655Z
UID:10001123-1737547200-1737563400@tavistockon.ca
SUMMARY:Shuffleboard - Wednesdays
DESCRIPTION:For more information\, contact Don Junker @ 519-535-7052
URL:https://tavistockon.ca/events/shuffleboard-wednesdays/2025-01-22/
LOCATION:Tavistock Arena Hall\, 1 Adam Street\, Tavistock\, Ontario\, N0B 2R0\, Canada
CATEGORIES:Community Events
END:VEVENT
BEGIN:VEVENT
DTSTART;TZID=UTC:20250123T100000
DTEND;TZID=UTC:20250123T160000
DTSTAMP:20260420T092404
CREATED:20240624T234922Z
LAST-MODIFIED:20241031T204635Z
UID:10001149-1737626400-1737648000@tavistockon.ca
SUMMARY:Shuffleboard - Thursdays
DESCRIPTION:For more information\, contact Don Junker @ 519-535-7052
URL:https://tavistockon.ca/events/shuffleboard-thursdays/2025-01-23/
LOCATION:Ontario
CATEGORIES:Community Events
END:VEVENT
BEGIN:VEVENT
DTSTART;TZID=UTC:20250124T083000
DTEND;TZID=UTC:20250124T233000
DTSTAMP:20260420T092404
CREATED:20240624T223207Z
LAST-MODIFIED:20240624T223207Z
UID:10000180-1737707400-1737761400@tavistockon.ca
SUMMARY:EarlyON Program
DESCRIPTION:Location: OUTDOOR PROGRAM: Queens Park\, Tavistock \nWho: Parents\, grandparents\, caregivers and children aged 0-6 years \nWhat to bring: Anything you may require to meet the needs of your child (diaper bag\, etc.). \nPlease Note: Parents are responsible for their children at all times while participating in our programs.  Please refrain from being on your phones while in program in order to attend to and engage with your child. \nProgram Description: Come play with us! The EarlyON Team will be traveling to your community and we hope you will join us in the park for songs\, rhymes\, stories\, and games!  Parents\, caregivers and grandparents with children aged 0-6 years (and their older siblings\, of course) are welcome to join us for this free drop-in program!  It is facilitated by qualified EarlyON Facilitators who are happy to answer questions about early learning and child development\, parenting topics\, and can provide additional information about other community programs and services. This is also an ideal opportunity for parents and caregivers to connect with others for social and community support.    \n\nProgram Cancellation: In the case that a program needs to be cancelled\, notices will be posted to Facebook and Instagram by 8:30 am on the day of the program.  Be sure to follow @oxfordearlyon for updates!
URL:https://tavistockon.ca/events/earlyon-program/2025-01-24/
LOCATION:Tavistock Memorial Hall\, 3 Adam Street\, Tavistock\, Ontario\, N0B 2R0\, Canada
END:VEVENT
BEGIN:VEVENT
DTSTART;TZID=UTC:20250124T120000
DTEND;TZID=UTC:20250124T160000
DTSTAMP:20260420T092404
CREATED:20240624T232120Z
LAST-MODIFIED:20251016T153739Z
UID:10002127-1737720000-1737734400@tavistockon.ca
SUMMARY:Community Pickleball - Friday
DESCRIPTION:For more information\, contact Don Junker @ 519-535-7052
URL:https://tavistockon.ca/events/community-pickleball-friday/2025-01-24/
LOCATION:Ontario
CATEGORIES:Community Events
END:VEVENT
BEGIN:VEVENT
DTSTART;TZID=UTC:20250125T130000
DTEND;TZID=UTC:20250125T140000
DTSTAMP:20260420T092404
CREATED:20240611T003557Z
LAST-MODIFIED:20241127T204708Z
UID:10000914-1737810000-1737813600@tavistockon.ca
SUMMARY:Public Skating
DESCRIPTION:
URL:https://tavistockon.ca/events/public-skating/2025-01-25/
LOCATION:Tavistock Arena\, 1 Adam Street\, Tavistock\, Ontario\, N0B 2R0\, Canada
END:VEVENT
BEGIN:VEVENT
DTSTART;TZID=UTC:20250127T083000
DTEND;TZID=UTC:20250127T120000
DTSTAMP:20260420T092404
CREATED:20241021T140856Z
LAST-MODIFIED:20260413T164511Z
UID:10001328-1737966600-1737979200@tavistockon.ca
SUMMARY:Community Walk & Social - Mondays
DESCRIPTION:For more information\, contact Larry Brown at 519-240-6715
URL:https://tavistockon.ca/events/community-walk-social-mondays-2/2025-01-27/
LOCATION:Tavistock Memorial Hall\, 3 Adam Street\, Tavistock\, Ontario\, N0B 2R0\, Canada
CATEGORIES:Community Events
END:VEVENT
BEGIN:VEVENT
DTSTART;TZID=UTC:20250127T120000
DTEND;TZID=UTC:20250127T160000
DTSTAMP:20260420T092404
CREATED:20240624T231632Z
LAST-MODIFIED:20251016T153638Z
UID:10000958-1737979200-1737993600@tavistockon.ca
SUMMARY:Community Pickleball - Monday
DESCRIPTION:For more information\, contact Don Junker @ 519-535-7052
URL:https://tavistockon.ca/events/community-pickleball-monday/2025-01-27/
LOCATION:Tavistock Memorial Hall\, 3 Adam Street\, Tavistock\, Ontario\, N0B 2R0\, Canada
CATEGORIES:Community Events
END:VEVENT
END:VCALENDAR