BEGIN:VCALENDAR
VERSION:2.0
PRODID:-//Tavistock ON CA - ECPv6.15.18//NONSGML v1.0//EN
CALSCALE:GREGORIAN
METHOD:PUBLISH
X-ORIGINAL-URL:https://tavistockon.ca
X-WR-CALDESC:Events for Tavistock ON CA
REFRESH-INTERVAL;VALUE=DURATION:PT1H
X-Robots-Tag:noindex
X-PUBLISHED-TTL:PT1H
BEGIN:VTIMEZONE
TZID:America/Toronto
BEGIN:DAYLIGHT
TZOFFSETFROM:-0500
TZOFFSETTO:-0400
TZNAME:EDT
DTSTART:20240310T070000
END:DAYLIGHT
BEGIN:STANDARD
TZOFFSETFROM:-0400
TZOFFSETTO:-0500
TZNAME:EST
DTSTART:20241103T060000
END:STANDARD
BEGIN:DAYLIGHT
TZOFFSETFROM:-0500
TZOFFSETTO:-0400
TZNAME:EDT
DTSTART:20250309T070000
END:DAYLIGHT
BEGIN:STANDARD
TZOFFSETFROM:-0400
TZOFFSETTO:-0500
TZNAME:EST
DTSTART:20251102T060000
END:STANDARD
BEGIN:DAYLIGHT
TZOFFSETFROM:-0500
TZOFFSETTO:-0400
TZNAME:EDT
DTSTART:20260308T070000
END:DAYLIGHT
BEGIN:STANDARD
TZOFFSETFROM:-0400
TZOFFSETTO:-0500
TZNAME:EST
DTSTART:20261101T060000
END:STANDARD
END:VTIMEZONE
BEGIN:VTIMEZONE
TZID:UTC
BEGIN:STANDARD
TZOFFSETFROM:+0000
TZOFFSETTO:+0000
TZNAME:UTC
DTSTART:20240101T000000
END:STANDARD
END:VTIMEZONE
BEGIN:VEVENT
DTSTART;TZID=America/Toronto:20250315T100000
DTEND;TZID=America/Toronto:20250315T233000
DTSTAMP:20260421T192252
CREATED:20250311T204124Z
LAST-MODIFIED:20250311T204304Z
UID:10002063-1742032800-1742081400@tavistockon.ca
SUMMARY:Tavistock Board Game Event
DESCRIPTION:Join us for our next Board Game Event on Saturday\, March 15th from 10am-11:30pm at Tavistock Men’s Club Hall. Youth/teens 12 to 17 may attend if accompanied by an adult 18 & older. Entry Fee: Adult $10\, Youth/Teens $5. We have games available and you are welcome to bring your own games and snacks to share. Alcohol not permitted.
URL:https://tavistockon.ca/events/tavistock-board-game-event/
LOCATION:Tavistock Men’s Club Hall\, 78 Woodstock St. N\, Tavistock\, Ontario\, N0B 2R0\, Canada
CATEGORIES:Community Events
END:VEVENT
BEGIN:VEVENT
DTSTART;TZID=UTC:20250315T130000
DTEND;TZID=UTC:20250315T140000
DTSTAMP:20260421T192252
CREATED:20240611T003557Z
LAST-MODIFIED:20241127T204708Z
UID:10000921-1742043600-1742047200@tavistockon.ca
SUMMARY:Public Skating
DESCRIPTION:
URL:https://tavistockon.ca/events/public-skating/2025-03-15/
LOCATION:Tavistock Arena\, 1 Adam Street\, Tavistock\, Ontario\, N0B 2R0\, Canada
END:VEVENT
BEGIN:VEVENT
DTSTART;TZID=America/Toronto:20250315T130000
DTEND;TZID=America/Toronto:20250315T160000
DTSTAMP:20260421T192252
CREATED:20241021T133737Z
LAST-MODIFIED:20250310T145206Z
UID:10001173-1742043600-1742054400@tavistockon.ca
SUMMARY:Tavistock & District Historical Society Museum Opening
DESCRIPTION:
URL:https://tavistockon.ca/events/tavistock-district-historical-society-museum-opening/2025-03-15/
LOCATION:Tavistock & District Historical Society Museum\, 37 Maria Street\, Tavistock\, Ontario\, N0B 2R0\, Canada
CATEGORIES:Community Events
END:VEVENT
END:VCALENDAR