BEGIN:VCALENDAR
VERSION:2.0
PRODID:-//Tavistock ON CA - ECPv6.15.18//NONSGML v1.0//EN
CALSCALE:GREGORIAN
METHOD:PUBLISH
X-WR-CALNAME:Tavistock ON CA
X-ORIGINAL-URL:https://tavistockon.ca
X-WR-CALDESC:Events for Tavistock ON CA
REFRESH-INTERVAL;VALUE=DURATION:PT1H
X-Robots-Tag:noindex
X-PUBLISHED-TTL:PT1H
BEGIN:VTIMEZONE
TZID:UTC
BEGIN:STANDARD
TZOFFSETFROM:+0000
TZOFFSETTO:+0000
TZNAME:UTC
DTSTART:20240101T000000
END:STANDARD
END:VTIMEZONE
BEGIN:VEVENT
DTSTART;TZID=UTC:20250206T100000
DTEND;TZID=UTC:20250206T160000
DTSTAMP:20260421T174331
CREATED:20240624T234922Z
LAST-MODIFIED:20241031T204635Z
UID:10001151-1738836000-1738857600@tavistockon.ca
SUMMARY:Shuffleboard - Thursdays
DESCRIPTION:For more information\, contact Don Junker @ 519-535-7052
URL:https://tavistockon.ca/events/shuffleboard-thursdays/2025-02-06/
LOCATION:Ontario
CATEGORIES:Community Events
END:VEVENT
END:VCALENDAR