BEGIN:VCALENDAR
VERSION:2.0
PRODID:-//Tavistock ON CA - ECPv6.15.18//NONSGML v1.0//EN
CALSCALE:GREGORIAN
METHOD:PUBLISH
X-WR-CALNAME:Tavistock ON CA
X-ORIGINAL-URL:https://tavistockon.ca
X-WR-CALDESC:Events for Tavistock ON CA
REFRESH-INTERVAL;VALUE=DURATION:PT1H
X-Robots-Tag:noindex
X-PUBLISHED-TTL:PT1H
BEGIN:VTIMEZONE
TZID:UTC
BEGIN:STANDARD
TZOFFSETFROM:+0000
TZOFFSETTO:+0000
TZNAME:UTC
DTSTART:20240101T000000
END:STANDARD
END:VTIMEZONE
BEGIN:VTIMEZONE
TZID:America/Toronto
BEGIN:DAYLIGHT
TZOFFSETFROM:-0500
TZOFFSETTO:-0400
TZNAME:EDT
DTSTART:20240310T070000
END:DAYLIGHT
BEGIN:STANDARD
TZOFFSETFROM:-0400
TZOFFSETTO:-0500
TZNAME:EST
DTSTART:20241103T060000
END:STANDARD
BEGIN:DAYLIGHT
TZOFFSETFROM:-0500
TZOFFSETTO:-0400
TZNAME:EDT
DTSTART:20250309T070000
END:DAYLIGHT
BEGIN:STANDARD
TZOFFSETFROM:-0400
TZOFFSETTO:-0500
TZNAME:EST
DTSTART:20251102T060000
END:STANDARD
BEGIN:DAYLIGHT
TZOFFSETFROM:-0500
TZOFFSETTO:-0400
TZNAME:EDT
DTSTART:20260308T070000
END:DAYLIGHT
BEGIN:STANDARD
TZOFFSETFROM:-0400
TZOFFSETTO:-0500
TZNAME:EST
DTSTART:20261101T060000
END:STANDARD
END:VTIMEZONE
BEGIN:VEVENT
DTSTART;TZID=UTC:20250127T083000
DTEND;TZID=UTC:20250127T120000
DTSTAMP:20260421T161002
CREATED:20241021T140856Z
LAST-MODIFIED:20260413T164511Z
UID:10001328-1737966600-1737979200@tavistockon.ca
SUMMARY:Community Walk & Social - Mondays
DESCRIPTION:For more information\, contact Larry Brown at 519-240-6715
URL:https://tavistockon.ca/events/community-walk-social-mondays-2/2025-01-27/
LOCATION:Tavistock Memorial Hall\, 3 Adam Street\, Tavistock\, Ontario\, N0B 2R0\, Canada
CATEGORIES:Community Events
END:VEVENT
BEGIN:VEVENT
DTSTART;TZID=UTC:20250127T120000
DTEND;TZID=UTC:20250127T160000
DTSTAMP:20260421T161002
CREATED:20240624T231632Z
LAST-MODIFIED:20251016T153638Z
UID:10000958-1737979200-1737993600@tavistockon.ca
SUMMARY:Community Pickleball - Monday
DESCRIPTION:For more information\, contact Don Junker @ 519-535-7052
URL:https://tavistockon.ca/events/community-pickleball-monday/2025-01-27/
LOCATION:Tavistock Memorial Hall\, 3 Adam Street\, Tavistock\, Ontario\, N0B 2R0\, Canada
CATEGORIES:Community Events
END:VEVENT
BEGIN:VEVENT
DTSTART;TZID=America/Toronto:20250127T200000
DTEND;TZID=America/Toronto:20250127T210000
DTSTAMP:20260421T161002
CREATED:20250115T151019Z
LAST-MODIFIED:20250115T151019Z
UID:10001642-1738008000-1738011600@tavistockon.ca
SUMMARY:Tavistock Agricultural Society's AGM
DESCRIPTION:Welcoming all existing and new members. This is a great place to help make our Fall Fair a success.
URL:https://tavistockon.ca/events/tavistock-agricultural-societys-agm/
LOCATION:Tavistock Arena Hall\, 1 Adam Street\, Tavistock\, Ontario\, N0B 2R0\, Canada
CATEGORIES:Tavistock Ag Society
END:VEVENT
END:VCALENDAR