BEGIN:VCALENDAR
VERSION:2.0
PRODID:-//Tavistock ON CA - ECPv6.15.18//NONSGML v1.0//EN
CALSCALE:GREGORIAN
METHOD:PUBLISH
X-WR-CALNAME:Tavistock ON CA
X-ORIGINAL-URL:https://tavistockon.ca
X-WR-CALDESC:Events for Tavistock ON CA
REFRESH-INTERVAL;VALUE=DURATION:PT1H
X-Robots-Tag:noindex
X-PUBLISHED-TTL:PT1H
BEGIN:VTIMEZONE
TZID:America/Toronto
BEGIN:DAYLIGHT
TZOFFSETFROM:-0500
TZOFFSETTO:-0400
TZNAME:EDT
DTSTART:20240310T070000
END:DAYLIGHT
BEGIN:STANDARD
TZOFFSETFROM:-0400
TZOFFSETTO:-0500
TZNAME:EST
DTSTART:20241103T060000
END:STANDARD
BEGIN:DAYLIGHT
TZOFFSETFROM:-0500
TZOFFSETTO:-0400
TZNAME:EDT
DTSTART:20250309T070000
END:DAYLIGHT
BEGIN:STANDARD
TZOFFSETFROM:-0400
TZOFFSETTO:-0500
TZNAME:EST
DTSTART:20251102T060000
END:STANDARD
BEGIN:DAYLIGHT
TZOFFSETFROM:-0500
TZOFFSETTO:-0400
TZNAME:EDT
DTSTART:20260308T070000
END:DAYLIGHT
BEGIN:STANDARD
TZOFFSETFROM:-0400
TZOFFSETTO:-0500
TZNAME:EST
DTSTART:20261101T060000
END:STANDARD
END:VTIMEZONE
BEGIN:VTIMEZONE
TZID:UTC
BEGIN:STANDARD
TZOFFSETFROM:+0000
TZOFFSETTO:+0000
TZNAME:UTC
DTSTART:20240101T000000
END:STANDARD
END:VTIMEZONE
BEGIN:VEVENT
DTSTART;TZID=America/Toronto:20250115T000000
DTEND;TZID=America/Toronto:20250115T233000
DTSTAMP:20260421T161002
CREATED:20250115T153624Z
LAST-MODIFIED:20250605T131340Z
UID:10001644-1736899200-1736983800@tavistockon.ca
SUMMARY:Tavistock Minor Ball Registration
DESCRIPTION:Online Ball Registration is available Jan. 15th – Feb. 28th
URL:https://tavistockon.ca/events/tavistock-minor-ball-registration/2025-01-15/1/
LOCATION:Ontario
CATEGORIES:Community Events
END:VEVENT
BEGIN:VEVENT
DTSTART;TZID=America/Toronto:20250115T080000
DTEND;TZID=America/Toronto:20250115T170000
DTSTAMP:20260421T161002
CREATED:20250115T153624Z
LAST-MODIFIED:20250605T131340Z
UID:10002079-1736928000-1736960400@tavistockon.ca
SUMMARY:Tavistock Minor Ball Registration
DESCRIPTION:Online Ball Registration is available Jan. 15th – Feb. 28th
URL:https://tavistockon.ca/events/tavistock-minor-ball-registration/2025-01-15/2/
LOCATION:Ontario
CATEGORIES:Community Events
END:VEVENT
BEGIN:VEVENT
DTSTART;TZID=UTC:20250115T083000
DTEND;TZID=UTC:20250115T120000
DTSTAMP:20260421T161002
CREATED:20241021T142803Z
LAST-MODIFIED:20260413T164629Z
UID:10001491-1736929800-1736942400@tavistockon.ca
SUMMARY:Community Walk & Social - Wednesdays
DESCRIPTION:For more information\, contact Larry Brown at 519-240-6715
URL:https://tavistockon.ca/events/community-walk-social-wednesdays/2025-01-15/
LOCATION:Tavistock Memorial Hall\, 3 Adam Street\, Tavistock\, Ontario\, N0B 2R0\, Canada
CATEGORIES:Community Events
END:VEVENT
BEGIN:VEVENT
DTSTART;TZID=UTC:20250115T120000
DTEND;TZID=UTC:20250115T160000
DTSTAMP:20260421T161002
CREATED:20240624T231744Z
LAST-MODIFIED:20251016T153659Z
UID:10001005-1736942400-1736956800@tavistockon.ca
SUMMARY:Community Pickleball - Wednesday
DESCRIPTION:For more information\, contact Don Junker @ 519-535-7052
URL:https://tavistockon.ca/events/community-pickleball-wednesday/2025-01-15/
LOCATION:Tavistock Memorial Hall\, 3 Adam Street\, Tavistock\, Ontario\, N0B 2R0\, Canada
CATEGORIES:Community Events
END:VEVENT
BEGIN:VEVENT
DTSTART;TZID=UTC:20250115T120000
DTEND;TZID=UTC:20250115T163000
DTSTAMP:20260421T161002
CREATED:20240624T234626Z
LAST-MODIFIED:20241031T204655Z
UID:10001122-1736942400-1736958600@tavistockon.ca
SUMMARY:Shuffleboard - Wednesdays
DESCRIPTION:For more information\, contact Don Junker @ 519-535-7052
URL:https://tavistockon.ca/events/shuffleboard-wednesdays/2025-01-15/
LOCATION:Tavistock Arena Hall\, 1 Adam Street\, Tavistock\, Ontario\, N0B 2R0\, Canada
CATEGORIES:Community Events
END:VEVENT
END:VCALENDAR