BEGIN:VCALENDAR
VERSION:2.0
PRODID:-//Tavistock ON CA - ECPv6.15.18//NONSGML v1.0//EN
CALSCALE:GREGORIAN
METHOD:PUBLISH
X-WR-CALNAME:Tavistock ON CA
X-ORIGINAL-URL:https://tavistockon.ca
X-WR-CALDESC:Events for Tavistock ON CA
REFRESH-INTERVAL;VALUE=DURATION:PT1H
X-Robots-Tag:noindex
X-PUBLISHED-TTL:PT1H
BEGIN:VTIMEZONE
TZID:America/Toronto
BEGIN:DAYLIGHT
TZOFFSETFROM:-0500
TZOFFSETTO:-0400
TZNAME:EDT
DTSTART:20230312T070000
END:DAYLIGHT
BEGIN:STANDARD
TZOFFSETFROM:-0400
TZOFFSETTO:-0500
TZNAME:EST
DTSTART:20231105T060000
END:STANDARD
BEGIN:DAYLIGHT
TZOFFSETFROM:-0500
TZOFFSETTO:-0400
TZNAME:EDT
DTSTART:20240310T070000
END:DAYLIGHT
BEGIN:STANDARD
TZOFFSETFROM:-0400
TZOFFSETTO:-0500
TZNAME:EST
DTSTART:20241103T060000
END:STANDARD
BEGIN:DAYLIGHT
TZOFFSETFROM:-0500
TZOFFSETTO:-0400
TZNAME:EDT
DTSTART:20250309T070000
END:DAYLIGHT
BEGIN:STANDARD
TZOFFSETFROM:-0400
TZOFFSETTO:-0500
TZNAME:EST
DTSTART:20251102T060000
END:STANDARD
END:VTIMEZONE
BEGIN:VEVENT
DTSTART;TZID=America/Toronto:20241130T130000
DTEND;TZID=America/Toronto:20241130T140000
DTSTAMP:20260421T125429
CREATED:20241023T205401Z
LAST-MODIFIED:20241127T204851Z
UID:10001630-1732971600-1732975200@tavistockon.ca
SUMMARY:Santa Claus Parade
DESCRIPTION:Tavistock Men’s Club \nSanta Claus Parade \nMeet Santa at the Pavilion Queen’s Park for milk\, cheese & candy. \nTheme: Favourite Winter Activity \nFloat Registry: Family\, Organizations\, Commercial – Judging takes place @ 12:30 PM \nEmail: info@tavistockmensclub.ca or call 519-655-3573 for entry and details. \nMonetary donations collected for TAP along parade route.
URL:https://tavistockon.ca/events/santa-clause-parade/
LOCATION:Ontario
CATEGORIES:Community Events
ATTACH;FMTTYPE=image/jpeg:https://tavistockon.ca/wp-content/uploads/2024/10/TMC-Santa-parade-route-202480-scaled.jpg
ORGANIZER;CN="Tavistock Men's Club":MAILTO:info@tavistockmensclub.ca
END:VEVENT
BEGIN:VEVENT
DTSTART;TZID=America/Toronto:20241130T193000
DTEND;TZID=America/Toronto:20241130T210000
DTSTAMP:20260421T125429
CREATED:20241113T183543Z
LAST-MODIFIED:20241113T183543Z
UID:10001638-1732995000-1733000400@tavistockon.ca
SUMMARY:Chuck a Puck - Tavistock Royals
DESCRIPTION:
URL:https://tavistockon.ca/events/chuck-a-puck-tavistock-royals/
LOCATION:Tavistock Arena\, 1 Adam Street\, Tavistock\, Ontario\, N0B 2R0\, Canada
CATEGORIES:Optimist Club of Tavistock
END:VEVENT
END:VCALENDAR