BEGIN:VCALENDAR
VERSION:2.0
PRODID:-//Tavistock ON CA - ECPv6.15.18//NONSGML v1.0//EN
CALSCALE:GREGORIAN
METHOD:PUBLISH
X-ORIGINAL-URL:https://tavistockon.ca
X-WR-CALDESC:Events for Tavistock ON CA
REFRESH-INTERVAL;VALUE=DURATION:PT1H
X-Robots-Tag:noindex
X-PUBLISHED-TTL:PT1H
BEGIN:VTIMEZONE
TZID:UTC
BEGIN:STANDARD
TZOFFSETFROM:+0000
TZOFFSETTO:+0000
TZNAME:UTC
DTSTART:20230101T000000
END:STANDARD
END:VTIMEZONE
BEGIN:VEVENT
DTSTART;TZID=UTC:20241103T120000
DTEND;TZID=UTC:20241103T150000
DTSTAMP:20260421T123138
CREATED:20240718T004717Z
LAST-MODIFIED:20240718T004717Z
UID:10001160-1730635200-1730646000@tavistockon.ca
SUMMARY:Opti-Mrs Ladies Brunch
DESCRIPTION:
URL:https://tavistockon.ca/events/opti-mrs-ladies-brunch/
LOCATION:Ontario
CATEGORIES:Tavistock Opti-Mrs
ORGANIZER;CN="Tavistock Opti-Mrs":MAILTO:tavistockoptimrs@gmail.com
END:VEVENT
END:VCALENDAR