BEGIN:VCALENDAR
VERSION:2.0
PRODID:-//Tavistock ON CA - ECPv6.15.18//NONSGML v1.0//EN
CALSCALE:GREGORIAN
METHOD:PUBLISH
X-ORIGINAL-URL:https://tavistockon.ca
X-WR-CALDESC:Events for Tavistock ON CA
REFRESH-INTERVAL;VALUE=DURATION:PT1H
X-Robots-Tag:noindex
X-PUBLISHED-TTL:PT1H
BEGIN:VTIMEZONE
TZID:America/Toronto
BEGIN:DAYLIGHT
TZOFFSETFROM:-0500
TZOFFSETTO:-0400
TZNAME:EDT
DTSTART:20230312T070000
END:DAYLIGHT
BEGIN:STANDARD
TZOFFSETFROM:-0400
TZOFFSETTO:-0500
TZNAME:EST
DTSTART:20231105T060000
END:STANDARD
BEGIN:DAYLIGHT
TZOFFSETFROM:-0500
TZOFFSETTO:-0400
TZNAME:EDT
DTSTART:20240310T070000
END:DAYLIGHT
BEGIN:STANDARD
TZOFFSETFROM:-0400
TZOFFSETTO:-0500
TZNAME:EST
DTSTART:20241103T060000
END:STANDARD
BEGIN:DAYLIGHT
TZOFFSETFROM:-0500
TZOFFSETTO:-0400
TZNAME:EDT
DTSTART:20250309T070000
END:DAYLIGHT
BEGIN:STANDARD
TZOFFSETFROM:-0400
TZOFFSETTO:-0500
TZNAME:EST
DTSTART:20251102T060000
END:STANDARD
END:VTIMEZONE
BEGIN:VTIMEZONE
TZID:UTC
BEGIN:STANDARD
TZOFFSETFROM:+0000
TZOFFSETTO:+0000
TZNAME:UTC
DTSTART:20230101T000000
END:STANDARD
END:VTIMEZONE
BEGIN:VEVENT
DTSTART;TZID=America/Toronto:20241026T110000
DTEND;TZID=America/Toronto:20241026T140000
DTSTAMP:20260421T104937
CREATED:20241021T164859Z
LAST-MODIFIED:20241030T134957Z
UID:10001621-1729940400-1729951200@tavistockon.ca
SUMMARY:Tavistock Men's Club Sauerkraut & BBQ Pork Chop Supper - TICKET SALES
DESCRIPTION:Tickets available at Men’s Club Hall. \n78 Woodstock St. N. \nEvery Wednesday 4 – 7 PM & Saturday 11 – 2. \nStarting Oct 9th to Nov 9th. \nOr from Club Members. \nOr call 519-655-2286 or 519-655-3573. \nOr at the Tavistock Arena Booth. \nEvent Details
URL:https://tavistockon.ca/events/tavistock-mens-club-sauerkraut-bbq-pork-chop-supper-ticket-sales/2024-10-26/
LOCATION:Ontario
CATEGORIES:Community Events
ATTACH;FMTTYPE=image/png:https://tavistockon.ca/wp-content/uploads/2024/10/Mens-Club-Logo-1.png
ORGANIZER;CN="Tavistock Men's Club":MAILTO:info@tavistockmensclub.ca
END:VEVENT
BEGIN:VEVENT
DTSTART;TZID=UTC:20241026T130000
DTEND;TZID=UTC:20241026T140000
DTSTAMP:20260421T104937
CREATED:20240611T003557Z
LAST-MODIFIED:20241127T204708Z
UID:10000901-1729947600-1729951200@tavistockon.ca
SUMMARY:Public Skating
DESCRIPTION:
URL:https://tavistockon.ca/events/public-skating/2024-10-26/
LOCATION:Tavistock Arena\, 1 Adam Street\, Tavistock\, Ontario\, N0B 2R0\, Canada
END:VEVENT
BEGIN:VEVENT
DTSTART;TZID=America/Toronto:20241026T140000
DTEND;TZID=America/Toronto:20241026T160000
DTSTAMP:20260421T104937
CREATED:20241015T194002Z
LAST-MODIFIED:20241021T171532Z
UID:10001168-1729951200-1729958400@tavistockon.ca
SUMMARY:Family Halloween Dance
DESCRIPTION:$20 per family\nIncludes treat bag (1 per child)\nSnacks & Soft drinks for purchase (cash only)\nMusic\, games & fun! \nCostumes encouraged (appropriate please)\nAll funds raised go towards the playground fund
URL:https://tavistockon.ca/events/family-halloween-dance/
LOCATION:Tavistock Memorial Hall\, 3 Adam Street\, Tavistock\, Ontario\, N0B 2R0\, Canada
CATEGORIES:Community Events
ATTACH;FMTTYPE=image/png:https://tavistockon.ca/wp-content/uploads/2024/10/Screenshot-2024-10-15-at-3.43.10 PM.png
END:VEVENT
END:VCALENDAR