BEGIN:VCALENDAR
VERSION:2.0
PRODID:-//Tavistock ON CA - ECPv6.15.18//NONSGML v1.0//EN
CALSCALE:GREGORIAN
METHOD:PUBLISH
X-ORIGINAL-URL:https://tavistockon.ca
X-WR-CALDESC:Events for Tavistock ON CA
REFRESH-INTERVAL;VALUE=DURATION:PT1H
X-Robots-Tag:noindex
X-PUBLISHED-TTL:PT1H
BEGIN:VTIMEZONE
TZID:UTC
BEGIN:STANDARD
TZOFFSETFROM:+0000
TZOFFSETTO:+0000
TZNAME:UTC
DTSTART:20230101T000000
END:STANDARD
END:VTIMEZONE
BEGIN:VEVENT
DTSTART;TZID=UTC:20240825T183000
DTEND;TZID=UTC:20240825T200000
DTSTAMP:20260421T075621
CREATED:20240624T233610Z
LAST-MODIFIED:20240624T233610Z
UID:10001078-1724610600-1724616000@tavistockon.ca
SUMMARY:TMH - Free Equipment Swap
DESCRIPTION:
URL:https://tavistockon.ca/events/tmh-free-equipment-swap/2024-08-25/
LOCATION:Tavistock Men’s Club Garage\, 78 Woodstock St. N.\, Tavistock\, Ontario\, N0B 2R0\, Canada
CATEGORIES:Community Events
END:VEVENT
END:VCALENDAR