BEGIN:VCALENDAR
VERSION:2.0
PRODID:-//Tavistock ON CA - ECPv6.15.18//NONSGML v1.0//EN
CALSCALE:GREGORIAN
METHOD:PUBLISH
X-ORIGINAL-URL:https://tavistockon.ca
X-WR-CALDESC:Events for Tavistock ON CA
REFRESH-INTERVAL;VALUE=DURATION:PT1H
X-Robots-Tag:noindex
X-PUBLISHED-TTL:PT1H
BEGIN:VTIMEZONE
TZID:UTC
BEGIN:STANDARD
TZOFFSETFROM:+0000
TZOFFSETTO:+0000
TZNAME:UTC
DTSTART:20230101T000000
END:STANDARD
END:VTIMEZONE
BEGIN:VEVENT
DTSTART;TZID=UTC:20240812T120000
DTEND;TZID=UTC:20240812T160000
DTSTAMP:20260421T075620
CREATED:20240624T231632Z
LAST-MODIFIED:20251016T153638Z
UID:10000934-1723464000-1723478400@tavistockon.ca
SUMMARY:Community Pickleball - Monday
DESCRIPTION:For more information\, contact Don Junker @ 519-535-7052
URL:https://tavistockon.ca/events/community-pickleball-monday/2024-08-12/
LOCATION:Tavistock Memorial Hall\, 3 Adam Street\, Tavistock\, Ontario\, N0B 2R0\, Canada
CATEGORIES:Community Events
END:VEVENT
BEGIN:VEVENT
DTSTART;TZID=UTC:20240812T160000
DTEND;TZID=UTC:20240812T203000
DTSTAMP:20260421T075620
CREATED:20240610T231603Z
LAST-MODIFIED:20240610T231603Z
UID:10000053-1723478400-1723494600@tavistockon.ca
SUMMARY:Food Truck Monday
DESCRIPTION:Fo’ Cheezy\nMoreish Ice Cream\nIsh n Chips \n10% of net sales returned to our community
URL:https://tavistockon.ca/events/food-truck-monday-10/
LOCATION:Grace United Church Parking Lot\, 116 Woodstock Street South\, Tavistock\, Ontario\, N0B 2R0\, Canada
END:VEVENT
END:VCALENDAR