BEGIN:VCALENDAR
VERSION:2.0
PRODID:-//Tavistock ON CA - ECPv6.15.18//NONSGML v1.0//EN
CALSCALE:GREGORIAN
METHOD:PUBLISH
X-WR-CALNAME:Tavistock ON CA
X-ORIGINAL-URL:https://tavistockon.ca
X-WR-CALDESC:Events for Tavistock ON CA
REFRESH-INTERVAL;VALUE=DURATION:PT1H
X-Robots-Tag:noindex
X-PUBLISHED-TTL:PT1H
BEGIN:VTIMEZONE
TZID:UTC
BEGIN:STANDARD
TZOFFSETFROM:+0000
TZOFFSETTO:+0000
TZNAME:UTC
DTSTART:20230101T000000
END:STANDARD
END:VTIMEZONE
BEGIN:VTIMEZONE
TZID:America/Toronto
BEGIN:DAYLIGHT
TZOFFSETFROM:-0500
TZOFFSETTO:-0400
TZNAME:EDT
DTSTART:20230312T070000
END:DAYLIGHT
BEGIN:STANDARD
TZOFFSETFROM:-0400
TZOFFSETTO:-0500
TZNAME:EST
DTSTART:20231105T060000
END:STANDARD
BEGIN:DAYLIGHT
TZOFFSETFROM:-0500
TZOFFSETTO:-0400
TZNAME:EDT
DTSTART:20240310T070000
END:DAYLIGHT
BEGIN:STANDARD
TZOFFSETFROM:-0400
TZOFFSETTO:-0500
TZNAME:EST
DTSTART:20241103T060000
END:STANDARD
BEGIN:DAYLIGHT
TZOFFSETFROM:-0500
TZOFFSETTO:-0400
TZNAME:EDT
DTSTART:20250309T070000
END:DAYLIGHT
BEGIN:STANDARD
TZOFFSETFROM:-0400
TZOFFSETTO:-0500
TZNAME:EST
DTSTART:20251102T060000
END:STANDARD
END:VTIMEZONE
BEGIN:VEVENT
DTSTART;TZID=UTC:20240729T120000
DTEND;TZID=UTC:20240729T160000
DTSTAMP:20260421T055654
CREATED:20240624T231632Z
LAST-MODIFIED:20251016T153638Z
UID:10000932-1722254400-1722268800@tavistockon.ca
SUMMARY:Community Pickleball - Monday
DESCRIPTION:For more information\, contact Don Junker @ 519-535-7052
URL:https://tavistockon.ca/events/community-pickleball-monday/2024-07-29/
LOCATION:Tavistock Memorial Hall\, 3 Adam Street\, Tavistock\, Ontario\, N0B 2R0\, Canada
CATEGORIES:Community Events
END:VEVENT
BEGIN:VEVENT
DTSTART;TZID=America/Toronto:20240729T160000
DTEND;TZID=America/Toronto:20240729T203000
DTSTAMP:20260421T055654
CREATED:20240610T231345Z
LAST-MODIFIED:20240729T211142Z
UID:10000051-1722268800-1722285000@tavistockon.ca
SUMMARY:Food Truck Monday
DESCRIPTION:Crystals Fries\nSWAT\nThe Food Truck Conestoga\nHissing Goose\nProceeds from this event are going to the Tavistock Ag Society\, supporting our Fall Fair.
URL:https://tavistockon.ca/events/food-truck-monday-8/
LOCATION:Grace United Church Parking Lot\, 116 Woodstock Street South\, Tavistock\, Ontario\, N0B 2R0\, Canada
CATEGORIES:Tavistock Ag Society
ATTACH;FMTTYPE=image/png:https://tavistockon.ca/wp-content/uploads/2024/07/Tavistock-Ag-Society-Logo.png
END:VEVENT
END:VCALENDAR