BEGIN:VCALENDAR
VERSION:2.0
PRODID:-//Tavistock ON CA - ECPv6.15.18//NONSGML v1.0//EN
CALSCALE:GREGORIAN
METHOD:PUBLISH
X-ORIGINAL-URL:https://tavistockon.ca
X-WR-CALDESC:Events for Tavistock ON CA
REFRESH-INTERVAL;VALUE=DURATION:PT1H
X-Robots-Tag:noindex
X-PUBLISHED-TTL:PT1H
BEGIN:VTIMEZONE
TZID:UTC
BEGIN:STANDARD
TZOFFSETFROM:+0000
TZOFFSETTO:+0000
TZNAME:UTC
DTSTART:20230101T000000
END:STANDARD
END:VTIMEZONE
BEGIN:VEVENT
DTSTART;TZID=UTC:20240720T090000
DTEND;TZID=UTC:20240720T140000
DTSTAMP:20260421T062214
CREATED:20240718T191332Z
LAST-MODIFIED:20240718T192156Z
UID:10001164-1721466000-1721484000@tavistockon.ca
SUMMARY:2024 U15 Tavistock A's Canadian Fast Pitch Championship BBQ Fundraiser
DESCRIPTION:All proceeds support the U15 Tavistock A’s trip to the Canadian Fast Pitch Champions. \nServing: \nBurgers\nJumbo hot dogs\nPeameal bacon on a bun\nSmoked brisket on a bun\nDrinks\nChips
URL:https://tavistockon.ca/events/2024-u15-tavistock-as-canadian-fast-pitch-championship-bbq-fundraiser/
LOCATION:Optimist Park Pavillion\, 250 Woodstock Street S\, Tavistock\, Ontario\, N0B 2R0\, Canada
END:VEVENT
END:VCALENDAR